BEGIN:VCALENDAR
VERSION:2.0
PRODID:-//The Pines Times - ECPv6.15.20//NONSGML v1.0//EN
CALSCALE:GREGORIAN
METHOD:PUBLISH
X-ORIGINAL-URL:https://thepinestimes.com
X-WR-CALDESC:Events for The Pines Times
REFRESH-INTERVAL;VALUE=DURATION:PT1H
X-Robots-Tag:noindex
X-PUBLISHED-TTL:PT1H
BEGIN:VTIMEZONE
TZID:America/New_York
BEGIN:DAYLIGHT
TZOFFSETFROM:-0500
TZOFFSETTO:-0400
TZNAME:EDT
DTSTART:20240310T070000
END:DAYLIGHT
BEGIN:STANDARD
TZOFFSETFROM:-0400
TZOFFSETTO:-0500
TZNAME:EST
DTSTART:20241103T060000
END:STANDARD
BEGIN:DAYLIGHT
TZOFFSETFROM:-0500
TZOFFSETTO:-0400
TZNAME:EDT
DTSTART:20250309T070000
END:DAYLIGHT
BEGIN:STANDARD
TZOFFSETFROM:-0400
TZOFFSETTO:-0500
TZNAME:EST
DTSTART:20251102T060000
END:STANDARD
BEGIN:DAYLIGHT
TZOFFSETFROM:-0500
TZOFFSETTO:-0400
TZNAME:EDT
DTSTART:20260308T070000
END:DAYLIGHT
BEGIN:STANDARD
TZOFFSETFROM:-0400
TZOFFSETTO:-0500
TZNAME:EST
DTSTART:20261101T060000
END:STANDARD
END:VTIMEZONE
BEGIN:VEVENT
DTSTART;TZID=America/New_York:20251125T160000
DTEND;TZID=America/New_York:20251125T180000
DTSTAMP:20260421T015242
CREATED:20251125T172009Z
LAST-MODIFIED:20251125T172145Z
UID:10076427-1764086400-1764093600@thepinestimes.com
SUMMARY:Wine Sampling at the Butcher Shop
DESCRIPTION:Join at the New York Butcher Shop on Tuesday\, November 25th | 4pm-6pm for a wine tasting event! Dan\, owner of Somm Time will be popping some bottles\, pouring samples and chatting about what wine will go with Thanksgiving dinner based on your preferences.
URL:https://thepinestimes.com/event/wine-sampling-at-the-butcher-shop/
LOCATION:The New York Butcher Shoppe Southern Pines\, 1010 Old US Highway 1\, Southern Pines\, 28387\, United States
CATEGORIES:Adults,Beer and Wine,Hobby/Enthusiast,Holiday Events,Southern Pines Events,Tasting,Thanksgiving
ATTACH;FMTTYPE=image/jpeg:https://thepinestimes.com/wp-content/uploads/NewYorkButcherShoppeFeature.jpg
ORGANIZER;CN="The New York Butcher Shoppe Southern Pines":MAILTO:southernpines@nybutcher.net
END:VEVENT
BEGIN:VEVENT
DTSTART;TZID=America/New_York:20250811T093000
DTEND;TZID=America/New_York:20250811T093000
DTSTAMP:20260421T015242
CREATED:20240625T135423Z
LAST-MODIFIED:20250728T134352Z
UID:10038903-1754904600-1754904600@thepinestimes.com
SUMMARY:Ribbon Cutting-The New York Butcher Shoppe Southern Pines
DESCRIPTION:The community is invited as the Moore County Chamber of Commerce celebrates with a Ribbon Cutting Ceremony in honor of The New York Butcher Shoppe in Southern Pines on Monday\, August 11th at 9:30am! From prime steaks to chef-prepared meals\, this shop is raising the bar for quality and flavor. \n  \n  \n  \n  \n  \n  \n  \n 
URL:https://thepinestimes.com/event/ribbon-cutting-the-new-york-butcher-shoppe-southern-pines/
LOCATION:The New York Butcher Shoppe Southern Pines\, 1010 Old US Highway 1\, Southern Pines\, 28387\, United States
CATEGORIES:Adults,Business/Networking,Ceremony,Food,Ribbon Cutting,Social,Southern Pines Events
ATTACH;FMTTYPE=image/jpeg:https://thepinestimes.com/wp-content/uploads/NewYorkButcherShoppeFeature.jpg
END:VEVENT
END:VCALENDAR