BEGIN:VCALENDAR
VERSION:2.0
PRODID:-//The Pines Times - ECPv6.15.20//NONSGML v1.0//EN
CALSCALE:GREGORIAN
METHOD:PUBLISH
X-WR-CALNAME:The Pines Times
X-ORIGINAL-URL:https://thepinestimes.com
X-WR-CALDESC:Events for The Pines Times
REFRESH-INTERVAL;VALUE=DURATION:PT1H
X-Robots-Tag:noindex
X-PUBLISHED-TTL:PT1H
BEGIN:VTIMEZONE
TZID:America/New_York
BEGIN:DAYLIGHT
TZOFFSETFROM:-0500
TZOFFSETTO:-0400
TZNAME:EDT
DTSTART:20250309T070000
END:DAYLIGHT
BEGIN:STANDARD
TZOFFSETFROM:-0400
TZOFFSETTO:-0500
TZNAME:EST
DTSTART:20251102T060000
END:STANDARD
BEGIN:DAYLIGHT
TZOFFSETFROM:-0500
TZOFFSETTO:-0400
TZNAME:EDT
DTSTART:20260308T070000
END:DAYLIGHT
BEGIN:STANDARD
TZOFFSETFROM:-0400
TZOFFSETTO:-0500
TZNAME:EST
DTSTART:20261101T060000
END:STANDARD
BEGIN:DAYLIGHT
TZOFFSETFROM:-0500
TZOFFSETTO:-0400
TZNAME:EDT
DTSTART:20270314T070000
END:DAYLIGHT
BEGIN:STANDARD
TZOFFSETFROM:-0400
TZOFFSETTO:-0500
TZNAME:EST
DTSTART:20271107T060000
END:STANDARD
END:VTIMEZONE
BEGIN:VEVENT
DTSTART;TZID=America/New_York:20260209T150000
DTEND;TZID=America/New_York:20260209T180000
DTSTAMP:20260422T164721
CREATED:20260123T152618Z
LAST-MODIFIED:20260123T152618Z
UID:10079994-1770649200-1770660000@thepinestimes.com
SUMMARY:"2055 Metropolitan Transportation Plan (MTP)" Public Open House
DESCRIPTION:“Due to inclement weather\, the Sandhills MPO Metropolitan Transportation Plan (MTP) Public Workshop originally scheduled for Monday has been rescheduled to Monday\, February 9.” \nHelp Shape the Future of Transportation in Moore County!  The Sandhills Metropolitan Planning Organization has kicked off work on the 2055 Metropolitan Transportation Plan (MTP)—a long-range plan focused on making it safer and easier to move around our region\, now and into the future. This plan will guide local\, state\, and federal transportation investments across Pinehurst\, Southern Pines\, Aberdeen\, Whispering Pines\, Pinebluff\, Taylortown\, Foxfire\, and unincorporated areas of Moore County—and public input is a critical part of the process. \nStop by the Assembly Hall in Pinehurst for a Public Open House to learn about the MTP process and to share any areas of concern or need regarding transportation within the region. Drop in any time between 3:00pm and 6:00pm to participate. \nGet involved today:\n– Share ideas on an interactive online map\n– Take a short survey\n– Post and react to ideas on the digital ideas wall\n– Visit http://www.sandhills2055mtp.com to join the conversation. \nYour voice helps shape transportation priorities—and projects must be included in this plan to be eligible for future federal funding. Follow the event link below for details.
URL:https://thepinestimes.com/event/2055-metropolitan-transportation-plan-mtp-public-open-house-2/
LOCATION:Pinehurst Assembly Hall\, 295 Magnolia Road\, Pinehurst\, NC\, 28374\, United States
CATEGORIES:Adults,Educational,Family,Hobby/Enthusiast,Meeting,Moore County Events,Open House,Senior,Social,Volunteer,Young Adults
ATTACH;FMTTYPE=image/jpeg:https://thepinestimes.com/wp-content/uploads/SandhillsMetropolitanPlanningOrgFeature.jpg
ORGANIZER;CN="The Sandhills Metropolitan Planning Organization (MPO)":MAILTO:smpo@vopnc.org
END:VEVENT
END:VCALENDAR