BEGIN:VCALENDAR
VERSION:2.0
PRODID:-//The Pines Times - ECPv6.15.20//NONSGML v1.0//EN
CALSCALE:GREGORIAN
METHOD:PUBLISH
X-WR-CALNAME:The Pines Times
X-ORIGINAL-URL:https://thepinestimes.com
X-WR-CALDESC:Events for The Pines Times
REFRESH-INTERVAL;VALUE=DURATION:PT1H
X-Robots-Tag:noindex
X-PUBLISHED-TTL:PT1H
BEGIN:VTIMEZONE
TZID:America/New_York
BEGIN:DAYLIGHT
TZOFFSETFROM:-0500
TZOFFSETTO:-0400
TZNAME:EDT
DTSTART:20250309T070000
END:DAYLIGHT
BEGIN:STANDARD
TZOFFSETFROM:-0400
TZOFFSETTO:-0500
TZNAME:EST
DTSTART:20251102T060000
END:STANDARD
BEGIN:DAYLIGHT
TZOFFSETFROM:-0500
TZOFFSETTO:-0400
TZNAME:EDT
DTSTART:20260308T070000
END:DAYLIGHT
BEGIN:STANDARD
TZOFFSETFROM:-0400
TZOFFSETTO:-0500
TZNAME:EST
DTSTART:20261101T060000
END:STANDARD
BEGIN:DAYLIGHT
TZOFFSETFROM:-0500
TZOFFSETTO:-0400
TZNAME:EDT
DTSTART:20270314T070000
END:DAYLIGHT
BEGIN:STANDARD
TZOFFSETFROM:-0400
TZOFFSETTO:-0500
TZNAME:EST
DTSTART:20271107T060000
END:STANDARD
END:VTIMEZONE
BEGIN:VEVENT
DTSTART;TZID=America/New_York:20260425T173000
DTEND;TZID=America/New_York:20260425T213000
DTSTAMP:20260423T044731
CREATED:20260422T135456Z
LAST-MODIFIED:20260422T135456Z
UID:10087084-1777138200-1777152600@thepinestimes.com
SUMMARY:The Walthour-Moss Foundation: Horse Country Hoedown 2026
DESCRIPTION:Join for the 2026 Horse Country Hoedown in support of the Walthour-Moss Foundation! Boots and jeans are welcome at the Horse Country Hoedown on Saturday\, April 25th\, from 5:30PM-9:30PM. There will be live music provided by The Sand Band! Enjoy a wonderful buffet dinner with all the fixings\, beer\, cider\, wine and bourbon! The fun takes place at the shed at Lyell’s Meadow. \n“… a toe-tapping\, boot-stomping\, good time in celebration of the Walthour-Moss Foundation.” \nTickets are $100 per person. Host tickets are $500 and include two tickets. Proceeds collected benefit the Walthour-Moss Foundation. For additional information and ticketing information\, follow the website event link provided below. \n \n  \n 
URL:https://thepinestimes.com/event/the-walthour-moss-foundation-horse-country-hoedown-2026/
LOCATION:Lyell’s Meadow\, 225 Mile Away Lane\, Southern Pines\, NC\, 28387\, United States
CATEGORIES:Adults,Beer and Wine,Benefit,Concert,Dance,Donation,Food,Fundraiser,Hobby/Enthusiast,HOMEPAGE Featured,Music,Nature/Outdoors,Senior,Social,Southern Pines Events
ATTACH;FMTTYPE=image/jpeg:https://thepinestimes.com/wp-content/uploads/HorseCountryHoedownFeature.jpg
END:VEVENT
END:VCALENDAR