BEGIN:VCALENDAR
VERSION:2.0
PRODID:-//The Pines Times - ECPv6.15.20//NONSGML v1.0//EN
CALSCALE:GREGORIAN
METHOD:PUBLISH
X-ORIGINAL-URL:https://thepinestimes.com
X-WR-CALDESC:Events for The Pines Times
REFRESH-INTERVAL;VALUE=DURATION:PT1H
X-Robots-Tag:noindex
X-PUBLISHED-TTL:PT1H
BEGIN:VTIMEZONE
TZID:America/New_York
BEGIN:DAYLIGHT
TZOFFSETFROM:-0500
TZOFFSETTO:-0400
TZNAME:EDT
DTSTART:20240310T070000
END:DAYLIGHT
BEGIN:STANDARD
TZOFFSETFROM:-0400
TZOFFSETTO:-0500
TZNAME:EST
DTSTART:20241103T060000
END:STANDARD
BEGIN:DAYLIGHT
TZOFFSETFROM:-0500
TZOFFSETTO:-0400
TZNAME:EDT
DTSTART:20250309T070000
END:DAYLIGHT
BEGIN:STANDARD
TZOFFSETFROM:-0400
TZOFFSETTO:-0500
TZNAME:EST
DTSTART:20251102T060000
END:STANDARD
BEGIN:DAYLIGHT
TZOFFSETFROM:-0500
TZOFFSETTO:-0400
TZNAME:EDT
DTSTART:20260308T070000
END:DAYLIGHT
BEGIN:STANDARD
TZOFFSETFROM:-0400
TZOFFSETTO:-0500
TZNAME:EST
DTSTART:20261101T060000
END:STANDARD
BEGIN:DAYLIGHT
TZOFFSETFROM:-0500
TZOFFSETTO:-0400
TZNAME:EDT
DTSTART:20270314T070000
END:DAYLIGHT
BEGIN:STANDARD
TZOFFSETFROM:-0400
TZOFFSETTO:-0500
TZNAME:EST
DTSTART:20271107T060000
END:STANDARD
END:VTIMEZONE
BEGIN:VEVENT
DTSTART;TZID=America/New_York:20260416T110000
DTEND;TZID=America/New_York:20260416T180000
DTSTAMP:20260420T163004
CREATED:20250423T200104Z
LAST-MODIFIED:20260413T143823Z
UID:10056939-1776337200-1776362400@thepinestimes.com
SUMMARY:Aberdeen Lions Club: BBQ and BBQ Chicken Fundraiser 2026
DESCRIPTION:The Aberdeen Lions Club\, in co-sponsorship with the Town of Aberdeen\, is hosting their annual Bar-B-Q on Thursday\, April 16th\, at Aberdeen Lake Park from 11 am to 6 pm. For just $12 per plate\, you can enjoy a choice of slow-cooked BBQ\, prepared over hickory and charcoal for 14 hours\, or a BBQ chicken plate\, both of which are served with slaw\, baked beans\, and a roll. If you are ordering for a group\, delivery is available for 10 plates or more by calling or texting 910-506-9355. \nAll money raised goes to help support the many projects that the local Lions Club here undertakes throughout the year. Come out to grab a delicious meal and support the community through this local tradition. \n \n 
URL:https://thepinestimes.com/event/aberdeen-lions-club-bbq-and-bbq-chicken-fundraiser-2026/
LOCATION:Aberdeen Lake Park\, 301 Lake Park Crossing\, Aberdeen\, NC\, 28315\, United States
CATEGORIES:Aberdeen Events,Adults,Benefit,Donation,Family,Food,Fundraiser,Senior,Social,Young Adults
ATTACH;FMTTYPE=image/jpeg:https://thepinestimes.com/wp-content/uploads/AberdeenLionsClubBBQfeature.jpg
ORGANIZER;CN="Aberdeen Lions Club":MAILTO:ebraun@mcneilloilandpropane.com
END:VEVENT
BEGIN:VEVENT
DTSTART;TZID=America/New_York:20251213T110000
DTEND;TZID=America/New_York:20251213T110000
DTSTAMP:20260420T163004
CREATED:20231031T172256Z
LAST-MODIFIED:20251130T235044Z
UID:10022090-1765623600-1765623600@thepinestimes.com
SUMMARY:Town of Aberdeen: Christmas Parade 2025
DESCRIPTION:The annual Aberdeen Christmas Parade is taking place on Saturday\, December 13th beginning at 11:00am! Enjoy the holiday fun for all ages in Historic Downtown Aberdeen! Santa will be making his special appearance! \nParade registration deadline is December 5th. More information can be found through the event website link provided below.
URL:https://thepinestimes.com/event/aberdeen-christmas-parade/
LOCATION:Downtown Aberdeen\, Main Street\, Aberdeen\, NC\, 28315\, United States
CATEGORIES:Aberdeen Events,Adults,Children,Christmas,Family,Finding Santa,Finding Santa,Holiday Events,Parade,Piney's Kids,Piney's Tiny's,Santa,Senior,Social,Teen Activities,Young Adults
ATTACH;FMTTYPE=image/jpeg:https://thepinestimes.com/wp-content/uploads/DowntownAberdeenFeature.jpg
END:VEVENT
BEGIN:VEVENT
DTSTART;TZID=America/New_York:20251204T181500
DTEND;TZID=America/New_York:20251204T181500
DTSTAMP:20260420T163004
CREATED:20231031T171750Z
LAST-MODIFIED:20251124T153252Z
UID:10022089-1764872100-1764872100@thepinestimes.com
SUMMARY:Town of Aberdeen: Christmas Tree Lighting 2025
DESCRIPTION:The Town of Aberdeen will hold their annual Christmas Tree Lighting on Thursday\, December 4th at 6:15pm! The lighting takes place at Union Station Railroad Museum. There will be a visit from Santa Claus and special performances. Light refreshments will be served. A free trolley service will be running from the Aberdeen Recreation Center.
URL:https://thepinestimes.com/event/aberdeen-christmas-tree-lighting/
LOCATION:Union Station Railroad Museum\, 100 E Main St\, Aberdeen\, NC\, 28315\, United States
CATEGORIES:Aberdeen Events,Adults,Children,Christmas,Family,Finding Santa,Holiday Events,Live Entertainment,Music,Piney's Kids,Piney's Tiny's,Santa,Senior,Social,Teen Activities,Young Adults
ATTACH;FMTTYPE=image/jpeg:https://thepinestimes.com/wp-content/uploads/DowntownAberdeenFeature.jpg
END:VEVENT
BEGIN:VEVENT
DTSTART;TZID=America/New_York:20251101T100000
DTEND;TZID=America/New_York:20251101T170000
DTSTAMP:20260420T163004
CREATED:20250926T121755Z
LAST-MODIFIED:20250926T121755Z
UID:10071579-1761991200-1762016400@thepinestimes.com
SUMMARY:Malcolm Blue Festival
DESCRIPTION:“Due to the weather forecast on Saturday\, we have rescheduled the Malcolm Blue Festival to Saturday\, November 1st.” \nCome out for the Malcolm Blue Festival on Saturday\, September 27th | 10am-5pm! Celebrate history at the farm. Enjoy artisan work of all kinds\, such as black smithing\, honey making\, handcrafted jewelry\, soap\, lotion\, cheese and more. There will be petting zoo and pony rides available for the children. There will also be live entertainment and demonstrations scheduled throughout the day. Food and drinks will also be available. Entry is $5 per person or $20 for a family. Children three and under are free.
URL:https://thepinestimes.com/event/malcolm-blue-festival/
LOCATION:Malcolm Blue Farm\, 1177 Bethesda Rd.\, Aberdeen\, NC\, 28315\, United States
CATEGORIES:Aberdeen Events,Adults,Crafts,Exhibits,Fair/Festival,Fall,Fall in the Sandhills,Family,Food,Historical,Hobby/Enthusiast,Music,Nature/Outdoors,Senior,Social,Vendors
ATTACH;FMTTYPE=image/jpeg:https://thepinestimes.com/wp-content/uploads/MalcolmBlueFestivalFeature.jpg
END:VEVENT
BEGIN:VEVENT
DTSTART;TZID=America/New_York:20250505T083000
DTEND;TZID=America/New_York:20250505T100000
DTSTAMP:20260420T163004
CREATED:20250413T230456Z
LAST-MODIFIED:20250413T230525Z
UID:10056617-1746433800-1746439200@thepinestimes.com
SUMMARY:Aberdeen Stakeholder Public Input Meeting
DESCRIPTION:The Town of Aberdeen and Walker Consultants invite you to attend a Stakeholder Public Input Meeting to discuss the current and future conditions for the Town’s Central Business (CB) District (Downtown Aberdeen) public parking program. The public meeting will be held on Monday\, May 5th | 8:30am-10:00am at the Aberdeen Lake Park Recreation Station. \nWalker Consultants’ Charlotte-based team will present their segmented approach to analyzing local conditions and potential solutions\, sharing industry best practices and their experience with destination communities across the Southeast. Following the presentation\, public input is encouraged and valued to help shape Walker’s findings and recommendations. \nFor full details and to register\, follow the event website link provided below.town o \n 
URL:https://thepinestimes.com/event/stakeholder-public-input-meeting/
LOCATION:Aberdeen Recreation Center\, 301 Lake Park Crossing\, Aberdeen\, NC\, 28315\, United States
CATEGORIES:Aberdeen Events,Adults,Business/Networking,Hobby/Enthusiast,Meeting,Social
ATTACH;FMTTYPE=image/jpeg:https://thepinestimes.com/wp-content/uploads/DowntownAberdeenFeature.jpg
END:VEVENT
END:VCALENDAR