BEGIN:VCALENDAR
VERSION:2.0
PRODID:-//The Pines Times - ECPv6.15.20//NONSGML v1.0//EN
CALSCALE:GREGORIAN
METHOD:PUBLISH
X-ORIGINAL-URL:https://thepinestimes.com
X-WR-CALDESC:Events for The Pines Times
REFRESH-INTERVAL;VALUE=DURATION:PT1H
X-Robots-Tag:noindex
X-PUBLISHED-TTL:PT1H
BEGIN:VTIMEZONE
TZID:America/New_York
BEGIN:DAYLIGHT
TZOFFSETFROM:-0500
TZOFFSETTO:-0400
TZNAME:EDT
DTSTART:20240310T070000
END:DAYLIGHT
BEGIN:STANDARD
TZOFFSETFROM:-0400
TZOFFSETTO:-0500
TZNAME:EST
DTSTART:20241103T060000
END:STANDARD
BEGIN:DAYLIGHT
TZOFFSETFROM:-0500
TZOFFSETTO:-0400
TZNAME:EDT
DTSTART:20250309T070000
END:DAYLIGHT
BEGIN:STANDARD
TZOFFSETFROM:-0400
TZOFFSETTO:-0500
TZNAME:EST
DTSTART:20251102T060000
END:STANDARD
BEGIN:DAYLIGHT
TZOFFSETFROM:-0500
TZOFFSETTO:-0400
TZNAME:EDT
DTSTART:20260308T070000
END:DAYLIGHT
BEGIN:STANDARD
TZOFFSETFROM:-0400
TZOFFSETTO:-0500
TZNAME:EST
DTSTART:20261101T060000
END:STANDARD
END:VTIMEZONE
BEGIN:VEVENT
DTSTART;TZID=America/New_York:20251214T130000
DTEND;TZID=America/New_York:20251214T170000
DTSTAMP:20260421T135128
CREATED:20251204T160548Z
LAST-MODIFIED:20251204T160548Z
UID:10076958-1765717200-1765731600@thepinestimes.com
SUMMARY:Carthage Museum: Christmas Open House with Santa and Mrs. Claus Visit
DESCRIPTION:You are invited to the Carthage Museum Christmas Open House for a celebration of community and Christmas on Sunday\, December 14th | 1:00pm-5:00pm. Children can meet Mr. and Mrs. Claus\, who will be visiting from 1:00pm-3:00pm. Enjoy free hot cocoa and cider\, sweet treats\, lights\, music\, and stories that celebrate the season. The event will also feature special guests\, Dance Impressions\, with the show beginning at 2:00pm. This is their way of thanking the community\, so bring your family and friends for a relaxed afternoon of holiday fun!
URL:https://thepinestimes.com/event/carthage-museum-christmas-open-house-with-santa-and-mrs-claus-visit/
LOCATION:Town of Carthage Historical Committee & Museum\, 202 Rockingham Street\, Carthage\, NC\, 28327\, United States
CATEGORIES:Carthage Events,Children,Christmas,Educational,Fall in the Sandhills,Family,Finding Santa,Hobby/Enthusiast,Holiday Events,Literary Event,Open House,Piney's Kids,Piney's Tiny's,Santa,Social,Storytimes
END:VEVENT
BEGIN:VEVENT
DTSTART;TZID=America/New_York:20251026T140000
DTEND;TZID=America/New_York:20251026T170000
DTSTAMP:20260421T135128
CREATED:20231004T130413Z
LAST-MODIFIED:20250911T220648Z
UID:10021271-1761487200-1761498000@thepinestimes.com
SUMMARY:Spooky Stories with the Carthage Museum (Kid-Friendly)
DESCRIPTION:Join the Carthage Museum for an afternoon of spooky and not-so-spooky stories on Sunday\, October 26th | 2pm-5pm! Some will scare you\, some will thrill you and some will leave you laughing like a ghoul! Halloween costumes are encouraged! There will also be snacks to enjoy. The stories are kid-friendly! \n 
URL:https://thepinestimes.com/event/spooky-stories-with-the-carthage-museum-kid-friendly/
LOCATION:Town of Carthage Historical Committee & Museum\, 202 Rockingham Street\, Carthage\, NC\, 28327\, United States
CATEGORIES:Carthage Events,Children,Educational,Fall,Fall in the Sandhills,Family,Halloween,Hobby/Enthusiast,Holiday Events,Literary Event,Piney's Kids,Piney's Tiny's,Social,Storytimes
END:VEVENT
END:VCALENDAR