BEGIN:VCALENDAR
VERSION:2.0
PRODID:-//The Pines Times - ECPv6.15.20//NONSGML v1.0//EN
CALSCALE:GREGORIAN
METHOD:PUBLISH
X-WR-CALNAME:The Pines Times
X-ORIGINAL-URL:https://thepinestimes.com
X-WR-CALDESC:Events for The Pines Times
REFRESH-INTERVAL;VALUE=DURATION:PT1H
X-Robots-Tag:noindex
X-PUBLISHED-TTL:PT1H
BEGIN:VTIMEZONE
TZID:America/New_York
BEGIN:DAYLIGHT
TZOFFSETFROM:-0500
TZOFFSETTO:-0400
TZNAME:EDT
DTSTART:20240310T070000
END:DAYLIGHT
BEGIN:STANDARD
TZOFFSETFROM:-0400
TZOFFSETTO:-0500
TZNAME:EST
DTSTART:20241103T060000
END:STANDARD
BEGIN:DAYLIGHT
TZOFFSETFROM:-0500
TZOFFSETTO:-0400
TZNAME:EDT
DTSTART:20250309T070000
END:DAYLIGHT
BEGIN:STANDARD
TZOFFSETFROM:-0400
TZOFFSETTO:-0500
TZNAME:EST
DTSTART:20251102T060000
END:STANDARD
BEGIN:DAYLIGHT
TZOFFSETFROM:-0500
TZOFFSETTO:-0400
TZNAME:EDT
DTSTART:20260308T070000
END:DAYLIGHT
BEGIN:STANDARD
TZOFFSETFROM:-0400
TZOFFSETTO:-0500
TZNAME:EST
DTSTART:20261101T060000
END:STANDARD
END:VTIMEZONE
BEGIN:VEVENT
DTSTART;TZID=America/New_York:20251213T100000
DTEND;TZID=America/New_York:20251213T110000
DTSTAMP:20260423T121633
CREATED:20251109T174135Z
LAST-MODIFIED:20251109T174135Z
UID:10075133-1765620000-1765623600@thepinestimes.com
SUMMARY:Town of Lillington: Christmas Parade
DESCRIPTION:The Town of Lillington invites you to the Lillington Christmas Parade on Saturday\, December 13th at 10:00am. The parade will take place along Front and Main Streets. For more information\, you can contact Christy Powers at (910) 893-0339 or via email at CPOWERS@LILLINGTONNC.ORG.
URL:https://thepinestimes.com/event/town-of-lillington-christmas-parade/
LOCATION:Downtown Lillington\, Main Street\, Lillington\, 27546\, United States
CATEGORIES:Adults,Children,Christmas,Family,Finding Santa,Holiday Events,Lillington,Out of Town,Parade,Piney's Kids,Piney's Tiny's,Santa,Social,Teen Activities,Young Adults
ATTACH;FMTTYPE=image/jpeg:https://thepinestimes.com/wp-content/uploads/LillingtonChristmasParadeFeature.jpg
ORGANIZER;CN="Town of Lillington":MAILTO:jbarnard@lillingtonnc.org
END:VEVENT
BEGIN:VEVENT
DTSTART;TZID=America/New_York:20251211T180000
DTEND;TZID=America/New_York:20251211T200000
DTSTAMP:20260423T121633
CREATED:20251109T134510Z
LAST-MODIFIED:20251109T134510Z
UID:10075117-1765476000-1765483200@thepinestimes.com
SUMMARY:Town of Lillington: Christmas on the Cape Fear
DESCRIPTION:The Town of Lillington presents Christmas on the Cape Fear on Thursday\, December 11th\, from 6:00pm-8:00pm at Lillington River Park. This is a free event for the entire community. The event starts with the Tree Lighting at 6:00pm. Enjoy Santa’s Workshop and several activities including pictures with Santa\, letters to Santa\, enjoying cookies & milk and hot chocolate\, participating in ornament oaking\, and playing on the niflatables. For more information\, you can contact Christy Powers at 910-893-0339.
URL:https://thepinestimes.com/event/town-of-lillington-christmas-on-the-cape-fear/
LOCATION:Lillington River Park\, 151 East Duncan Street\, Lillington\, 27546\, United States
CATEGORIES:Adults,Children,Christmas,Crafts,Family,Finding Santa,Games,Holiday Events,Lillington,Out of Town,Piney's Kids,Piney's Tiny's,Santa,Senior,Social,Teen Activities,Young Adults
ATTACH;FMTTYPE=image/jpeg:https://thepinestimes.com/wp-content/uploads/LillingtonChristmasFeature.jpg
ORGANIZER;CN="Town of Lillington":MAILTO:jbarnard@lillingtonnc.org
END:VEVENT
END:VCALENDAR