BEGIN:VCALENDAR
VERSION:2.0
PRODID:-//The Pines Times - ECPv6.15.20//NONSGML v1.0//EN
CALSCALE:GREGORIAN
METHOD:PUBLISH
X-WR-CALNAME:The Pines Times
X-ORIGINAL-URL:https://thepinestimes.com
X-WR-CALDESC:Events for The Pines Times
REFRESH-INTERVAL;VALUE=DURATION:PT1H
X-Robots-Tag:noindex
X-PUBLISHED-TTL:PT1H
BEGIN:VTIMEZONE
TZID:America/New_York
BEGIN:DAYLIGHT
TZOFFSETFROM:-0500
TZOFFSETTO:-0400
TZNAME:EDT
DTSTART:20250309T070000
END:DAYLIGHT
BEGIN:STANDARD
TZOFFSETFROM:-0400
TZOFFSETTO:-0500
TZNAME:EST
DTSTART:20251102T060000
END:STANDARD
BEGIN:DAYLIGHT
TZOFFSETFROM:-0500
TZOFFSETTO:-0400
TZNAME:EDT
DTSTART:20260308T070000
END:DAYLIGHT
BEGIN:STANDARD
TZOFFSETFROM:-0400
TZOFFSETTO:-0500
TZNAME:EST
DTSTART:20261101T060000
END:STANDARD
BEGIN:DAYLIGHT
TZOFFSETFROM:-0500
TZOFFSETTO:-0400
TZNAME:EDT
DTSTART:20270314T070000
END:DAYLIGHT
BEGIN:STANDARD
TZOFFSETFROM:-0400
TZOFFSETTO:-0500
TZNAME:EST
DTSTART:20271107T060000
END:STANDARD
END:VTIMEZONE
BEGIN:VEVENT
DTSTART;TZID=America/New_York:20260328T163000
DTEND;TZID=America/New_York:20260328T163000
DTSTAMP:20260420T201734
CREATED:20260327T194741Z
LAST-MODIFIED:20260327T203213Z
UID:10085083-1774715400-1774715400@thepinestimes.com
SUMMARY:The 17th Annual UNCP Honor Jazz Festival
DESCRIPTION:The 17th Annual UNCP Honor Jazz Festival is Saturday\, March 28th at 4:30PM! Performing is trombone artists Jennifer Wharton and John Fedchock as the featured guest performers! Please join over 100 talented musicians from 20 regional high schools\, and the UNCP Jazz Ensemble for a performance at the Givens Performing Arts Center (GPAC)! Tickets are available by calling the GPAC Box Office at 910-521-6361.
URL:https://thepinestimes.com/event/the-17th-annual-uncp-honor-jazz-festival/
LOCATION:Givens Performing Arts Center\, 1 University Rd\, Pembroke\, NC\, 28372\, United States
CATEGORIES:Adults,Concert,Fair/Festival,Family,Music,Pembroke
ATTACH;FMTTYPE=image/jpeg:https://thepinestimes.com/wp-content/uploads/GPAC-Feature-1.jpg
ORGANIZER;CN="UNCP Department of Music":MAILTO:music@uncp.edu
END:VEVENT
END:VCALENDAR