BEGIN:VCALENDAR
VERSION:2.0
PRODID:-//The Pines Times - ECPv6.15.20//NONSGML v1.0//EN
CALSCALE:GREGORIAN
METHOD:PUBLISH
X-ORIGINAL-URL:https://thepinestimes.com
X-WR-CALDESC:Events for The Pines Times
REFRESH-INTERVAL;VALUE=DURATION:PT1H
X-Robots-Tag:noindex
X-PUBLISHED-TTL:PT1H
BEGIN:VTIMEZONE
TZID:America/New_York
BEGIN:DAYLIGHT
TZOFFSETFROM:-0500
TZOFFSETTO:-0400
TZNAME:EDT
DTSTART:20240310T070000
END:DAYLIGHT
BEGIN:STANDARD
TZOFFSETFROM:-0400
TZOFFSETTO:-0500
TZNAME:EST
DTSTART:20241103T060000
END:STANDARD
BEGIN:DAYLIGHT
TZOFFSETFROM:-0500
TZOFFSETTO:-0400
TZNAME:EDT
DTSTART:20250309T070000
END:DAYLIGHT
BEGIN:STANDARD
TZOFFSETFROM:-0400
TZOFFSETTO:-0500
TZNAME:EST
DTSTART:20251102T060000
END:STANDARD
BEGIN:DAYLIGHT
TZOFFSETFROM:-0500
TZOFFSETTO:-0400
TZNAME:EDT
DTSTART:20260308T070000
END:DAYLIGHT
BEGIN:STANDARD
TZOFFSETFROM:-0400
TZOFFSETTO:-0500
TZNAME:EST
DTSTART:20261101T060000
END:STANDARD
END:VTIMEZONE
BEGIN:VEVENT
DTSTART;TZID=America/New_York:20251108T110000
DTEND;TZID=America/New_York:20251108T110000
DTSTAMP:20260424T011951
CREATED:20251102T152509Z
LAST-MODIFIED:20251102T152555Z
UID:10074780-1762599600-1762599600@thepinestimes.com
SUMMARY:VFW Post 4203: Veterans Day Ceremony
DESCRIPTION:VFW Post 4203 along with American Legion Post 147 ans Amvets Post 316 is holding a Ceremony at the Veterans Memorial Park at 11:00am. After the Ceremony Lunch will be served at Post 4203. Then head to Hamlet for the Veterans day parade starting at 2:00pm. \n \n 
URL:https://thepinestimes.com/event/vfw-post-4203-veterans-day-ceremony/
LOCATION:VFW Post 4203-Rockingham\, 106 Old River Road\, Rockingham\, NC\, 28379\, United States
CATEGORIES:Adults,Ceremony,Family,Food,Historical,Military,Religious/Spiritual,Senior,Social,Veterans,Veterans Day
ATTACH;FMTTYPE=image/jpeg:https://thepinestimes.com/wp-content/uploads/VFWRockinghamFeature.jpg
ORGANIZER;CN="VFW Post 4203-Rockingham":MAILTO:vfwpost4203@gmail.com
END:VEVENT
BEGIN:VEVENT
DTSTART;TZID=America/New_York:20251103T170000
DTEND;TZID=America/New_York:20251103T190000
DTSTAMP:20260424T011951
CREATED:20251030T175506Z
LAST-MODIFIED:20251030T175506Z
UID:10074063-1762189200-1762196400@thepinestimes.com
SUMMARY:Pork Chop Dinner to Benefit the Veterans Relief Fund
DESCRIPTION:The VFW Post 4203-Rockingham will host a Pork Chop Dinner this Monday\, November 3rd | 5pm-7pm! Dinners include 2 porkchops\, scalloped potatoes and green beans. The price is $15.00. To reserve a plate call 910-434-8053 or message via the social media platform. All proceeds go to the Veterans Relief Fund.
URL:https://thepinestimes.com/event/pork-chop-dinner-to-benefit-the-veterans-relief-fund/
LOCATION:VFW Post 4203-Rockingham\, 106 Old River Road\, Rockingham\, NC\, 28379\, United States
CATEGORIES:Adults,Donation,Family,Food,Fundraiser,Rockingham,Senior,Social,Veterans,Veterans Day,Young Adults
ATTACH;FMTTYPE=image/jpeg:https://thepinestimes.com/wp-content/uploads/VFWRockinghamFeature.jpg
ORGANIZER;CN="VFW Post 4203-Rockingham":MAILTO:vfwpost4203@gmail.com
END:VEVENT
BEGIN:VEVENT
DTSTART;TZID=America/New_York:20251018T130000
DTEND;TZID=America/New_York:20251018T150000
DTSTAMP:20260424T011951
CREATED:20251013T122243Z
LAST-MODIFIED:20251013T122419Z
UID:10072651-1760792400-1760799600@thepinestimes.com
SUMMARY:VFW Post 4203-Rockingham: Free Halloween Party for the Kids
DESCRIPTION:VFW Post 4203-Rockingham is hosting a fun Halloween Party for the Kids this Saturday\, October 18th | 1pm-3pm. There will be a DJ\, games and food. So bring the kids and have some fun. This is a free event.
URL:https://thepinestimes.com/event/vfw-post-4203-rockingham-free-halloween-party-for-the-kids/
LOCATION:VFW Post 4203-Rockingham\, 106 Old River Road\, Rockingham\, NC\, 28379\, United States
CATEGORIES:Children,Family,Food,Games,Halloween,Music,Piney's Kids,Piney's Tiny's,Rockingham,Social
ATTACH;FMTTYPE=image/jpeg:https://thepinestimes.com/wp-content/uploads/VFWRockinghamFeature.jpg
ORGANIZER;CN="VFW Post 4203-Rockingham":MAILTO:vfwpost4203@gmail.com
END:VEVENT
END:VCALENDAR