BEGIN:VCALENDAR
VERSION:2.0
PRODID:-//The Pines Times - ECPv6.15.20//NONSGML v1.0//EN
CALSCALE:GREGORIAN
METHOD:PUBLISH
X-WR-CALNAME:The Pines Times
X-ORIGINAL-URL:https://thepinestimes.com
X-WR-CALDESC:Events for The Pines Times
REFRESH-INTERVAL;VALUE=DURATION:PT1H
X-Robots-Tag:noindex
X-PUBLISHED-TTL:PT1H
BEGIN:VTIMEZONE
TZID:America/New_York
BEGIN:DAYLIGHT
TZOFFSETFROM:-0500
TZOFFSETTO:-0400
TZNAME:EDT
DTSTART:20240310T070000
END:DAYLIGHT
BEGIN:STANDARD
TZOFFSETFROM:-0400
TZOFFSETTO:-0500
TZNAME:EST
DTSTART:20241103T060000
END:STANDARD
BEGIN:DAYLIGHT
TZOFFSETFROM:-0500
TZOFFSETTO:-0400
TZNAME:EDT
DTSTART:20250309T070000
END:DAYLIGHT
BEGIN:STANDARD
TZOFFSETFROM:-0400
TZOFFSETTO:-0500
TZNAME:EST
DTSTART:20251102T060000
END:STANDARD
BEGIN:DAYLIGHT
TZOFFSETFROM:-0500
TZOFFSETTO:-0400
TZNAME:EDT
DTSTART:20260308T070000
END:DAYLIGHT
BEGIN:STANDARD
TZOFFSETFROM:-0400
TZOFFSETTO:-0500
TZNAME:EST
DTSTART:20261101T060000
END:STANDARD
END:VTIMEZONE
BEGIN:VEVENT
DTSTART;TZID=America/New_York:20250927T110000
DTEND;TZID=America/New_York:20250927T140000
DTSTAMP:20260426T000352
CREATED:20230709T161530Z
LAST-MODIFIED:20250902T125906Z
UID:10014766-1758970800-1758981600@thepinestimes.com
SUMMARY:Flutterby Festival
DESCRIPTION:Celebrate butterflies and other pollinators with a day of family fun and educational activities during the sixth annual Flutterby Festival at the Village Arboretum\, Pinehurst\, on Saturday\, September 27th | 11am-2pm. Hosted by the Village Heritage Foundation and the Village of Pinehurst\, the event promotes pollinator habitats. In addition\, it supports active efforts to conserve the monarch butterfly and other pollinator species\, designed to be a day of fun and learning for all ages. \nPrepare to be amazed by our educational and fun demonstrations and programs. You’ll have a rare opportunity to interact with and feed hundreds of newly emerged monarch butterflies in the Magical Monarch Tents. Tour the 10\,000-square-foot Native Pollinator Garden\, completed in 2020 and located in the Village Arboretum\, that includes native flowering perennials\, host plants\, walkways\, and the Pollinator Pavilion. Tag and release adult monarch butterflies in the garden in time for the insect’s migration to Mexico. \nPartners for Children & Families\, a local non-profit organization\, will have pollinator-inspired books for families. As a special highlight\, Miss Moore County’s Teen will read pollinator-inspired books to visitors. \nAdditional activities include: Butterfly arts and crafts | Learn about other pollinators like birds and bees | Discussions on native plants\, native plant sale | Information on creating a backyard pollinator garden. \nEnjoy live music and refreshments available for purchase from food trucks. Dogs must be leashed and are not permitted in the exhibit tents or the monarch tagging area. The Village Heritage Foundation presents the Flutterby Festival with support from the Village of Pinehurst and Partners for Children & Families. Flutterby Festival is family friendly and free to the public. To reserve your space\, follow the link provided below.
URL:https://thepinestimes.com/event/flutterby-festival/
LOCATION:The Village Arboretum\, 395 Magnolia Rd\, Pinehurst\, NC\, United States
CATEGORIES:Adults,Children,Crafts,Educational,Exhibits,Fair/Festival,Fall,Fall in the Sandhills,Family,Food,Games,Hobby/Enthusiast,Nature/Outdoors,Pets/Animals,Pinehurst Events,Senior,Social
ATTACH;FMTTYPE=image/jpeg:https://thepinestimes.com/wp-content/uploads/Village-Heritage-Foundation-Feature.jpg
END:VEVENT
BEGIN:VEVENT
DTSTART;TZID=America/New_York:20250925T080000
DTEND;TZID=America/New_York:20250925T100000
DTSTAMP:20260426T000352
CREATED:20250709T210347Z
LAST-MODIFIED:20250728T144725Z
UID:10063144-1758787200-1758794400@thepinestimes.com
SUMMARY:Village Heritage Foundation: Volunteer Day at the Native Pollinator Garden
DESCRIPTION:The Village Heritage Foundation is always looking for individuals who enjoy getting their hands dirty in the garden\, no experience is necessary! The group meets on Thursday mornings and some Saturday mornings from April-September. If you are interested in volunteering\, follow the event website link provided below.
URL:https://thepinestimes.com/event/village-heritage-foundation-volunteer-day-at-the-native-polinator-garden/2025-09-25/
LOCATION:Native Polinator Garden-The Village Arboretum\, 395 Magnolia Rd\, Pinehurst\, 28374\, United States
CATEGORIES:Adults,Gardening,Hobby/Enthusiast,Nature/Outdoors,Pinehurst Events,Senior,Social,Volunteer
ATTACH;FMTTYPE=image/jpeg:https://thepinestimes.com/wp-content/uploads/Village-Heritage-Foundation-Feature.jpg
END:VEVENT
BEGIN:VEVENT
DTSTART;TZID=America/New_York:20250918T080000
DTEND;TZID=America/New_York:20250918T100000
DTSTAMP:20260426T000352
CREATED:20250709T210347Z
LAST-MODIFIED:20250728T144725Z
UID:10063143-1758182400-1758189600@thepinestimes.com
SUMMARY:Village Heritage Foundation: Volunteer Day at the Native Pollinator Garden
DESCRIPTION:The Village Heritage Foundation is always looking for individuals who enjoy getting their hands dirty in the garden\, no experience is necessary! The group meets on Thursday mornings and some Saturday mornings from April-September. If you are interested in volunteering\, follow the event website link provided below.
URL:https://thepinestimes.com/event/village-heritage-foundation-volunteer-day-at-the-native-polinator-garden/2025-09-18/
LOCATION:Native Polinator Garden-The Village Arboretum\, 395 Magnolia Rd\, Pinehurst\, 28374\, United States
CATEGORIES:Adults,Gardening,Hobby/Enthusiast,Nature/Outdoors,Pinehurst Events,Senior,Social,Volunteer
ATTACH;FMTTYPE=image/jpeg:https://thepinestimes.com/wp-content/uploads/Village-Heritage-Foundation-Feature.jpg
END:VEVENT
BEGIN:VEVENT
DTSTART;TZID=America/New_York:20250911T080000
DTEND;TZID=America/New_York:20250911T100000
DTSTAMP:20260426T000352
CREATED:20250709T210347Z
LAST-MODIFIED:20250728T144725Z
UID:10063142-1757577600-1757584800@thepinestimes.com
SUMMARY:Village Heritage Foundation: Volunteer Day at the Native Pollinator Garden
DESCRIPTION:The Village Heritage Foundation is always looking for individuals who enjoy getting their hands dirty in the garden\, no experience is necessary! The group meets on Thursday mornings and some Saturday mornings from April-September. If you are interested in volunteering\, follow the event website link provided below.
URL:https://thepinestimes.com/event/village-heritage-foundation-volunteer-day-at-the-native-polinator-garden/2025-09-11/
LOCATION:Native Polinator Garden-The Village Arboretum\, 395 Magnolia Rd\, Pinehurst\, 28374\, United States
CATEGORIES:Adults,Gardening,Hobby/Enthusiast,Nature/Outdoors,Pinehurst Events,Senior,Social,Volunteer
ATTACH;FMTTYPE=image/jpeg:https://thepinestimes.com/wp-content/uploads/Village-Heritage-Foundation-Feature.jpg
END:VEVENT
BEGIN:VEVENT
DTSTART;TZID=America/New_York:20250904T080000
DTEND;TZID=America/New_York:20250904T100000
DTSTAMP:20260426T000352
CREATED:20250709T210347Z
LAST-MODIFIED:20250728T144725Z
UID:10063141-1756972800-1756980000@thepinestimes.com
SUMMARY:Village Heritage Foundation: Volunteer Day at the Native Pollinator Garden
DESCRIPTION:The Village Heritage Foundation is always looking for individuals who enjoy getting their hands dirty in the garden\, no experience is necessary! The group meets on Thursday mornings and some Saturday mornings from April-September. If you are interested in volunteering\, follow the event website link provided below.
URL:https://thepinestimes.com/event/village-heritage-foundation-volunteer-day-at-the-native-polinator-garden/2025-09-04/
LOCATION:Native Polinator Garden-The Village Arboretum\, 395 Magnolia Rd\, Pinehurst\, 28374\, United States
CATEGORIES:Adults,Gardening,Hobby/Enthusiast,Nature/Outdoors,Pinehurst Events,Senior,Social,Volunteer
ATTACH;FMTTYPE=image/jpeg:https://thepinestimes.com/wp-content/uploads/Village-Heritage-Foundation-Feature.jpg
END:VEVENT
BEGIN:VEVENT
DTSTART;TZID=America/New_York:20250902T090000
DTEND;TZID=America/New_York:20250902T090000
DTSTAMP:20260426T000352
CREATED:20250606T171022Z
LAST-MODIFIED:20250915T140447Z
UID:10060996-1756803600-1756803600@thepinestimes.com
SUMMARY:Village Heritage Foundation Fundraiser
DESCRIPTION:Presented by the Village Heritage Foundation\, join in supporting the preservation and beauty of our community! The Village Heritage Foundation works to promote the preservation\, restoration\, enhancement and maintenance of the historic character of the Village of Pinehurst. The Village Heritage Foundation Fundraiser takes place on Tuesday\, September 23rd. More details to come on time and location…save the date!
URL:https://thepinestimes.com/event/village-heritage-foundation-fundraiser/
CATEGORIES:Adults,Donation,Fundraiser,Hobby/Enthusiast,Pinehurst Events,Senior,Social
ATTACH;FMTTYPE=image/jpeg:https://thepinestimes.com/wp-content/uploads/Village-Heritage-Foundation-Feature.jpg
END:VEVENT
BEGIN:VEVENT
DTSTART;TZID=America/New_York:20250828T080000
DTEND;TZID=America/New_York:20250828T100000
DTSTAMP:20260426T000352
CREATED:20250709T210347Z
LAST-MODIFIED:20250728T144725Z
UID:10063140-1756368000-1756375200@thepinestimes.com
SUMMARY:Village Heritage Foundation: Volunteer Day at the Native Pollinator Garden
DESCRIPTION:The Village Heritage Foundation is always looking for individuals who enjoy getting their hands dirty in the garden\, no experience is necessary! The group meets on Thursday mornings and some Saturday mornings from April-September. If you are interested in volunteering\, follow the event website link provided below.
URL:https://thepinestimes.com/event/village-heritage-foundation-volunteer-day-at-the-native-polinator-garden/2025-08-28/
LOCATION:Native Polinator Garden-The Village Arboretum\, 395 Magnolia Rd\, Pinehurst\, 28374\, United States
CATEGORIES:Adults,Gardening,Hobby/Enthusiast,Nature/Outdoors,Pinehurst Events,Senior,Social,Volunteer
ATTACH;FMTTYPE=image/jpeg:https://thepinestimes.com/wp-content/uploads/Village-Heritage-Foundation-Feature.jpg
END:VEVENT
BEGIN:VEVENT
DTSTART;TZID=America/New_York:20250821T080000
DTEND;TZID=America/New_York:20250821T100000
DTSTAMP:20260426T000352
CREATED:20250709T210347Z
LAST-MODIFIED:20250728T144725Z
UID:10063139-1755763200-1755770400@thepinestimes.com
SUMMARY:Village Heritage Foundation: Volunteer Day at the Native Pollinator Garden
DESCRIPTION:The Village Heritage Foundation is always looking for individuals who enjoy getting their hands dirty in the garden\, no experience is necessary! The group meets on Thursday mornings and some Saturday mornings from April-September. If you are interested in volunteering\, follow the event website link provided below.
URL:https://thepinestimes.com/event/village-heritage-foundation-volunteer-day-at-the-native-polinator-garden/2025-08-21/
LOCATION:Native Polinator Garden-The Village Arboretum\, 395 Magnolia Rd\, Pinehurst\, 28374\, United States
CATEGORIES:Adults,Gardening,Hobby/Enthusiast,Nature/Outdoors,Pinehurst Events,Senior,Social,Volunteer
ATTACH;FMTTYPE=image/jpeg:https://thepinestimes.com/wp-content/uploads/Village-Heritage-Foundation-Feature.jpg
END:VEVENT
BEGIN:VEVENT
DTSTART;TZID=America/New_York:20250814T080000
DTEND;TZID=America/New_York:20250814T100000
DTSTAMP:20260426T000352
CREATED:20250709T210347Z
LAST-MODIFIED:20250728T144725Z
UID:10063138-1755158400-1755165600@thepinestimes.com
SUMMARY:Village Heritage Foundation: Volunteer Day at the Native Pollinator Garden
DESCRIPTION:The Village Heritage Foundation is always looking for individuals who enjoy getting their hands dirty in the garden\, no experience is necessary! The group meets on Thursday mornings and some Saturday mornings from April-September. If you are interested in volunteering\, follow the event website link provided below.
URL:https://thepinestimes.com/event/village-heritage-foundation-volunteer-day-at-the-native-polinator-garden/2025-08-14/
LOCATION:Native Polinator Garden-The Village Arboretum\, 395 Magnolia Rd\, Pinehurst\, 28374\, United States
CATEGORIES:Adults,Gardening,Hobby/Enthusiast,Nature/Outdoors,Pinehurst Events,Senior,Social,Volunteer
ATTACH;FMTTYPE=image/jpeg:https://thepinestimes.com/wp-content/uploads/Village-Heritage-Foundation-Feature.jpg
END:VEVENT
BEGIN:VEVENT
DTSTART;TZID=America/New_York:20250807T080000
DTEND;TZID=America/New_York:20250807T100000
DTSTAMP:20260426T000352
CREATED:20250709T210347Z
LAST-MODIFIED:20250728T144725Z
UID:10063137-1754553600-1754560800@thepinestimes.com
SUMMARY:Village Heritage Foundation: Volunteer Day at the Native Pollinator Garden
DESCRIPTION:The Village Heritage Foundation is always looking for individuals who enjoy getting their hands dirty in the garden\, no experience is necessary! The group meets on Thursday mornings and some Saturday mornings from April-September. If you are interested in volunteering\, follow the event website link provided below.
URL:https://thepinestimes.com/event/village-heritage-foundation-volunteer-day-at-the-native-polinator-garden/2025-08-07/
LOCATION:Native Polinator Garden-The Village Arboretum\, 395 Magnolia Rd\, Pinehurst\, 28374\, United States
CATEGORIES:Adults,Gardening,Hobby/Enthusiast,Nature/Outdoors,Pinehurst Events,Senior,Social,Volunteer
ATTACH;FMTTYPE=image/jpeg:https://thepinestimes.com/wp-content/uploads/Village-Heritage-Foundation-Feature.jpg
END:VEVENT
BEGIN:VEVENT
DTSTART;TZID=America/New_York:20250802T080000
DTEND;TZID=America/New_York:20250802T100000
DTSTAMP:20260426T000352
CREATED:20250709T210347Z
LAST-MODIFIED:20250728T144725Z
UID:10063792-1754121600-1754128800@thepinestimes.com
SUMMARY:Village Heritage Foundation: Volunteer Day at the Native Pollinator Garden
DESCRIPTION:The Village Heritage Foundation is always looking for individuals who enjoy getting their hands dirty in the garden\, no experience is necessary! The group meets on Thursday mornings and some Saturday mornings from April-September. If you are interested in volunteering\, follow the event website link provided below.
URL:https://thepinestimes.com/event/village-heritage-foundation-volunteer-day-at-the-native-polinator-garden/2025-08-02/
LOCATION:Native Polinator Garden-The Village Arboretum\, 395 Magnolia Rd\, Pinehurst\, 28374\, United States
CATEGORIES:Adults,Gardening,Hobby/Enthusiast,Nature/Outdoors,Pinehurst Events,Senior,Social,Volunteer
ATTACH;FMTTYPE=image/jpeg:https://thepinestimes.com/wp-content/uploads/Village-Heritage-Foundation-Feature.jpg
END:VEVENT
BEGIN:VEVENT
DTSTART;TZID=America/New_York:20250731T080000
DTEND;TZID=America/New_York:20250731T100000
DTSTAMP:20260426T000352
CREATED:20250709T210347Z
LAST-MODIFIED:20250728T144725Z
UID:10063136-1753948800-1753956000@thepinestimes.com
SUMMARY:Village Heritage Foundation: Volunteer Day at the Native Pollinator Garden
DESCRIPTION:The Village Heritage Foundation is always looking for individuals who enjoy getting their hands dirty in the garden\, no experience is necessary! The group meets on Thursday mornings and some Saturday mornings from April-September. If you are interested in volunteering\, follow the event website link provided below.
URL:https://thepinestimes.com/event/village-heritage-foundation-volunteer-day-at-the-native-polinator-garden/2025-07-31/
LOCATION:Native Polinator Garden-The Village Arboretum\, 395 Magnolia Rd\, Pinehurst\, 28374\, United States
CATEGORIES:Adults,Gardening,Hobby/Enthusiast,Nature/Outdoors,Pinehurst Events,Senior,Social,Volunteer
ATTACH;FMTTYPE=image/jpeg:https://thepinestimes.com/wp-content/uploads/Village-Heritage-Foundation-Feature.jpg
END:VEVENT
BEGIN:VEVENT
DTSTART;TZID=America/New_York:20250724T080000
DTEND;TZID=America/New_York:20250724T100000
DTSTAMP:20260426T000352
CREATED:20250709T210347Z
LAST-MODIFIED:20250728T144725Z
UID:10063135-1753344000-1753351200@thepinestimes.com
SUMMARY:Village Heritage Foundation: Volunteer Day at the Native Pollinator Garden
DESCRIPTION:The Village Heritage Foundation is always looking for individuals who enjoy getting their hands dirty in the garden\, no experience is necessary! The group meets on Thursday mornings and some Saturday mornings from April-September. If you are interested in volunteering\, follow the event website link provided below.
URL:https://thepinestimes.com/event/village-heritage-foundation-volunteer-day-at-the-native-polinator-garden/2025-07-24/
LOCATION:Native Polinator Garden-The Village Arboretum\, 395 Magnolia Rd\, Pinehurst\, 28374\, United States
CATEGORIES:Adults,Gardening,Hobby/Enthusiast,Nature/Outdoors,Pinehurst Events,Senior,Social,Volunteer
ATTACH;FMTTYPE=image/jpeg:https://thepinestimes.com/wp-content/uploads/Village-Heritage-Foundation-Feature.jpg
END:VEVENT
BEGIN:VEVENT
DTSTART;TZID=America/New_York:20250717T080000
DTEND;TZID=America/New_York:20250717T100000
DTSTAMP:20260426T000352
CREATED:20250709T210347Z
LAST-MODIFIED:20250728T144725Z
UID:10063134-1752739200-1752746400@thepinestimes.com
SUMMARY:Village Heritage Foundation: Volunteer Day at the Native Pollinator Garden
DESCRIPTION:The Village Heritage Foundation is always looking for individuals who enjoy getting their hands dirty in the garden\, no experience is necessary! The group meets on Thursday mornings and some Saturday mornings from April-September. If you are interested in volunteering\, follow the event website link provided below.
URL:https://thepinestimes.com/event/village-heritage-foundation-volunteer-day-at-the-native-polinator-garden/2025-07-17/
LOCATION:Native Polinator Garden-The Village Arboretum\, 395 Magnolia Rd\, Pinehurst\, 28374\, United States
CATEGORIES:Adults,Gardening,Hobby/Enthusiast,Nature/Outdoors,Pinehurst Events,Senior,Social,Volunteer
ATTACH;FMTTYPE=image/jpeg:https://thepinestimes.com/wp-content/uploads/Village-Heritage-Foundation-Feature.jpg
END:VEVENT
BEGIN:VEVENT
DTSTART;TZID=America/New_York:20250710T080000
DTEND;TZID=America/New_York:20250710T100000
DTSTAMP:20260426T000352
CREATED:20250709T210347Z
LAST-MODIFIED:20250728T144725Z
UID:10063133-1752134400-1752141600@thepinestimes.com
SUMMARY:Village Heritage Foundation: Volunteer Day at the Native Pollinator Garden
DESCRIPTION:The Village Heritage Foundation is always looking for individuals who enjoy getting their hands dirty in the garden\, no experience is necessary! The group meets on Thursday mornings and some Saturday mornings from April-September. If you are interested in volunteering\, follow the event website link provided below.
URL:https://thepinestimes.com/event/village-heritage-foundation-volunteer-day-at-the-native-polinator-garden/2025-07-10/
LOCATION:Native Polinator Garden-The Village Arboretum\, 395 Magnolia Rd\, Pinehurst\, 28374\, United States
CATEGORIES:Adults,Gardening,Hobby/Enthusiast,Nature/Outdoors,Pinehurst Events,Senior,Social,Volunteer
ATTACH;FMTTYPE=image/jpeg:https://thepinestimes.com/wp-content/uploads/Village-Heritage-Foundation-Feature.jpg
END:VEVENT
BEGIN:VEVENT
DTSTART;TZID=America/New_York:20250506T160000
DTEND;TZID=America/New_York:20250506T180000
DTSTAMP:20260426T000352
CREATED:20230319T131538Z
LAST-MODIFIED:20250317T143613Z
UID:10010356-1746547200-1746554400@thepinestimes.com
SUMMARY:Village Heritage Foundation: Spring Garden Party
DESCRIPTION:The Village Heritage Foundation is hosting their 3rd annual Spring Garden Party on Tuesday\, May 6th\, 4pm-6pm. Join and celebrate spring in the spacious Village Arboretum at Timmel Pavilion in the Village Arboretum\, Pinehurst. Refreshments\, wine and hors d’oeuvres and floral embellishments are enhanced by guests’ colorful spring attire. The Village Arboretum allows visitors to share\, discover and enjoy nature’s seasonal beauty. The 35-acre park embraces six garden destinations\, including the tranquil Woodland Garden adjacent to Village Hall and Joyce’s Meadow. The cost is $30. In the event of rain\, the party will be held at the Fair Barn\, Pinehurst. \n“The Village Heritage Foundation is a private nonprofit 501(c)3 foundation in Pinehurst. Its mission is to promote the preservation\, restoration\, enhancement\, and maintenance of the unique character of the historic Village of Pinehurst.” Donations to the Arboretum may be made to the Village Heritage Foundation. For full details and ticket purchases\, follow the link provided below.
URL:https://thepinestimes.com/event/spring-garden-party/
LOCATION:The Village Arboretum\, 395 Magnolia Rd\, Pinehurst\, NC\, United States
CATEGORIES:Adults,Exhibits,Fair/Festival,Family,Hobby/Enthusiast,Live Entertainment,Nature/Outdoors,Pinehurst Events,Senior,Social
ATTACH;FMTTYPE=image/jpeg:https://thepinestimes.com/wp-content/uploads/Village-Heritage-Foundation-Feature.jpg
END:VEVENT
END:VCALENDAR