BEGIN:VCALENDAR
VERSION:2.0
PRODID:-//The Pines Times - ECPv6.15.20//NONSGML v1.0//EN
CALSCALE:GREGORIAN
METHOD:PUBLISH
X-ORIGINAL-URL:https://thepinestimes.com
X-WR-CALDESC:Events for The Pines Times
REFRESH-INTERVAL;VALUE=DURATION:PT1H
X-Robots-Tag:noindex
X-PUBLISHED-TTL:PT1H
BEGIN:VTIMEZONE
TZID:America/New_York
BEGIN:DAYLIGHT
TZOFFSETFROM:-0500
TZOFFSETTO:-0400
TZNAME:EDT
DTSTART:20240310T070000
END:DAYLIGHT
BEGIN:STANDARD
TZOFFSETFROM:-0400
TZOFFSETTO:-0500
TZNAME:EST
DTSTART:20241103T060000
END:STANDARD
BEGIN:DAYLIGHT
TZOFFSETFROM:-0500
TZOFFSETTO:-0400
TZNAME:EDT
DTSTART:20250309T070000
END:DAYLIGHT
BEGIN:STANDARD
TZOFFSETFROM:-0400
TZOFFSETTO:-0500
TZNAME:EST
DTSTART:20251102T060000
END:STANDARD
BEGIN:DAYLIGHT
TZOFFSETFROM:-0500
TZOFFSETTO:-0400
TZNAME:EDT
DTSTART:20260308T070000
END:DAYLIGHT
BEGIN:STANDARD
TZOFFSETFROM:-0400
TZOFFSETTO:-0500
TZNAME:EST
DTSTART:20261101T060000
END:STANDARD
BEGIN:DAYLIGHT
TZOFFSETFROM:-0500
TZOFFSETTO:-0400
TZNAME:EDT
DTSTART:20270314T070000
END:DAYLIGHT
BEGIN:STANDARD
TZOFFSETFROM:-0400
TZOFFSETTO:-0500
TZNAME:EST
DTSTART:20271107T060000
END:STANDARD
END:VTIMEZONE
BEGIN:VEVENT
DTSTART;TZID=America/New_York:20260112T150000
DTEND;TZID=America/New_York:20260112T163000
DTSTAMP:20260425T145302
CREATED:20260110T134239Z
LAST-MODIFIED:20260110T134455Z
UID:10079202-1768230000-1768235400@thepinestimes.com
SUMMARY:Mom and Toddler Playdate
DESCRIPTION:VirtoKids is hosting a special to a donation-based indoor playdate with the MoCo Mom group on Monday\, January 12th from 3:00pm-4:30pm. Families can mix\, mingle\, and let the kids play during the post-nap window. Toddlers\, tinies\, and all families are welcome. Reservations and donations can be made through the event website link provided below. \n \n 
URL:https://thepinestimes.com/event/mom-and-toddler-playdate/
LOCATION:VirtoKids\, 11 Camelia Way\, Southern Pines\, 28387\, United States
CATEGORIES:Adults,Children,Donation,Educational,Family,Piney's Kids,Piney's Tiny's,Social,Southern Pines Events,Women
ATTACH;FMTTYPE=image/jpeg:https://thepinestimes.com/wp-content/uploads/VirtoKidsFeature.jpg
ORGANIZER;CN="VirtoKids":MAILTO:info@VirtoKids.com
END:VEVENT
BEGIN:VEVENT
DTSTART;TZID=America/New_York:20251213T170000
DTEND;TZID=America/New_York:20251213T190000
DTSTAMP:20260425T145302
CREATED:20251121T133832Z
LAST-MODIFIED:20251121T133832Z
UID:10075478-1765645200-1765652400@thepinestimes.com
SUMMARY:Holiday Dough & Pajamas (Ages 2.5-10)
DESCRIPTION:VirtoKids in Southern Pines is having a Holiday Dough & Pajamas event for kiddos\, ages 2.5-10 years\, on Saturday\, December 13th from 5:00pm-7:00pm! Children will enjoy cookie painting\, festive tunes\, and cozy pajama vibes all around! Yes\, there will be food in the space. The cost is $30\, and spots are limited. Full details and online registration can be found through the event website link provided below. \n 
URL:https://thepinestimes.com/event/holiday-dough-pajamas-ages-2-5-10/
LOCATION:VirtoKids\, 11 Camelia Way\, Southern Pines\, 28387\, United States
CATEGORIES:Children,Christmas,Crafts,Educational,Food,Games,Holiday Events,Piney's Kids,Piney's Tiny's,Social,Southern Pines Events
ATTACH;FMTTYPE=image/jpeg:https://thepinestimes.com/wp-content/uploads/VirtoKidsFeature.jpg
ORGANIZER;CN="VirtoKids":MAILTO:info@VirtoKids.com
END:VEVENT
END:VCALENDAR