BEGIN:VCALENDAR
VERSION:2.0
PRODID:-//The Pines Times - ECPv6.15.20//NONSGML v1.0//EN
CALSCALE:GREGORIAN
METHOD:PUBLISH
X-ORIGINAL-URL:https://thepinestimes.com
X-WR-CALDESC:Events for The Pines Times
REFRESH-INTERVAL;VALUE=DURATION:PT1H
X-Robots-Tag:noindex
X-PUBLISHED-TTL:PT1H
BEGIN:VTIMEZONE
TZID:America/New_York
BEGIN:DAYLIGHT
TZOFFSETFROM:-0500
TZOFFSETTO:-0400
TZNAME:EDT
DTSTART:20250309T070000
END:DAYLIGHT
BEGIN:STANDARD
TZOFFSETFROM:-0400
TZOFFSETTO:-0500
TZNAME:EST
DTSTART:20251102T060000
END:STANDARD
BEGIN:DAYLIGHT
TZOFFSETFROM:-0500
TZOFFSETTO:-0400
TZNAME:EDT
DTSTART:20260308T070000
END:DAYLIGHT
BEGIN:STANDARD
TZOFFSETFROM:-0400
TZOFFSETTO:-0500
TZNAME:EST
DTSTART:20261101T060000
END:STANDARD
BEGIN:DAYLIGHT
TZOFFSETFROM:-0500
TZOFFSETTO:-0400
TZNAME:EDT
DTSTART:20270314T070000
END:DAYLIGHT
BEGIN:STANDARD
TZOFFSETFROM:-0400
TZOFFSETTO:-0500
TZNAME:EST
DTSTART:20271107T060000
END:STANDARD
END:VTIMEZONE
BEGIN:VEVENT
DTSTART;TZID=America/New_York:20260424T190000
DTEND;TZID=America/New_York:20260424T220000
DTSTAMP:20260424T182205
CREATED:20260404T224033Z
LAST-MODIFIED:20260404T224033Z
UID:10086139-1777057200-1777068000@thepinestimes.com
SUMMARY:Live Music: Only Human
DESCRIPTION:Come out to Wana Navu Kava Bar in Sanford and enjoy the live music! Join every Friday from 7pm-10pm for live music\, kava and great vibes! Only Human is performing this Friday.
URL:https://thepinestimes.com/event/live-music-only-human-2/
LOCATION:Wana Navu Kava Bar Sanford\, 200 South Horner Blvd.\, Sanford\, 27330\, United States
CATEGORIES:Adults,Hobby/Enthusiast,Live Music,Music,Night Life,Sanford Events,Social
ATTACH;FMTTYPE=image/jpeg:https://thepinestimes.com/wp-content/uploads/LiveMusicFeature.jpg
ORGANIZER;CN="Wana Navu Kava Bar Sanford":MAILTO:info@wananavukava.com
END:VEVENT
END:VCALENDAR