BEGIN:VCALENDAR
VERSION:2.0
PRODID:-//The Pines Times - ECPv6.15.20//NONSGML v1.0//EN
CALSCALE:GREGORIAN
METHOD:PUBLISH
X-ORIGINAL-URL:https://thepinestimes.com
X-WR-CALDESC:Events for The Pines Times
REFRESH-INTERVAL;VALUE=DURATION:PT1H
X-Robots-Tag:noindex
X-PUBLISHED-TTL:PT1H
BEGIN:VTIMEZONE
TZID:America/New_York
BEGIN:DAYLIGHT
TZOFFSETFROM:-0500
TZOFFSETTO:-0400
TZNAME:EDT
DTSTART:20250309T070000
END:DAYLIGHT
BEGIN:STANDARD
TZOFFSETFROM:-0400
TZOFFSETTO:-0500
TZNAME:EST
DTSTART:20251102T060000
END:STANDARD
BEGIN:DAYLIGHT
TZOFFSETFROM:-0500
TZOFFSETTO:-0400
TZNAME:EDT
DTSTART:20260308T070000
END:DAYLIGHT
BEGIN:STANDARD
TZOFFSETFROM:-0400
TZOFFSETTO:-0500
TZNAME:EST
DTSTART:20261101T060000
END:STANDARD
BEGIN:DAYLIGHT
TZOFFSETFROM:-0500
TZOFFSETTO:-0400
TZNAME:EDT
DTSTART:20270314T070000
END:DAYLIGHT
BEGIN:STANDARD
TZOFFSETFROM:-0400
TZOFFSETTO:-0500
TZNAME:EST
DTSTART:20271107T060000
END:STANDARD
END:VTIMEZONE
BEGIN:VEVENT
DTSTART;TZID=America/New_York:20260502T110000
DTEND;TZID=America/New_York:20260502T170000
DTSTAMP:20260422T194502
CREATED:20250414T123014Z
LAST-MODIFIED:20260419T135247Z
UID:10056620-1777719600-1777741200@thepinestimes.com
SUMMARY:Westmoore Heritage Day 2026
DESCRIPTION:Join for a multi-generational celebration and reunion of students\, alumni\, staff and the community at the Westmoore Heritage Day 2026 on Saturday\, May 2nd at Westmoore Elementary School! It’s a community reunion and celebration of all things Westmoore. Annual multi-generational celebration and reunion of students\, alumni\, staff\, and community! Come out and celebrate our common bond together. This event celebrates the rich cultural traditions of the Westmoore community. Attendees can look forward to a day filled with food\, friendly competition and community. Enjoy the 3rd Annual Baking Contest and the Student vs. Alumni Dodgeball Tournament. For additional information\, follow the event website link provided below.
URL:https://thepinestimes.com/event/westmoore-heritage-day-2026/
LOCATION:Westmoore Elementary School\, 2159 S. NC Highway 705\, Seagrove\, 27341\, United States
CATEGORIES:Adults,Children,Family,Food,Games,Historical,Live Entertainment,Seagrove,Senior,Social,Vendors
ATTACH;FMTTYPE=image/jpeg:https://thepinestimes.com/wp-content/uploads/WestmooreHeritageDayFeature.jpg
ORGANIZER;CN="Westmoore Heritage":MAILTO:cpierce@ncmcs.org
END:VEVENT
END:VCALENDAR