BEGIN:VCALENDAR
VERSION:2.0
PRODID:-//The Pines Times - ECPv6.15.20//NONSGML v1.0//EN
CALSCALE:GREGORIAN
METHOD:PUBLISH
X-ORIGINAL-URL:https://thepinestimes.com
X-WR-CALDESC:Events for The Pines Times
REFRESH-INTERVAL;VALUE=DURATION:PT1H
X-Robots-Tag:noindex
X-PUBLISHED-TTL:PT1H
BEGIN:VTIMEZONE
TZID:America/New_York
BEGIN:DAYLIGHT
TZOFFSETFROM:-0500
TZOFFSETTO:-0400
TZNAME:EDT
DTSTART:20240310T070000
END:DAYLIGHT
BEGIN:STANDARD
TZOFFSETFROM:-0400
TZOFFSETTO:-0500
TZNAME:EST
DTSTART:20241103T060000
END:STANDARD
BEGIN:DAYLIGHT
TZOFFSETFROM:-0500
TZOFFSETTO:-0400
TZNAME:EDT
DTSTART:20250309T070000
END:DAYLIGHT
BEGIN:STANDARD
TZOFFSETFROM:-0400
TZOFFSETTO:-0500
TZNAME:EST
DTSTART:20251102T060000
END:STANDARD
BEGIN:DAYLIGHT
TZOFFSETFROM:-0500
TZOFFSETTO:-0400
TZNAME:EDT
DTSTART:20260308T070000
END:DAYLIGHT
BEGIN:STANDARD
TZOFFSETFROM:-0400
TZOFFSETTO:-0500
TZNAME:EST
DTSTART:20261101T060000
END:STANDARD
BEGIN:DAYLIGHT
TZOFFSETFROM:-0500
TZOFFSETTO:-0400
TZNAME:EDT
DTSTART:20270314T070000
END:DAYLIGHT
BEGIN:STANDARD
TZOFFSETFROM:-0400
TZOFFSETTO:-0500
TZNAME:EST
DTSTART:20271107T060000
END:STANDARD
END:VTIMEZONE
BEGIN:VEVENT
DTSTART;TZID=America/New_York:20260331T163000
DTEND;TZID=America/New_York:20260331T183000
DTSTAMP:20260421T063958
CREATED:20260224T150316Z
LAST-MODIFIED:20260228T145424Z
UID:10081523-1774974600-1774981800@thepinestimes.com
SUMMARY:Teen Art Club (Ages 13-17)
DESCRIPTION:Unleash your creativity at our Teen Art Club! Designed for teens ages 13-17\, this welcoming club meets every Tuesday afternoon and invites young artists to explore\, experiment\, and express themselves in a supportive\, judgment-free environment. Whether you enjoy painting\, drawing\, collage\, sculpture\, or mixed-media design\, you’ll have the freedom to try new techniques and develop your unique artistic voice. \nEvery Month\, Teen Art Club artists will have the exciting opportunity to display their artwork in the studio windows at Wine & Design\, celebrating their creativity and sharing their artistic voice with the community! \nCome as you are\, bring your imagination\, and let your creativity shine! \nDay passes are $40. Every Tuesday session includes: All materials\, Priority seating / reserved spot\, Occasional bonus mediums or specialty projects. Full details and registration through the event website link provided below. \n \n 
URL:https://thepinestimes.com/event/teen-art-club-ages-13-17/2026-03-31/
LOCATION:Wine & Design Southern Pines\, 220 W Pennsylvania Ave.\, Southern Pines\, NC\, 28387\, United States
CATEGORIES:Art/Craft Workshops,Arts,Crafts,Hobby/Enthusiast,Social,Southern Pines Events,Teen Activities
ATTACH;FMTTYPE=image/jpeg:https://thepinestimes.com/wp-content/uploads/ArtCraftWorkshopFeature.jpg
ORGANIZER;CN="Wine & Design Southern Pines":MAILTO:southernpines@wineanddesign.com
END:VEVENT
BEGIN:VEVENT
DTSTART;TZID=America/New_York:20260324T163000
DTEND;TZID=America/New_York:20260324T183000
DTSTAMP:20260421T063958
CREATED:20260224T150316Z
LAST-MODIFIED:20260228T145424Z
UID:10081522-1774369800-1774377000@thepinestimes.com
SUMMARY:Teen Art Club (Ages 13-17)
DESCRIPTION:Unleash your creativity at our Teen Art Club! Designed for teens ages 13-17\, this welcoming club meets every Tuesday afternoon and invites young artists to explore\, experiment\, and express themselves in a supportive\, judgment-free environment. Whether you enjoy painting\, drawing\, collage\, sculpture\, or mixed-media design\, you’ll have the freedom to try new techniques and develop your unique artistic voice. \nEvery Month\, Teen Art Club artists will have the exciting opportunity to display their artwork in the studio windows at Wine & Design\, celebrating their creativity and sharing their artistic voice with the community! \nCome as you are\, bring your imagination\, and let your creativity shine! \nDay passes are $40. Every Tuesday session includes: All materials\, Priority seating / reserved spot\, Occasional bonus mediums or specialty projects. Full details and registration through the event website link provided below. \n \n 
URL:https://thepinestimes.com/event/teen-art-club-ages-13-17/2026-03-24/
LOCATION:Wine & Design Southern Pines\, 220 W Pennsylvania Ave.\, Southern Pines\, NC\, 28387\, United States
CATEGORIES:Art/Craft Workshops,Arts,Crafts,Hobby/Enthusiast,Social,Southern Pines Events,Teen Activities
ATTACH;FMTTYPE=image/jpeg:https://thepinestimes.com/wp-content/uploads/ArtCraftWorkshopFeature.jpg
ORGANIZER;CN="Wine & Design Southern Pines":MAILTO:southernpines@wineanddesign.com
END:VEVENT
BEGIN:VEVENT
DTSTART;TZID=America/New_York:20260317T163000
DTEND;TZID=America/New_York:20260317T183000
DTSTAMP:20260421T063958
CREATED:20260224T150316Z
LAST-MODIFIED:20260228T145424Z
UID:10081521-1773765000-1773772200@thepinestimes.com
SUMMARY:Teen Art Club (Ages 13-17)
DESCRIPTION:Unleash your creativity at our Teen Art Club! Designed for teens ages 13-17\, this welcoming club meets every Tuesday afternoon and invites young artists to explore\, experiment\, and express themselves in a supportive\, judgment-free environment. Whether you enjoy painting\, drawing\, collage\, sculpture\, or mixed-media design\, you’ll have the freedom to try new techniques and develop your unique artistic voice. \nEvery Month\, Teen Art Club artists will have the exciting opportunity to display their artwork in the studio windows at Wine & Design\, celebrating their creativity and sharing their artistic voice with the community! \nCome as you are\, bring your imagination\, and let your creativity shine! \nDay passes are $40. Every Tuesday session includes: All materials\, Priority seating / reserved spot\, Occasional bonus mediums or specialty projects. Full details and registration through the event website link provided below. \n \n 
URL:https://thepinestimes.com/event/teen-art-club-ages-13-17/2026-03-17/
LOCATION:Wine & Design Southern Pines\, 220 W Pennsylvania Ave.\, Southern Pines\, NC\, 28387\, United States
CATEGORIES:Art/Craft Workshops,Arts,Crafts,Hobby/Enthusiast,Social,Southern Pines Events,Teen Activities
ATTACH;FMTTYPE=image/jpeg:https://thepinestimes.com/wp-content/uploads/ArtCraftWorkshopFeature.jpg
ORGANIZER;CN="Wine & Design Southern Pines":MAILTO:southernpines@wineanddesign.com
END:VEVENT
BEGIN:VEVENT
DTSTART;TZID=America/New_York:20260310T163000
DTEND;TZID=America/New_York:20260310T183000
DTSTAMP:20260421T063958
CREATED:20260224T150316Z
LAST-MODIFIED:20260228T145424Z
UID:10081520-1773160200-1773167400@thepinestimes.com
SUMMARY:Teen Art Club (Ages 13-17)
DESCRIPTION:Unleash your creativity at our Teen Art Club! Designed for teens ages 13-17\, this welcoming club meets every Tuesday afternoon and invites young artists to explore\, experiment\, and express themselves in a supportive\, judgment-free environment. Whether you enjoy painting\, drawing\, collage\, sculpture\, or mixed-media design\, you’ll have the freedom to try new techniques and develop your unique artistic voice. \nEvery Month\, Teen Art Club artists will have the exciting opportunity to display their artwork in the studio windows at Wine & Design\, celebrating their creativity and sharing their artistic voice with the community! \nCome as you are\, bring your imagination\, and let your creativity shine! \nDay passes are $40. Every Tuesday session includes: All materials\, Priority seating / reserved spot\, Occasional bonus mediums or specialty projects. Full details and registration through the event website link provided below. \n \n 
URL:https://thepinestimes.com/event/teen-art-club-ages-13-17/2026-03-10/
LOCATION:Wine & Design Southern Pines\, 220 W Pennsylvania Ave.\, Southern Pines\, NC\, 28387\, United States
CATEGORIES:Art/Craft Workshops,Arts,Crafts,Hobby/Enthusiast,Social,Southern Pines Events,Teen Activities
ATTACH;FMTTYPE=image/jpeg:https://thepinestimes.com/wp-content/uploads/ArtCraftWorkshopFeature.jpg
ORGANIZER;CN="Wine & Design Southern Pines":MAILTO:southernpines@wineanddesign.com
END:VEVENT
BEGIN:VEVENT
DTSTART;TZID=America/New_York:20260303T163000
DTEND;TZID=America/New_York:20260303T183000
DTSTAMP:20260421T063958
CREATED:20260224T150316Z
LAST-MODIFIED:20260228T145424Z
UID:10081519-1772555400-1772562600@thepinestimes.com
SUMMARY:Teen Art Club (Ages 13-17)
DESCRIPTION:Unleash your creativity at our Teen Art Club! Designed for teens ages 13-17\, this welcoming club meets every Tuesday afternoon and invites young artists to explore\, experiment\, and express themselves in a supportive\, judgment-free environment. Whether you enjoy painting\, drawing\, collage\, sculpture\, or mixed-media design\, you’ll have the freedom to try new techniques and develop your unique artistic voice. \nEvery Month\, Teen Art Club artists will have the exciting opportunity to display their artwork in the studio windows at Wine & Design\, celebrating their creativity and sharing their artistic voice with the community! \nCome as you are\, bring your imagination\, and let your creativity shine! \nDay passes are $40. Every Tuesday session includes: All materials\, Priority seating / reserved spot\, Occasional bonus mediums or specialty projects. Full details and registration through the event website link provided below. \n \n 
URL:https://thepinestimes.com/event/teen-art-club-ages-13-17/2026-03-03/
LOCATION:Wine & Design Southern Pines\, 220 W Pennsylvania Ave.\, Southern Pines\, NC\, 28387\, United States
CATEGORIES:Art/Craft Workshops,Arts,Crafts,Hobby/Enthusiast,Social,Southern Pines Events,Teen Activities
ATTACH;FMTTYPE=image/jpeg:https://thepinestimes.com/wp-content/uploads/ArtCraftWorkshopFeature.jpg
ORGANIZER;CN="Wine & Design Southern Pines":MAILTO:southernpines@wineanddesign.com
END:VEVENT
BEGIN:VEVENT
DTSTART;TZID=America/New_York:20260215T153000
DTEND;TZID=America/New_York:20260215T173000
DTSTAMP:20260421T063958
CREATED:20250425T140712Z
LAST-MODIFIED:20260112T211154Z
UID:10079316-1771169400-1771176600@thepinestimes.com
SUMMARY:Paint & Play with Baby Kangaroos
DESCRIPTION:Paint & Play with Baby Kangaroos at Wine & Design in Southern Pines on Sunday\, February 15th! Get ready for the most adorable painting event yet\, a special Paint & Play with Baby Kangaroos experience. Create a fun\, guided painting while enjoying cuddles\, photo ops and playtime with real baby kangaroos. Paint a NEW fun\, 11×14 guided masterpiece AND get up-close cuddles and playtime with real baby kangaroos! \nChoose from two class times: 1:00pm-3:00pm or 3:30pm–5:30pm. Open to ages 8 and up (children under 8 must be accompanied by a ticketed adult). BYO drinks and snacks. \nAdvance tickets are required\, and space is limited. The cost is $70 per person. Full details and online reservations can be found through the event website link provided below. \n 
URL:https://thepinestimes.com/event/paint-play-with-baby-kangaroos/2026-02-15/2/
LOCATION:Wine & Design Southern Pines\, 220 W Pennsylvania Ave.\, Southern Pines\, NC\, 28387\, United States
CATEGORIES:Adults,Art/Photography,Children,Crafts,Educational,Family,Hobby/Enthusiast,Pets/Animals,Senior,Social,Southern Pines Events
ATTACH;FMTTYPE=image/jpeg:https://thepinestimes.com/wp-content/uploads/WineDesignFeature-1.jpg
ORGANIZER;CN="Wine & Design Southern Pines":MAILTO:southernpines@wineanddesign.com
END:VEVENT
BEGIN:VEVENT
DTSTART;TZID=America/New_York:20260215T130000
DTEND;TZID=America/New_York:20260215T150000
DTSTAMP:20260421T063958
CREATED:20250425T140712Z
LAST-MODIFIED:20260112T211154Z
UID:10079315-1771160400-1771167600@thepinestimes.com
SUMMARY:Paint & Play with Baby Kangaroos
DESCRIPTION:Paint & Play with Baby Kangaroos at Wine & Design in Southern Pines on Sunday\, February 15th! Get ready for the most adorable painting event yet\, a special Paint & Play with Baby Kangaroos experience. Create a fun\, guided painting while enjoying cuddles\, photo ops and playtime with real baby kangaroos. Paint a NEW fun\, 11×14 guided masterpiece AND get up-close cuddles and playtime with real baby kangaroos! \nChoose from two class times: 1:00pm-3:00pm or 3:30pm–5:30pm. Open to ages 8 and up (children under 8 must be accompanied by a ticketed adult). BYO drinks and snacks. \nAdvance tickets are required\, and space is limited. The cost is $70 per person. Full details and online reservations can be found through the event website link provided below. \n 
URL:https://thepinestimes.com/event/paint-play-with-baby-kangaroos/2026-02-15/1/
LOCATION:Wine & Design Southern Pines\, 220 W Pennsylvania Ave.\, Southern Pines\, NC\, 28387\, United States
CATEGORIES:Adults,Art/Photography,Children,Crafts,Educational,Family,Hobby/Enthusiast,Pets/Animals,Senior,Social,Southern Pines Events
ATTACH;FMTTYPE=image/jpeg:https://thepinestimes.com/wp-content/uploads/WineDesignFeature-1.jpg
ORGANIZER;CN="Wine & Design Southern Pines":MAILTO:southernpines@wineanddesign.com
END:VEVENT
BEGIN:VEVENT
DTSTART;TZID=America/New_York:20260213T180000
DTEND;TZID=America/New_York:20260213T200000
DTSTAMP:20260421T063958
CREATED:20260125T150144Z
LAST-MODIFIED:20260125T172727Z
UID:10080008-1771005600-1771012800@thepinestimes.com
SUMMARY:Galentine's Cheers to the Girls
DESCRIPTION:Get your art buzz on at Wine & Design in Southern Pines! Join for a special Galentine’s Cheers to the Girls paint night on Friday\, February 13th from 6pm-8pm. Full details can be found through the event link provided below.
URL:https://thepinestimes.com/event/galentines-cheers-to-the-girls/
LOCATION:Wine & Design Southern Pines\, 220 W Pennsylvania Ave.\, Southern Pines\, NC\, 28387\, United States
CATEGORIES:Adults,Art/Craft Workshops,Art/Photography,Crafts,Hobby/Enthusiast,Valentine's Day,Women,Young Adults
ATTACH;FMTTYPE=image/jpeg:https://thepinestimes.com/wp-content/uploads/SipAndPaintFeature.jpg
ORGANIZER;CN="Wine & Design Southern Pines":MAILTO:southernpines@wineanddesign.com
END:VEVENT
BEGIN:VEVENT
DTSTART;TZID=America/New_York:20251018T120000
DTEND;TZID=America/New_York:20251018T140000
DTSTAMP:20260421T063958
CREATED:20240615T165226Z
LAST-MODIFIED:20251229T225041Z
UID:10058924-1760788800-1760796000@thepinestimes.com
SUMMARY:Art Buzz Kids-Star Gazing
DESCRIPTION:Turn Your Peanut into a Picasso with Wine & Design’s Art Buzz Kid on Wednesday\, December 31st at 12:00pm! Kids ages 5 and up can create art with a Star Gazing theme. Adults are welcome to join the fun or drop off their kids for the two-hour class. Arrive 10 minutes early for check-in\, and don’t forget to dress for a mess! The cost is $38. For full details and registration\, follow the website event link provided below. \n \n  \n  \n 
URL:https://thepinestimes.com/event/art-buzz-kids-star-gazing/
LOCATION:Wine & Design Southern Pines\, 220 W Pennsylvania Ave.\, Southern Pines\, NC\, 28387\, United States
CATEGORIES:Art/Photography,Children,Crafts,Educational,Family,Hobby/Enthusiast,Piney's Kids,Social,Southern Pines Events
ATTACH;FMTTYPE=image/jpeg:https://thepinestimes.com/wp-content/uploads/ArtBuzzKidsFeature.jpg
ORGANIZER;CN="Wine & Design Southern Pines":MAILTO:southernpines@wineanddesign.com
END:VEVENT
END:VCALENDAR