BEGIN:VCALENDAR
VERSION:2.0
PRODID:-//The Pines Times - ECPv6.15.20//NONSGML v1.0//EN
CALSCALE:GREGORIAN
METHOD:PUBLISH
X-WR-CALNAME:The Pines Times
X-ORIGINAL-URL:https://thepinestimes.com
X-WR-CALDESC:Events for The Pines Times
REFRESH-INTERVAL;VALUE=DURATION:PT1H
X-Robots-Tag:noindex
X-PUBLISHED-TTL:PT1H
BEGIN:VTIMEZONE
TZID:America/New_York
BEGIN:DAYLIGHT
TZOFFSETFROM:-0500
TZOFFSETTO:-0400
TZNAME:EDT
DTSTART:20240310T070000
END:DAYLIGHT
BEGIN:STANDARD
TZOFFSETFROM:-0400
TZOFFSETTO:-0500
TZNAME:EST
DTSTART:20241103T060000
END:STANDARD
BEGIN:DAYLIGHT
TZOFFSETFROM:-0500
TZOFFSETTO:-0400
TZNAME:EDT
DTSTART:20250309T070000
END:DAYLIGHT
BEGIN:STANDARD
TZOFFSETFROM:-0400
TZOFFSETTO:-0500
TZNAME:EST
DTSTART:20251102T060000
END:STANDARD
BEGIN:DAYLIGHT
TZOFFSETFROM:-0500
TZOFFSETTO:-0400
TZNAME:EDT
DTSTART:20260308T070000
END:DAYLIGHT
BEGIN:STANDARD
TZOFFSETFROM:-0400
TZOFFSETTO:-0500
TZNAME:EST
DTSTART:20261101T060000
END:STANDARD
END:VTIMEZONE
BEGIN:VEVENT
DTSTART;TZID=America/New_York:20250926T200000
DTEND;TZID=America/New_York:20250926T200000
DTSTAMP:20260423T114345
CREATED:20250921T201100Z
LAST-MODIFIED:20250921T201100Z
UID:10070067-1758916800-1758916800@thepinestimes.com
SUMMARY:Comedy at the Nest
DESCRIPTION:Get ready for a On Friday\, September 26th\, come out for a comedy show at 1910 Wine Nest hosted by Reggie Massey\, featuring hilarious performances by Comedian Snow and Jak-Jak. Doors open at 7:00pm\, with the show starting at 8:00pm. Admission starts at $10 per person\, and tables are available for an additional fee. Secure your tickets through the QR code on the flyer or call 910-407-3368 for table reservations.
URL:https://thepinestimes.com/event/comedy-at-the-nest/
LOCATION:1910 Wine Nest\, 223 Flagstone Lane\, Raeford\, 28376\, United States
CATEGORIES:Adult Connections,Adults,Beer and Wine,Comedy,Hobby/Enthusiast,Live Entertainment,Out of Town,Raeford Events
ATTACH;FMTTYPE=image/jpeg:https://thepinestimes.com/wp-content/uploads/1910WineNestFlyer-1.jpg
ORGANIZER;CN="1910 Wine Nest":MAILTO:1910winenest@gmail.com
END:VEVENT
BEGIN:VEVENT
DTSTART;TZID=America/New_York:20250911T183000
DTEND;TZID=America/New_York:20250911T183000
DTSTAMP:20260423T114345
CREATED:20250909T132906Z
LAST-MODIFIED:20250909T132906Z
UID:10068594-1757615400-1757615400@thepinestimes.com
SUMMARY:W-I-N-G-O
DESCRIPTION:Come out to 1910 Wine Nest in Raeford for W-I-N-G-O! It’s not your grandma’s bingo\, it’s WINGO at 1910 Wine Nest! Hype & Energetic. Drinks flowing. Music vibing. Prizes waiting. Pull up tonight and let’s see who takes the crown Sip. Play. Win. Repeat. For more information and to rsvp\, call 910-407-3368.
URL:https://thepinestimes.com/event/w-i-n-g-o/
LOCATION:1910 Wine Nest\, 223 Flagstone Lane\, Raeford\, 28376\, United States
CATEGORIES:Adult Connections,Adults,Beer and Wine,Food,Games,Hobby/Enthusiast,Music,Night Life,Out of Town,Raeford Events,Social
ATTACH;FMTTYPE=image/png:https://thepinestimes.com/wp-content/uploads/Music-Bingo.png
ORGANIZER;CN="1910 Wine Nest":MAILTO:1910winenest@gmail.com
END:VEVENT
BEGIN:VEVENT
DTSTART;TZID=America/New_York:20250909T193000
DTEND;TZID=America/New_York:20250909T200000
DTSTAMP:20260423T114345
CREATED:20250909T132124Z
LAST-MODIFIED:20250909T132124Z
UID:10068593-1757446200-1757448000@thepinestimes.com
SUMMARY:Line Dance Class
DESCRIPTION:Come out to 1910 Wine Nest in Raeford for a Line Dance Class with the GWV Steppers! Wine down and step up. The cost is $8. For more information and to rsvp\, call 910-407-3368.
URL:https://thepinestimes.com/event/line-dance-class/
LOCATION:1910 Wine Nest\, 223 Flagstone Lane\, Raeford\, 28376\, United States
CATEGORIES:Adults,Beer and Wine,Dance,Hobby/Enthusiast,Music,Out of Town,Raeford Events,Social
ATTACH;FMTTYPE=image/png:https://thepinestimes.com/wp-content/uploads/Dancing-in-the-Pines-e1755370461830.png
ORGANIZER;CN="1910 Wine Nest":MAILTO:1910winenest@gmail.com
END:VEVENT
END:VCALENDAR