BEGIN:VCALENDAR
VERSION:2.0
PRODID:-//The Pines Times - ECPv6.15.20//NONSGML v1.0//EN
CALSCALE:GREGORIAN
METHOD:PUBLISH
X-WR-CALNAME:The Pines Times
X-ORIGINAL-URL:https://thepinestimes.com
X-WR-CALDESC:Events for The Pines Times
REFRESH-INTERVAL;VALUE=DURATION:PT1H
X-Robots-Tag:noindex
X-PUBLISHED-TTL:PT1H
BEGIN:VTIMEZONE
TZID:America/New_York
BEGIN:DAYLIGHT
TZOFFSETFROM:-0500
TZOFFSETTO:-0400
TZNAME:EDT
DTSTART:20250309T070000
END:DAYLIGHT
BEGIN:STANDARD
TZOFFSETFROM:-0400
TZOFFSETTO:-0500
TZNAME:EST
DTSTART:20251102T060000
END:STANDARD
BEGIN:DAYLIGHT
TZOFFSETFROM:-0500
TZOFFSETTO:-0400
TZNAME:EDT
DTSTART:20260308T070000
END:DAYLIGHT
BEGIN:STANDARD
TZOFFSETFROM:-0400
TZOFFSETTO:-0500
TZNAME:EST
DTSTART:20261101T060000
END:STANDARD
BEGIN:DAYLIGHT
TZOFFSETFROM:-0500
TZOFFSETTO:-0400
TZNAME:EDT
DTSTART:20270314T070000
END:DAYLIGHT
BEGIN:STANDARD
TZOFFSETFROM:-0400
TZOFFSETTO:-0500
TZNAME:EST
DTSTART:20271107T060000
END:STANDARD
END:VTIMEZONE
BEGIN:VEVENT
DTSTART;TZID=America/New_York:20260330T190000
DTEND;TZID=America/New_York:20260330T220000
DTSTAMP:20260422T071523
CREATED:20251030T164304Z
LAST-MODIFIED:20260330T174019Z
UID:10085770-1774897200-1774908000@thepinestimes.com
SUMMARY:Monday Poker Night
DESCRIPTION:715 Bar & Grill hosts a Poker Night every Monday at 7:00pm until done! Call 910-695-7077 for additional information.
URL:https://thepinestimes.com/event/monday-poker-night/2026-03-30/
LOCATION:715 Bar & Grill\, 715 SW Broad St\, Southern Pines\, NC\, 28387\, United States
CATEGORIES:Adults,Games,Hobby/Enthusiast,Night Life,Senior,Social,Southern Pines Events
ATTACH;FMTTYPE=image/jpeg:https://thepinestimes.com/wp-content/uploads/715BarFeature.jpg
END:VEVENT
BEGIN:VEVENT
DTSTART;TZID=America/New_York:20260326T190000
DTEND;TZID=America/New_York:20260326T190000
DTSTAMP:20260422T071523
CREATED:20230322T132144Z
LAST-MODIFIED:20260306T161007Z
UID:10082459-1774551600-1774551600@thepinestimes.com
SUMMARY:Thursday Music Bingo
DESCRIPTION:Come out to 715 Bar & Grill for Top Shelf Trivia Music Bingo! The fun takes place each Thursday 7pm-9pm.
URL:https://thepinestimes.com/event/715-bar-grill-music-bingo/2026-03-26/
LOCATION:715 Bar & Grill\, 715 SW Broad St\, Southern Pines\, NC\, 28387\, United States
CATEGORIES:Adult Connections,Adults,Games,Hobby/Enthusiast,Night Life,Pines Connector,Senior,Social,Southern Pines Events
ATTACH;FMTTYPE=image/png:https://thepinestimes.com/wp-content/uploads/Music-Bingo.png
END:VEVENT
BEGIN:VEVENT
DTSTART;TZID=America/New_York:20260325T200000
DTEND;TZID=America/New_York:20260325T230000
DTSTAMP:20260422T071523
CREATED:20230127T133549Z
LAST-MODIFIED:20260306T161134Z
UID:10082501-1774468800-1774479600@thepinestimes.com
SUMMARY:Karaoke Wednesday
DESCRIPTION:Come out for KJ’s Karaoke each Wednesday at 715 Bar & Grill from 8:00pm-11:00pm!
URL:https://thepinestimes.com/event/karaoke-wednesday-2/2026-03-25/
LOCATION:715 Bar & Grill\, 715 SW Broad St\, Southern Pines\, NC\, 28387\, United States
CATEGORIES:Adults,Beer and Wine,Hobby/Enthusiast,Music,Night Life,Pines Connector,Social,Southern Pines Events
ATTACH;FMTTYPE=image/png:https://thepinestimes.com/wp-content/uploads/Karaoke-e1754409547503.png
END:VEVENT
BEGIN:VEVENT
DTSTART;TZID=America/New_York:20260323T190000
DTEND;TZID=America/New_York:20260323T220000
DTSTAMP:20260422T071523
CREATED:20251030T164304Z
LAST-MODIFIED:20260330T174019Z
UID:10085769-1774292400-1774303200@thepinestimes.com
SUMMARY:Monday Poker Night
DESCRIPTION:715 Bar & Grill hosts a Poker Night every Monday at 7:00pm until done! Call 910-695-7077 for additional information.
URL:https://thepinestimes.com/event/monday-poker-night/2026-03-23/
LOCATION:715 Bar & Grill\, 715 SW Broad St\, Southern Pines\, NC\, 28387\, United States
CATEGORIES:Adults,Games,Hobby/Enthusiast,Night Life,Senior,Social,Southern Pines Events
ATTACH;FMTTYPE=image/jpeg:https://thepinestimes.com/wp-content/uploads/715BarFeature.jpg
END:VEVENT
BEGIN:VEVENT
DTSTART;TZID=America/New_York:20260319T190000
DTEND;TZID=America/New_York:20260319T190000
DTSTAMP:20260422T071523
CREATED:20230322T132144Z
LAST-MODIFIED:20260306T161007Z
UID:10082458-1773946800-1773946800@thepinestimes.com
SUMMARY:Thursday Music Bingo
DESCRIPTION:Come out to 715 Bar & Grill for Top Shelf Trivia Music Bingo! The fun takes place each Thursday 7pm-9pm.
URL:https://thepinestimes.com/event/715-bar-grill-music-bingo/2026-03-19/
LOCATION:715 Bar & Grill\, 715 SW Broad St\, Southern Pines\, NC\, 28387\, United States
CATEGORIES:Adult Connections,Adults,Games,Hobby/Enthusiast,Night Life,Pines Connector,Senior,Social,Southern Pines Events
ATTACH;FMTTYPE=image/png:https://thepinestimes.com/wp-content/uploads/Music-Bingo.png
END:VEVENT
BEGIN:VEVENT
DTSTART;TZID=America/New_York:20260318T200000
DTEND;TZID=America/New_York:20260318T230000
DTSTAMP:20260422T071523
CREATED:20230127T133549Z
LAST-MODIFIED:20260306T161134Z
UID:10082500-1773864000-1773874800@thepinestimes.com
SUMMARY:Karaoke Wednesday
DESCRIPTION:Come out for KJ’s Karaoke each Wednesday at 715 Bar & Grill from 8:00pm-11:00pm!
URL:https://thepinestimes.com/event/karaoke-wednesday-2/2026-03-18/
LOCATION:715 Bar & Grill\, 715 SW Broad St\, Southern Pines\, NC\, 28387\, United States
CATEGORIES:Adults,Beer and Wine,Hobby/Enthusiast,Music,Night Life,Pines Connector,Social,Southern Pines Events
ATTACH;FMTTYPE=image/png:https://thepinestimes.com/wp-content/uploads/Karaoke-e1754409547503.png
END:VEVENT
BEGIN:VEVENT
DTSTART;TZID=America/New_York:20260316T190000
DTEND;TZID=America/New_York:20260316T220000
DTSTAMP:20260422T071523
CREATED:20251030T164304Z
LAST-MODIFIED:20260330T174019Z
UID:10085768-1773687600-1773698400@thepinestimes.com
SUMMARY:Monday Poker Night
DESCRIPTION:715 Bar & Grill hosts a Poker Night every Monday at 7:00pm until done! Call 910-695-7077 for additional information.
URL:https://thepinestimes.com/event/monday-poker-night/2026-03-16/
LOCATION:715 Bar & Grill\, 715 SW Broad St\, Southern Pines\, NC\, 28387\, United States
CATEGORIES:Adults,Games,Hobby/Enthusiast,Night Life,Senior,Social,Southern Pines Events
ATTACH;FMTTYPE=image/jpeg:https://thepinestimes.com/wp-content/uploads/715BarFeature.jpg
END:VEVENT
BEGIN:VEVENT
DTSTART;TZID=America/New_York:20260312T190000
DTEND;TZID=America/New_York:20260312T190000
DTSTAMP:20260422T071523
CREATED:20230322T132144Z
LAST-MODIFIED:20260306T161007Z
UID:10082457-1773342000-1773342000@thepinestimes.com
SUMMARY:Thursday Music Bingo
DESCRIPTION:Come out to 715 Bar & Grill for Top Shelf Trivia Music Bingo! The fun takes place each Thursday 7pm-9pm.
URL:https://thepinestimes.com/event/715-bar-grill-music-bingo/2026-03-12/
LOCATION:715 Bar & Grill\, 715 SW Broad St\, Southern Pines\, NC\, 28387\, United States
CATEGORIES:Adult Connections,Adults,Games,Hobby/Enthusiast,Night Life,Pines Connector,Senior,Social,Southern Pines Events
ATTACH;FMTTYPE=image/png:https://thepinestimes.com/wp-content/uploads/Music-Bingo.png
END:VEVENT
BEGIN:VEVENT
DTSTART;TZID=America/New_York:20260311T200000
DTEND;TZID=America/New_York:20260311T230000
DTSTAMP:20260422T071523
CREATED:20230127T133549Z
LAST-MODIFIED:20260306T161134Z
UID:10082499-1773259200-1773270000@thepinestimes.com
SUMMARY:Karaoke Wednesday
DESCRIPTION:Come out for KJ’s Karaoke each Wednesday at 715 Bar & Grill from 8:00pm-11:00pm!
URL:https://thepinestimes.com/event/karaoke-wednesday-2/2026-03-11/
LOCATION:715 Bar & Grill\, 715 SW Broad St\, Southern Pines\, NC\, 28387\, United States
CATEGORIES:Adults,Beer and Wine,Hobby/Enthusiast,Music,Night Life,Pines Connector,Social,Southern Pines Events
ATTACH;FMTTYPE=image/png:https://thepinestimes.com/wp-content/uploads/Karaoke-e1754409547503.png
END:VEVENT
BEGIN:VEVENT
DTSTART;TZID=America/New_York:20260309T190000
DTEND;TZID=America/New_York:20260309T220000
DTSTAMP:20260422T071523
CREATED:20251030T164304Z
LAST-MODIFIED:20260330T174019Z
UID:10085767-1773082800-1773093600@thepinestimes.com
SUMMARY:Monday Poker Night
DESCRIPTION:715 Bar & Grill hosts a Poker Night every Monday at 7:00pm until done! Call 910-695-7077 for additional information.
URL:https://thepinestimes.com/event/monday-poker-night/2026-03-09/
LOCATION:715 Bar & Grill\, 715 SW Broad St\, Southern Pines\, NC\, 28387\, United States
CATEGORIES:Adults,Games,Hobby/Enthusiast,Night Life,Senior,Social,Southern Pines Events
ATTACH;FMTTYPE=image/jpeg:https://thepinestimes.com/wp-content/uploads/715BarFeature.jpg
END:VEVENT
BEGIN:VEVENT
DTSTART;TZID=America/New_York:20260305T190000
DTEND;TZID=America/New_York:20260305T190000
DTSTAMP:20260422T071523
CREATED:20230322T132144Z
LAST-MODIFIED:20260306T161007Z
UID:10082456-1772737200-1772737200@thepinestimes.com
SUMMARY:Thursday Music Bingo
DESCRIPTION:Come out to 715 Bar & Grill for Top Shelf Trivia Music Bingo! The fun takes place each Thursday 7pm-9pm.
URL:https://thepinestimes.com/event/715-bar-grill-music-bingo/2026-03-05/
LOCATION:715 Bar & Grill\, 715 SW Broad St\, Southern Pines\, NC\, 28387\, United States
CATEGORIES:Adult Connections,Adults,Games,Hobby/Enthusiast,Night Life,Pines Connector,Senior,Social,Southern Pines Events
ATTACH;FMTTYPE=image/png:https://thepinestimes.com/wp-content/uploads/Music-Bingo.png
END:VEVENT
BEGIN:VEVENT
DTSTART;TZID=America/New_York:20260304T200000
DTEND;TZID=America/New_York:20260304T230000
DTSTAMP:20260422T071523
CREATED:20230127T133549Z
LAST-MODIFIED:20260306T161134Z
UID:10082498-1772654400-1772665200@thepinestimes.com
SUMMARY:Karaoke Wednesday
DESCRIPTION:Come out for KJ’s Karaoke each Wednesday at 715 Bar & Grill from 8:00pm-11:00pm!
URL:https://thepinestimes.com/event/karaoke-wednesday-2/2026-03-04/
LOCATION:715 Bar & Grill\, 715 SW Broad St\, Southern Pines\, NC\, 28387\, United States
CATEGORIES:Adults,Beer and Wine,Hobby/Enthusiast,Music,Night Life,Pines Connector,Social,Southern Pines Events
ATTACH;FMTTYPE=image/png:https://thepinestimes.com/wp-content/uploads/Karaoke-e1754409547503.png
END:VEVENT
BEGIN:VEVENT
DTSTART;TZID=America/New_York:20260302T190000
DTEND;TZID=America/New_York:20260302T220000
DTSTAMP:20260422T071523
CREATED:20251030T164304Z
LAST-MODIFIED:20260330T174019Z
UID:10085766-1772478000-1772488800@thepinestimes.com
SUMMARY:Monday Poker Night
DESCRIPTION:715 Bar & Grill hosts a Poker Night every Monday at 7:00pm until done! Call 910-695-7077 for additional information.
URL:https://thepinestimes.com/event/monday-poker-night/2026-03-02/
LOCATION:715 Bar & Grill\, 715 SW Broad St\, Southern Pines\, NC\, 28387\, United States
CATEGORIES:Adults,Games,Hobby/Enthusiast,Night Life,Senior,Social,Southern Pines Events
ATTACH;FMTTYPE=image/jpeg:https://thepinestimes.com/wp-content/uploads/715BarFeature.jpg
END:VEVENT
BEGIN:VEVENT
DTSTART;TZID=America/New_York:20260226T190000
DTEND;TZID=America/New_York:20260226T190000
DTSTAMP:20260422T071523
CREATED:20230322T132144Z
LAST-MODIFIED:20260306T161007Z
UID:10077566-1772132400-1772132400@thepinestimes.com
SUMMARY:Thursday Music Bingo
DESCRIPTION:Come out to 715 Bar & Grill for Top Shelf Trivia Music Bingo! The fun takes place each Thursday 7pm-9pm.
URL:https://thepinestimes.com/event/715-bar-grill-music-bingo/2026-02-26/
LOCATION:715 Bar & Grill\, 715 SW Broad St\, Southern Pines\, NC\, 28387\, United States
CATEGORIES:Adult Connections,Adults,Games,Hobby/Enthusiast,Night Life,Pines Connector,Senior,Social,Southern Pines Events
ATTACH;FMTTYPE=image/png:https://thepinestimes.com/wp-content/uploads/Music-Bingo.png
END:VEVENT
BEGIN:VEVENT
DTSTART;TZID=America/New_York:20260225T200000
DTEND;TZID=America/New_York:20260225T230000
DTSTAMP:20260422T071523
CREATED:20230127T133549Z
LAST-MODIFIED:20260306T161134Z
UID:10079029-1772049600-1772060400@thepinestimes.com
SUMMARY:Karaoke Wednesday
DESCRIPTION:Come out for KJ’s Karaoke each Wednesday at 715 Bar & Grill from 8:00pm-11:00pm!
URL:https://thepinestimes.com/event/karaoke-wednesday-2/2026-02-25/
LOCATION:715 Bar & Grill\, 715 SW Broad St\, Southern Pines\, NC\, 28387\, United States
CATEGORIES:Adults,Beer and Wine,Hobby/Enthusiast,Music,Night Life,Pines Connector,Social,Southern Pines Events
ATTACH;FMTTYPE=image/png:https://thepinestimes.com/wp-content/uploads/Karaoke-e1754409547503.png
END:VEVENT
BEGIN:VEVENT
DTSTART;TZID=America/New_York:20260223T190000
DTEND;TZID=America/New_York:20260223T220000
DTSTAMP:20260422T071524
CREATED:20251030T164304Z
LAST-MODIFIED:20260330T174019Z
UID:10085765-1771873200-1771884000@thepinestimes.com
SUMMARY:Monday Poker Night
DESCRIPTION:715 Bar & Grill hosts a Poker Night every Monday at 7:00pm until done! Call 910-695-7077 for additional information.
URL:https://thepinestimes.com/event/monday-poker-night/2026-02-23/
LOCATION:715 Bar & Grill\, 715 SW Broad St\, Southern Pines\, NC\, 28387\, United States
CATEGORIES:Adults,Games,Hobby/Enthusiast,Night Life,Senior,Social,Southern Pines Events
ATTACH;FMTTYPE=image/jpeg:https://thepinestimes.com/wp-content/uploads/715BarFeature.jpg
END:VEVENT
BEGIN:VEVENT
DTSTART;TZID=America/New_York:20260219T190000
DTEND;TZID=America/New_York:20260219T190000
DTSTAMP:20260422T071524
CREATED:20230322T132144Z
LAST-MODIFIED:20260306T161007Z
UID:10077565-1771527600-1771527600@thepinestimes.com
SUMMARY:Thursday Music Bingo
DESCRIPTION:Come out to 715 Bar & Grill for Top Shelf Trivia Music Bingo! The fun takes place each Thursday 7pm-9pm.
URL:https://thepinestimes.com/event/715-bar-grill-music-bingo/2026-02-19/
LOCATION:715 Bar & Grill\, 715 SW Broad St\, Southern Pines\, NC\, 28387\, United States
CATEGORIES:Adult Connections,Adults,Games,Hobby/Enthusiast,Night Life,Pines Connector,Senior,Social,Southern Pines Events
ATTACH;FMTTYPE=image/png:https://thepinestimes.com/wp-content/uploads/Music-Bingo.png
END:VEVENT
BEGIN:VEVENT
DTSTART;TZID=America/New_York:20260218T200000
DTEND;TZID=America/New_York:20260218T230000
DTSTAMP:20260422T071524
CREATED:20230127T133549Z
LAST-MODIFIED:20260306T161134Z
UID:10079028-1771444800-1771455600@thepinestimes.com
SUMMARY:Karaoke Wednesday
DESCRIPTION:Come out for KJ’s Karaoke each Wednesday at 715 Bar & Grill from 8:00pm-11:00pm!
URL:https://thepinestimes.com/event/karaoke-wednesday-2/2026-02-18/
LOCATION:715 Bar & Grill\, 715 SW Broad St\, Southern Pines\, NC\, 28387\, United States
CATEGORIES:Adults,Beer and Wine,Hobby/Enthusiast,Music,Night Life,Pines Connector,Social,Southern Pines Events
ATTACH;FMTTYPE=image/png:https://thepinestimes.com/wp-content/uploads/Karaoke-e1754409547503.png
END:VEVENT
BEGIN:VEVENT
DTSTART;TZID=America/New_York:20260216T190000
DTEND;TZID=America/New_York:20260216T220000
DTSTAMP:20260422T071524
CREATED:20251030T164304Z
LAST-MODIFIED:20260330T174019Z
UID:10085764-1771268400-1771279200@thepinestimes.com
SUMMARY:Monday Poker Night
DESCRIPTION:715 Bar & Grill hosts a Poker Night every Monday at 7:00pm until done! Call 910-695-7077 for additional information.
URL:https://thepinestimes.com/event/monday-poker-night/2026-02-16/
LOCATION:715 Bar & Grill\, 715 SW Broad St\, Southern Pines\, NC\, 28387\, United States
CATEGORIES:Adults,Games,Hobby/Enthusiast,Night Life,Senior,Social,Southern Pines Events
ATTACH;FMTTYPE=image/jpeg:https://thepinestimes.com/wp-content/uploads/715BarFeature.jpg
END:VEVENT
BEGIN:VEVENT
DTSTART;TZID=America/New_York:20260212T190000
DTEND;TZID=America/New_York:20260212T190000
DTSTAMP:20260422T071524
CREATED:20230322T132144Z
LAST-MODIFIED:20260306T161007Z
UID:10077564-1770922800-1770922800@thepinestimes.com
SUMMARY:Thursday Music Bingo
DESCRIPTION:Come out to 715 Bar & Grill for Top Shelf Trivia Music Bingo! The fun takes place each Thursday 7pm-9pm.
URL:https://thepinestimes.com/event/715-bar-grill-music-bingo/2026-02-12/
LOCATION:715 Bar & Grill\, 715 SW Broad St\, Southern Pines\, NC\, 28387\, United States
CATEGORIES:Adult Connections,Adults,Games,Hobby/Enthusiast,Night Life,Pines Connector,Senior,Social,Southern Pines Events
ATTACH;FMTTYPE=image/png:https://thepinestimes.com/wp-content/uploads/Music-Bingo.png
END:VEVENT
BEGIN:VEVENT
DTSTART;TZID=America/New_York:20260211T200000
DTEND;TZID=America/New_York:20260211T230000
DTSTAMP:20260422T071524
CREATED:20230127T133549Z
LAST-MODIFIED:20260306T161134Z
UID:10079027-1770840000-1770850800@thepinestimes.com
SUMMARY:Karaoke Wednesday
DESCRIPTION:Come out for KJ’s Karaoke each Wednesday at 715 Bar & Grill from 8:00pm-11:00pm!
URL:https://thepinestimes.com/event/karaoke-wednesday-2/2026-02-11/
LOCATION:715 Bar & Grill\, 715 SW Broad St\, Southern Pines\, NC\, 28387\, United States
CATEGORIES:Adults,Beer and Wine,Hobby/Enthusiast,Music,Night Life,Pines Connector,Social,Southern Pines Events
ATTACH;FMTTYPE=image/png:https://thepinestimes.com/wp-content/uploads/Karaoke-e1754409547503.png
END:VEVENT
BEGIN:VEVENT
DTSTART;TZID=America/New_York:20260209T190000
DTEND;TZID=America/New_York:20260209T220000
DTSTAMP:20260422T071524
CREATED:20251030T164304Z
LAST-MODIFIED:20260330T174019Z
UID:10085763-1770663600-1770674400@thepinestimes.com
SUMMARY:Monday Poker Night
DESCRIPTION:715 Bar & Grill hosts a Poker Night every Monday at 7:00pm until done! Call 910-695-7077 for additional information.
URL:https://thepinestimes.com/event/monday-poker-night/2026-02-09/
LOCATION:715 Bar & Grill\, 715 SW Broad St\, Southern Pines\, NC\, 28387\, United States
CATEGORIES:Adults,Games,Hobby/Enthusiast,Night Life,Senior,Social,Southern Pines Events
ATTACH;FMTTYPE=image/jpeg:https://thepinestimes.com/wp-content/uploads/715BarFeature.jpg
END:VEVENT
BEGIN:VEVENT
DTSTART;TZID=America/New_York:20260205T190000
DTEND;TZID=America/New_York:20260205T190000
DTSTAMP:20260422T071524
CREATED:20230322T132144Z
LAST-MODIFIED:20260306T161007Z
UID:10077563-1770318000-1770318000@thepinestimes.com
SUMMARY:Thursday Music Bingo
DESCRIPTION:Come out to 715 Bar & Grill for Top Shelf Trivia Music Bingo! The fun takes place each Thursday 7pm-9pm.
URL:https://thepinestimes.com/event/715-bar-grill-music-bingo/2026-02-05/
LOCATION:715 Bar & Grill\, 715 SW Broad St\, Southern Pines\, NC\, 28387\, United States
CATEGORIES:Adult Connections,Adults,Games,Hobby/Enthusiast,Night Life,Pines Connector,Senior,Social,Southern Pines Events
ATTACH;FMTTYPE=image/png:https://thepinestimes.com/wp-content/uploads/Music-Bingo.png
END:VEVENT
BEGIN:VEVENT
DTSTART;TZID=America/New_York:20260204T200000
DTEND;TZID=America/New_York:20260204T230000
DTSTAMP:20260422T071524
CREATED:20230127T133549Z
LAST-MODIFIED:20260306T161134Z
UID:10079026-1770235200-1770246000@thepinestimes.com
SUMMARY:Karaoke Wednesday
DESCRIPTION:Come out for KJ’s Karaoke each Wednesday at 715 Bar & Grill from 8:00pm-11:00pm!
URL:https://thepinestimes.com/event/karaoke-wednesday-2/2026-02-04/
LOCATION:715 Bar & Grill\, 715 SW Broad St\, Southern Pines\, NC\, 28387\, United States
CATEGORIES:Adults,Beer and Wine,Hobby/Enthusiast,Music,Night Life,Pines Connector,Social,Southern Pines Events
ATTACH;FMTTYPE=image/png:https://thepinestimes.com/wp-content/uploads/Karaoke-e1754409547503.png
END:VEVENT
BEGIN:VEVENT
DTSTART;TZID=America/New_York:20260202T190000
DTEND;TZID=America/New_York:20260202T220000
DTSTAMP:20260422T071524
CREATED:20251030T164304Z
LAST-MODIFIED:20260330T174019Z
UID:10085762-1770058800-1770069600@thepinestimes.com
SUMMARY:Monday Poker Night
DESCRIPTION:715 Bar & Grill hosts a Poker Night every Monday at 7:00pm until done! Call 910-695-7077 for additional information.
URL:https://thepinestimes.com/event/monday-poker-night/2026-02-02/
LOCATION:715 Bar & Grill\, 715 SW Broad St\, Southern Pines\, NC\, 28387\, United States
CATEGORIES:Adults,Games,Hobby/Enthusiast,Night Life,Senior,Social,Southern Pines Events
ATTACH;FMTTYPE=image/jpeg:https://thepinestimes.com/wp-content/uploads/715BarFeature.jpg
END:VEVENT
BEGIN:VEVENT
DTSTART;TZID=America/New_York:20260129T190000
DTEND;TZID=America/New_York:20260129T190000
DTSTAMP:20260422T071524
CREATED:20230322T132144Z
LAST-MODIFIED:20260306T161007Z
UID:10077562-1769713200-1769713200@thepinestimes.com
SUMMARY:Thursday Music Bingo
DESCRIPTION:Come out to 715 Bar & Grill for Top Shelf Trivia Music Bingo! The fun takes place each Thursday 7pm-9pm.
URL:https://thepinestimes.com/event/715-bar-grill-music-bingo/2026-01-29/
LOCATION:715 Bar & Grill\, 715 SW Broad St\, Southern Pines\, NC\, 28387\, United States
CATEGORIES:Adult Connections,Adults,Games,Hobby/Enthusiast,Night Life,Pines Connector,Senior,Social,Southern Pines Events
ATTACH;FMTTYPE=image/png:https://thepinestimes.com/wp-content/uploads/Music-Bingo.png
END:VEVENT
BEGIN:VEVENT
DTSTART;TZID=America/New_York:20260128T200000
DTEND;TZID=America/New_York:20260128T230000
DTSTAMP:20260422T071524
CREATED:20230127T133549Z
LAST-MODIFIED:20260306T161134Z
UID:10079025-1769630400-1769641200@thepinestimes.com
SUMMARY:Karaoke Wednesday
DESCRIPTION:Come out for KJ’s Karaoke each Wednesday at 715 Bar & Grill from 8:00pm-11:00pm!
URL:https://thepinestimes.com/event/karaoke-wednesday-2/2026-01-28/
LOCATION:715 Bar & Grill\, 715 SW Broad St\, Southern Pines\, NC\, 28387\, United States
CATEGORIES:Adults,Beer and Wine,Hobby/Enthusiast,Music,Night Life,Pines Connector,Social,Southern Pines Events
ATTACH;FMTTYPE=image/png:https://thepinestimes.com/wp-content/uploads/Karaoke-e1754409547503.png
END:VEVENT
BEGIN:VEVENT
DTSTART;TZID=America/New_York:20260126T190000
DTEND;TZID=America/New_York:20260126T220000
DTSTAMP:20260422T071524
CREATED:20251030T164304Z
LAST-MODIFIED:20260330T174019Z
UID:10085761-1769454000-1769464800@thepinestimes.com
SUMMARY:Monday Poker Night
DESCRIPTION:715 Bar & Grill hosts a Poker Night every Monday at 7:00pm until done! Call 910-695-7077 for additional information.
URL:https://thepinestimes.com/event/monday-poker-night/2026-01-26/
LOCATION:715 Bar & Grill\, 715 SW Broad St\, Southern Pines\, NC\, 28387\, United States
CATEGORIES:Adults,Games,Hobby/Enthusiast,Night Life,Senior,Social,Southern Pines Events
ATTACH;FMTTYPE=image/jpeg:https://thepinestimes.com/wp-content/uploads/715BarFeature.jpg
END:VEVENT
BEGIN:VEVENT
DTSTART;TZID=America/New_York:20260122T190000
DTEND;TZID=America/New_York:20260122T190000
DTSTAMP:20260422T071524
CREATED:20230322T132144Z
LAST-MODIFIED:20260306T161007Z
UID:10077561-1769108400-1769108400@thepinestimes.com
SUMMARY:Thursday Music Bingo
DESCRIPTION:Come out to 715 Bar & Grill for Top Shelf Trivia Music Bingo! The fun takes place each Thursday 7pm-9pm.
URL:https://thepinestimes.com/event/715-bar-grill-music-bingo/2026-01-22/
LOCATION:715 Bar & Grill\, 715 SW Broad St\, Southern Pines\, NC\, 28387\, United States
CATEGORIES:Adult Connections,Adults,Games,Hobby/Enthusiast,Night Life,Pines Connector,Senior,Social,Southern Pines Events
ATTACH;FMTTYPE=image/png:https://thepinestimes.com/wp-content/uploads/Music-Bingo.png
END:VEVENT
BEGIN:VEVENT
DTSTART;TZID=America/New_York:20260121T200000
DTEND;TZID=America/New_York:20260121T230000
DTSTAMP:20260422T071524
CREATED:20230127T133549Z
LAST-MODIFIED:20260306T161134Z
UID:10079024-1769025600-1769036400@thepinestimes.com
SUMMARY:Karaoke Wednesday
DESCRIPTION:Come out for KJ’s Karaoke each Wednesday at 715 Bar & Grill from 8:00pm-11:00pm!
URL:https://thepinestimes.com/event/karaoke-wednesday-2/2026-01-21/
LOCATION:715 Bar & Grill\, 715 SW Broad St\, Southern Pines\, NC\, 28387\, United States
CATEGORIES:Adults,Beer and Wine,Hobby/Enthusiast,Music,Night Life,Pines Connector,Social,Southern Pines Events
ATTACH;FMTTYPE=image/png:https://thepinestimes.com/wp-content/uploads/Karaoke-e1754409547503.png
END:VEVENT
END:VCALENDAR