BEGIN:VCALENDAR
VERSION:2.0
PRODID:-//The Pines Times - ECPv6.15.20//NONSGML v1.0//EN
CALSCALE:GREGORIAN
METHOD:PUBLISH
X-WR-CALNAME:The Pines Times
X-ORIGINAL-URL:https://thepinestimes.com
X-WR-CALDESC:Events for The Pines Times
REFRESH-INTERVAL;VALUE=DURATION:PT1H
X-Robots-Tag:noindex
X-PUBLISHED-TTL:PT1H
BEGIN:VTIMEZONE
TZID:America/New_York
BEGIN:DAYLIGHT
TZOFFSETFROM:-0500
TZOFFSETTO:-0400
TZNAME:EDT
DTSTART:20240310T070000
END:DAYLIGHT
BEGIN:STANDARD
TZOFFSETFROM:-0400
TZOFFSETTO:-0500
TZNAME:EST
DTSTART:20241103T060000
END:STANDARD
BEGIN:DAYLIGHT
TZOFFSETFROM:-0500
TZOFFSETTO:-0400
TZNAME:EDT
DTSTART:20250309T070000
END:DAYLIGHT
BEGIN:STANDARD
TZOFFSETFROM:-0400
TZOFFSETTO:-0500
TZNAME:EST
DTSTART:20251102T060000
END:STANDARD
BEGIN:DAYLIGHT
TZOFFSETFROM:-0500
TZOFFSETTO:-0400
TZNAME:EDT
DTSTART:20260308T070000
END:DAYLIGHT
BEGIN:STANDARD
TZOFFSETFROM:-0400
TZOFFSETTO:-0500
TZNAME:EST
DTSTART:20261101T060000
END:STANDARD
END:VTIMEZONE
BEGIN:VEVENT
DTSTART;TZID=America/New_York:20251117T190000
DTEND;TZID=America/New_York:20251117T220000
DTSTAMP:20260425T214408
CREATED:20251030T164304Z
LAST-MODIFIED:20260330T174019Z
UID:10074030-1763406000-1763416800@thepinestimes.com
SUMMARY:Monday Poker Night
DESCRIPTION:715 Bar & Grill hosts a Poker Night every Monday at 7:00pm until done! Call 910-695-7077 for additional information.
URL:https://thepinestimes.com/event/monday-poker-night/2025-11-17/
LOCATION:715 Bar & Grill\, 715 SW Broad St\, Southern Pines\, NC\, 28387\, United States
CATEGORIES:Adults,Games,Hobby/Enthusiast,Night Life,Senior,Social,Southern Pines Events
ATTACH;FMTTYPE=image/jpeg:https://thepinestimes.com/wp-content/uploads/715BarFeature.jpg
END:VEVENT
BEGIN:VEVENT
DTSTART;TZID=America/New_York:20251113T190000
DTEND;TZID=America/New_York:20251113T190000
DTSTAMP:20260425T214408
CREATED:20230322T132144Z
LAST-MODIFIED:20260306T161007Z
UID:10064094-1763060400-1763060400@thepinestimes.com
SUMMARY:Thursday Music Bingo
DESCRIPTION:Come out to 715 Bar & Grill for Top Shelf Trivia Music Bingo! The fun takes place each Thursday 7pm-9pm.
URL:https://thepinestimes.com/event/715-bar-grill-music-bingo/2025-11-13/
LOCATION:715 Bar & Grill\, 715 SW Broad St\, Southern Pines\, NC\, 28387\, United States
CATEGORIES:Adult Connections,Adults,Games,Hobby/Enthusiast,Night Life,Pines Connector,Senior,Social,Southern Pines Events
ATTACH;FMTTYPE=image/png:https://thepinestimes.com/wp-content/uploads/Music-Bingo.png
END:VEVENT
BEGIN:VEVENT
DTSTART;TZID=America/New_York:20251112T200000
DTEND;TZID=America/New_York:20251112T230000
DTSTAMP:20260425T214408
CREATED:20230127T133549Z
LAST-MODIFIED:20260306T161134Z
UID:10064110-1762977600-1762988400@thepinestimes.com
SUMMARY:Karaoke Wednesday
DESCRIPTION:Come out for KJ’s Karaoke each Wednesday at 715 Bar & Grill from 8:00pm-11:00pm!
URL:https://thepinestimes.com/event/karaoke-wednesday-2/2025-11-12/
LOCATION:715 Bar & Grill\, 715 SW Broad St\, Southern Pines\, NC\, 28387\, United States
CATEGORIES:Adults,Beer and Wine,Hobby/Enthusiast,Music,Night Life,Pines Connector,Social,Southern Pines Events
ATTACH;FMTTYPE=image/png:https://thepinestimes.com/wp-content/uploads/Karaoke-e1754409547503.png
END:VEVENT
BEGIN:VEVENT
DTSTART;TZID=America/New_York:20251110T190000
DTEND;TZID=America/New_York:20251110T220000
DTSTAMP:20260425T214408
CREATED:20251030T164304Z
LAST-MODIFIED:20260330T174019Z
UID:10074029-1762801200-1762812000@thepinestimes.com
SUMMARY:Monday Poker Night
DESCRIPTION:715 Bar & Grill hosts a Poker Night every Monday at 7:00pm until done! Call 910-695-7077 for additional information.
URL:https://thepinestimes.com/event/monday-poker-night/2025-11-10/
LOCATION:715 Bar & Grill\, 715 SW Broad St\, Southern Pines\, NC\, 28387\, United States
CATEGORIES:Adults,Games,Hobby/Enthusiast,Night Life,Senior,Social,Southern Pines Events
ATTACH;FMTTYPE=image/jpeg:https://thepinestimes.com/wp-content/uploads/715BarFeature.jpg
END:VEVENT
BEGIN:VEVENT
DTSTART;TZID=America/New_York:20251106T190000
DTEND;TZID=America/New_York:20251106T190000
DTSTAMP:20260425T214408
CREATED:20230322T132144Z
LAST-MODIFIED:20260306T161007Z
UID:10064093-1762455600-1762455600@thepinestimes.com
SUMMARY:Thursday Music Bingo
DESCRIPTION:Come out to 715 Bar & Grill for Top Shelf Trivia Music Bingo! The fun takes place each Thursday 7pm-9pm.
URL:https://thepinestimes.com/event/715-bar-grill-music-bingo/2025-11-06/
LOCATION:715 Bar & Grill\, 715 SW Broad St\, Southern Pines\, NC\, 28387\, United States
CATEGORIES:Adult Connections,Adults,Games,Hobby/Enthusiast,Night Life,Pines Connector,Senior,Social,Southern Pines Events
ATTACH;FMTTYPE=image/png:https://thepinestimes.com/wp-content/uploads/Music-Bingo.png
END:VEVENT
BEGIN:VEVENT
DTSTART;TZID=America/New_York:20251105T200000
DTEND;TZID=America/New_York:20251105T230000
DTSTAMP:20260425T214408
CREATED:20230127T133549Z
LAST-MODIFIED:20260306T161134Z
UID:10064109-1762372800-1762383600@thepinestimes.com
SUMMARY:Karaoke Wednesday
DESCRIPTION:Come out for KJ’s Karaoke each Wednesday at 715 Bar & Grill from 8:00pm-11:00pm!
URL:https://thepinestimes.com/event/karaoke-wednesday-2/2025-11-05/
LOCATION:715 Bar & Grill\, 715 SW Broad St\, Southern Pines\, NC\, 28387\, United States
CATEGORIES:Adults,Beer and Wine,Hobby/Enthusiast,Music,Night Life,Pines Connector,Social,Southern Pines Events
ATTACH;FMTTYPE=image/png:https://thepinestimes.com/wp-content/uploads/Karaoke-e1754409547503.png
END:VEVENT
BEGIN:VEVENT
DTSTART;TZID=America/New_York:20251103T190000
DTEND;TZID=America/New_York:20251103T220000
DTSTAMP:20260425T214408
CREATED:20251030T164304Z
LAST-MODIFIED:20260330T174019Z
UID:10074028-1762196400-1762207200@thepinestimes.com
SUMMARY:Monday Poker Night
DESCRIPTION:715 Bar & Grill hosts a Poker Night every Monday at 7:00pm until done! Call 910-695-7077 for additional information.
URL:https://thepinestimes.com/event/monday-poker-night/2025-11-03/
LOCATION:715 Bar & Grill\, 715 SW Broad St\, Southern Pines\, NC\, 28387\, United States
CATEGORIES:Adults,Games,Hobby/Enthusiast,Night Life,Senior,Social,Southern Pines Events
ATTACH;FMTTYPE=image/jpeg:https://thepinestimes.com/wp-content/uploads/715BarFeature.jpg
END:VEVENT
BEGIN:VEVENT
DTSTART;TZID=America/New_York:20251030T190000
DTEND;TZID=America/New_York:20251030T190000
DTSTAMP:20260425T214408
CREATED:20230322T132144Z
LAST-MODIFIED:20260306T161007Z
UID:10064092-1761850800-1761850800@thepinestimes.com
SUMMARY:Thursday Music Bingo
DESCRIPTION:Come out to 715 Bar & Grill for Top Shelf Trivia Music Bingo! The fun takes place each Thursday 7pm-9pm.
URL:https://thepinestimes.com/event/715-bar-grill-music-bingo/2025-10-30/
LOCATION:715 Bar & Grill\, 715 SW Broad St\, Southern Pines\, NC\, 28387\, United States
CATEGORIES:Adult Connections,Adults,Games,Hobby/Enthusiast,Night Life,Pines Connector,Senior,Social,Southern Pines Events
ATTACH;FMTTYPE=image/png:https://thepinestimes.com/wp-content/uploads/Music-Bingo.png
END:VEVENT
BEGIN:VEVENT
DTSTART;TZID=America/New_York:20251029T200000
DTEND;TZID=America/New_York:20251029T230000
DTSTAMP:20260425T214408
CREATED:20230127T133549Z
LAST-MODIFIED:20260306T161134Z
UID:10064108-1761768000-1761778800@thepinestimes.com
SUMMARY:Karaoke Wednesday
DESCRIPTION:Come out for KJ’s Karaoke each Wednesday at 715 Bar & Grill from 8:00pm-11:00pm!
URL:https://thepinestimes.com/event/karaoke-wednesday-2/2025-10-29/
LOCATION:715 Bar & Grill\, 715 SW Broad St\, Southern Pines\, NC\, 28387\, United States
CATEGORIES:Adults,Beer and Wine,Hobby/Enthusiast,Music,Night Life,Pines Connector,Social,Southern Pines Events
ATTACH;FMTTYPE=image/png:https://thepinestimes.com/wp-content/uploads/Karaoke-e1754409547503.png
END:VEVENT
BEGIN:VEVENT
DTSTART;TZID=America/New_York:20251023T190000
DTEND;TZID=America/New_York:20251023T190000
DTSTAMP:20260425T214408
CREATED:20230322T132144Z
LAST-MODIFIED:20260306T161007Z
UID:10064091-1761246000-1761246000@thepinestimes.com
SUMMARY:Thursday Music Bingo
DESCRIPTION:Come out to 715 Bar & Grill for Top Shelf Trivia Music Bingo! The fun takes place each Thursday 7pm-9pm.
URL:https://thepinestimes.com/event/715-bar-grill-music-bingo/2025-10-23/
LOCATION:715 Bar & Grill\, 715 SW Broad St\, Southern Pines\, NC\, 28387\, United States
CATEGORIES:Adult Connections,Adults,Games,Hobby/Enthusiast,Night Life,Pines Connector,Senior,Social,Southern Pines Events
ATTACH;FMTTYPE=image/png:https://thepinestimes.com/wp-content/uploads/Music-Bingo.png
END:VEVENT
BEGIN:VEVENT
DTSTART;TZID=America/New_York:20251022T200000
DTEND;TZID=America/New_York:20251022T230000
DTSTAMP:20260425T214408
CREATED:20230127T133549Z
LAST-MODIFIED:20260306T161134Z
UID:10064107-1761163200-1761174000@thepinestimes.com
SUMMARY:Karaoke Wednesday
DESCRIPTION:Come out for KJ’s Karaoke each Wednesday at 715 Bar & Grill from 8:00pm-11:00pm!
URL:https://thepinestimes.com/event/karaoke-wednesday-2/2025-10-22/
LOCATION:715 Bar & Grill\, 715 SW Broad St\, Southern Pines\, NC\, 28387\, United States
CATEGORIES:Adults,Beer and Wine,Hobby/Enthusiast,Music,Night Life,Pines Connector,Social,Southern Pines Events
ATTACH;FMTTYPE=image/png:https://thepinestimes.com/wp-content/uploads/Karaoke-e1754409547503.png
END:VEVENT
BEGIN:VEVENT
DTSTART;TZID=America/New_York:20251016T190000
DTEND;TZID=America/New_York:20251016T190000
DTSTAMP:20260425T214408
CREATED:20230322T132144Z
LAST-MODIFIED:20260306T161007Z
UID:10064090-1760641200-1760641200@thepinestimes.com
SUMMARY:Thursday Music Bingo
DESCRIPTION:Come out to 715 Bar & Grill for Top Shelf Trivia Music Bingo! The fun takes place each Thursday 7pm-9pm.
URL:https://thepinestimes.com/event/715-bar-grill-music-bingo/2025-10-16/
LOCATION:715 Bar & Grill\, 715 SW Broad St\, Southern Pines\, NC\, 28387\, United States
CATEGORIES:Adult Connections,Adults,Games,Hobby/Enthusiast,Night Life,Pines Connector,Senior,Social,Southern Pines Events
ATTACH;FMTTYPE=image/png:https://thepinestimes.com/wp-content/uploads/Music-Bingo.png
END:VEVENT
BEGIN:VEVENT
DTSTART;TZID=America/New_York:20251015T200000
DTEND;TZID=America/New_York:20251015T230000
DTSTAMP:20260425T214408
CREATED:20230127T133549Z
LAST-MODIFIED:20260306T161134Z
UID:10064106-1760558400-1760569200@thepinestimes.com
SUMMARY:Karaoke Wednesday
DESCRIPTION:Come out for KJ’s Karaoke each Wednesday at 715 Bar & Grill from 8:00pm-11:00pm!
URL:https://thepinestimes.com/event/karaoke-wednesday-2/2025-10-15/
LOCATION:715 Bar & Grill\, 715 SW Broad St\, Southern Pines\, NC\, 28387\, United States
CATEGORIES:Adults,Beer and Wine,Hobby/Enthusiast,Music,Night Life,Pines Connector,Social,Southern Pines Events
ATTACH;FMTTYPE=image/png:https://thepinestimes.com/wp-content/uploads/Karaoke-e1754409547503.png
END:VEVENT
BEGIN:VEVENT
DTSTART;TZID=America/New_York:20251009T190000
DTEND;TZID=America/New_York:20251009T190000
DTSTAMP:20260425T214408
CREATED:20230322T132144Z
LAST-MODIFIED:20260306T161007Z
UID:10064089-1760036400-1760036400@thepinestimes.com
SUMMARY:Thursday Music Bingo
DESCRIPTION:Come out to 715 Bar & Grill for Top Shelf Trivia Music Bingo! The fun takes place each Thursday 7pm-9pm.
URL:https://thepinestimes.com/event/715-bar-grill-music-bingo/2025-10-09/
LOCATION:715 Bar & Grill\, 715 SW Broad St\, Southern Pines\, NC\, 28387\, United States
CATEGORIES:Adult Connections,Adults,Games,Hobby/Enthusiast,Night Life,Pines Connector,Senior,Social,Southern Pines Events
ATTACH;FMTTYPE=image/png:https://thepinestimes.com/wp-content/uploads/Music-Bingo.png
END:VEVENT
BEGIN:VEVENT
DTSTART;TZID=America/New_York:20251008T200000
DTEND;TZID=America/New_York:20251008T230000
DTSTAMP:20260425T214408
CREATED:20230127T133549Z
LAST-MODIFIED:20260306T161134Z
UID:10064105-1759953600-1759964400@thepinestimes.com
SUMMARY:Karaoke Wednesday
DESCRIPTION:Come out for KJ’s Karaoke each Wednesday at 715 Bar & Grill from 8:00pm-11:00pm!
URL:https://thepinestimes.com/event/karaoke-wednesday-2/2025-10-08/
LOCATION:715 Bar & Grill\, 715 SW Broad St\, Southern Pines\, NC\, 28387\, United States
CATEGORIES:Adults,Beer and Wine,Hobby/Enthusiast,Music,Night Life,Pines Connector,Social,Southern Pines Events
ATTACH;FMTTYPE=image/png:https://thepinestimes.com/wp-content/uploads/Karaoke-e1754409547503.png
END:VEVENT
BEGIN:VEVENT
DTSTART;TZID=America/New_York:20251002T190000
DTEND;TZID=America/New_York:20251002T190000
DTSTAMP:20260425T214408
CREATED:20230322T132144Z
LAST-MODIFIED:20260306T161007Z
UID:10064088-1759431600-1759431600@thepinestimes.com
SUMMARY:Thursday Music Bingo
DESCRIPTION:Come out to 715 Bar & Grill for Top Shelf Trivia Music Bingo! The fun takes place each Thursday 7pm-9pm.
URL:https://thepinestimes.com/event/715-bar-grill-music-bingo/2025-10-02/
LOCATION:715 Bar & Grill\, 715 SW Broad St\, Southern Pines\, NC\, 28387\, United States
CATEGORIES:Adult Connections,Adults,Games,Hobby/Enthusiast,Night Life,Pines Connector,Senior,Social,Southern Pines Events
ATTACH;FMTTYPE=image/png:https://thepinestimes.com/wp-content/uploads/Music-Bingo.png
END:VEVENT
BEGIN:VEVENT
DTSTART;TZID=America/New_York:20251001T200000
DTEND;TZID=America/New_York:20251001T230000
DTSTAMP:20260425T214409
CREATED:20230127T133549Z
LAST-MODIFIED:20260306T161134Z
UID:10064104-1759348800-1759359600@thepinestimes.com
SUMMARY:Karaoke Wednesday
DESCRIPTION:Come out for KJ’s Karaoke each Wednesday at 715 Bar & Grill from 8:00pm-11:00pm!
URL:https://thepinestimes.com/event/karaoke-wednesday-2/2025-10-01/
LOCATION:715 Bar & Grill\, 715 SW Broad St\, Southern Pines\, NC\, 28387\, United States
CATEGORIES:Adults,Beer and Wine,Hobby/Enthusiast,Music,Night Life,Pines Connector,Social,Southern Pines Events
ATTACH;FMTTYPE=image/png:https://thepinestimes.com/wp-content/uploads/Karaoke-e1754409547503.png
END:VEVENT
BEGIN:VEVENT
DTSTART;TZID=America/New_York:20250925T190000
DTEND;TZID=America/New_York:20250925T190000
DTSTAMP:20260425T214409
CREATED:20230322T132144Z
LAST-MODIFIED:20260306T161007Z
UID:10064087-1758826800-1758826800@thepinestimes.com
SUMMARY:Thursday Music Bingo
DESCRIPTION:Come out to 715 Bar & Grill for Top Shelf Trivia Music Bingo! The fun takes place each Thursday 7pm-9pm.
URL:https://thepinestimes.com/event/715-bar-grill-music-bingo/2025-09-25/
LOCATION:715 Bar & Grill\, 715 SW Broad St\, Southern Pines\, NC\, 28387\, United States
CATEGORIES:Adult Connections,Adults,Games,Hobby/Enthusiast,Night Life,Pines Connector,Senior,Social,Southern Pines Events
ATTACH;FMTTYPE=image/png:https://thepinestimes.com/wp-content/uploads/Music-Bingo.png
END:VEVENT
BEGIN:VEVENT
DTSTART;TZID=America/New_York:20250924T200000
DTEND;TZID=America/New_York:20250924T230000
DTSTAMP:20260425T214409
CREATED:20230127T133549Z
LAST-MODIFIED:20260306T161134Z
UID:10064103-1758744000-1758754800@thepinestimes.com
SUMMARY:Karaoke Wednesday
DESCRIPTION:Come out for KJ’s Karaoke each Wednesday at 715 Bar & Grill from 8:00pm-11:00pm!
URL:https://thepinestimes.com/event/karaoke-wednesday-2/2025-09-24/
LOCATION:715 Bar & Grill\, 715 SW Broad St\, Southern Pines\, NC\, 28387\, United States
CATEGORIES:Adults,Beer and Wine,Hobby/Enthusiast,Music,Night Life,Pines Connector,Social,Southern Pines Events
ATTACH;FMTTYPE=image/png:https://thepinestimes.com/wp-content/uploads/Karaoke-e1754409547503.png
END:VEVENT
BEGIN:VEVENT
DTSTART;TZID=America/New_York:20250918T190000
DTEND;TZID=America/New_York:20250918T190000
DTSTAMP:20260425T214409
CREATED:20230322T132144Z
LAST-MODIFIED:20260306T161007Z
UID:10064086-1758222000-1758222000@thepinestimes.com
SUMMARY:Thursday Music Bingo
DESCRIPTION:Come out to 715 Bar & Grill for Top Shelf Trivia Music Bingo! The fun takes place each Thursday 7pm-9pm.
URL:https://thepinestimes.com/event/715-bar-grill-music-bingo/2025-09-18/
LOCATION:715 Bar & Grill\, 715 SW Broad St\, Southern Pines\, NC\, 28387\, United States
CATEGORIES:Adult Connections,Adults,Games,Hobby/Enthusiast,Night Life,Pines Connector,Senior,Social,Southern Pines Events
ATTACH;FMTTYPE=image/png:https://thepinestimes.com/wp-content/uploads/Music-Bingo.png
END:VEVENT
BEGIN:VEVENT
DTSTART;TZID=America/New_York:20250917T200000
DTEND;TZID=America/New_York:20250917T230000
DTSTAMP:20260425T214409
CREATED:20230127T133549Z
LAST-MODIFIED:20260306T161134Z
UID:10064102-1758139200-1758150000@thepinestimes.com
SUMMARY:Karaoke Wednesday
DESCRIPTION:Come out for KJ’s Karaoke each Wednesday at 715 Bar & Grill from 8:00pm-11:00pm!
URL:https://thepinestimes.com/event/karaoke-wednesday-2/2025-09-17/
LOCATION:715 Bar & Grill\, 715 SW Broad St\, Southern Pines\, NC\, 28387\, United States
CATEGORIES:Adults,Beer and Wine,Hobby/Enthusiast,Music,Night Life,Pines Connector,Social,Southern Pines Events
ATTACH;FMTTYPE=image/png:https://thepinestimes.com/wp-content/uploads/Karaoke-e1754409547503.png
END:VEVENT
BEGIN:VEVENT
DTSTART;TZID=America/New_York:20250911T190000
DTEND;TZID=America/New_York:20250911T190000
DTSTAMP:20260425T214409
CREATED:20230322T132144Z
LAST-MODIFIED:20260306T161007Z
UID:10064085-1757617200-1757617200@thepinestimes.com
SUMMARY:Thursday Music Bingo
DESCRIPTION:Come out to 715 Bar & Grill for Top Shelf Trivia Music Bingo! The fun takes place each Thursday 7pm-9pm.
URL:https://thepinestimes.com/event/715-bar-grill-music-bingo/2025-09-11/
LOCATION:715 Bar & Grill\, 715 SW Broad St\, Southern Pines\, NC\, 28387\, United States
CATEGORIES:Adult Connections,Adults,Games,Hobby/Enthusiast,Night Life,Pines Connector,Senior,Social,Southern Pines Events
ATTACH;FMTTYPE=image/png:https://thepinestimes.com/wp-content/uploads/Music-Bingo.png
END:VEVENT
BEGIN:VEVENT
DTSTART;TZID=America/New_York:20250910T200000
DTEND;TZID=America/New_York:20250910T230000
DTSTAMP:20260425T214409
CREATED:20230127T133549Z
LAST-MODIFIED:20260306T161134Z
UID:10064101-1757534400-1757545200@thepinestimes.com
SUMMARY:Karaoke Wednesday
DESCRIPTION:Come out for KJ’s Karaoke each Wednesday at 715 Bar & Grill from 8:00pm-11:00pm!
URL:https://thepinestimes.com/event/karaoke-wednesday-2/2025-09-10/
LOCATION:715 Bar & Grill\, 715 SW Broad St\, Southern Pines\, NC\, 28387\, United States
CATEGORIES:Adults,Beer and Wine,Hobby/Enthusiast,Music,Night Life,Pines Connector,Social,Southern Pines Events
ATTACH;FMTTYPE=image/png:https://thepinestimes.com/wp-content/uploads/Karaoke-e1754409547503.png
END:VEVENT
BEGIN:VEVENT
DTSTART;TZID=America/New_York:20250904T190000
DTEND;TZID=America/New_York:20250904T190000
DTSTAMP:20260425T214409
CREATED:20230322T132144Z
LAST-MODIFIED:20260306T161007Z
UID:10064084-1757012400-1757012400@thepinestimes.com
SUMMARY:Thursday Music Bingo
DESCRIPTION:Come out to 715 Bar & Grill for Top Shelf Trivia Music Bingo! The fun takes place each Thursday 7pm-9pm.
URL:https://thepinestimes.com/event/715-bar-grill-music-bingo/2025-09-04/
LOCATION:715 Bar & Grill\, 715 SW Broad St\, Southern Pines\, NC\, 28387\, United States
CATEGORIES:Adult Connections,Adults,Games,Hobby/Enthusiast,Night Life,Pines Connector,Senior,Social,Southern Pines Events
ATTACH;FMTTYPE=image/png:https://thepinestimes.com/wp-content/uploads/Music-Bingo.png
END:VEVENT
BEGIN:VEVENT
DTSTART;TZID=America/New_York:20250903T200000
DTEND;TZID=America/New_York:20250903T230000
DTSTAMP:20260425T214409
CREATED:20230127T133549Z
LAST-MODIFIED:20260306T161134Z
UID:10064100-1756929600-1756940400@thepinestimes.com
SUMMARY:Karaoke Wednesday
DESCRIPTION:Come out for KJ’s Karaoke each Wednesday at 715 Bar & Grill from 8:00pm-11:00pm!
URL:https://thepinestimes.com/event/karaoke-wednesday-2/2025-09-03/
LOCATION:715 Bar & Grill\, 715 SW Broad St\, Southern Pines\, NC\, 28387\, United States
CATEGORIES:Adults,Beer and Wine,Hobby/Enthusiast,Music,Night Life,Pines Connector,Social,Southern Pines Events
ATTACH;FMTTYPE=image/png:https://thepinestimes.com/wp-content/uploads/Karaoke-e1754409547503.png
END:VEVENT
BEGIN:VEVENT
DTSTART;TZID=America/New_York:20250828T190000
DTEND;TZID=America/New_York:20250828T190000
DTSTAMP:20260425T214409
CREATED:20230322T132144Z
LAST-MODIFIED:20260306T161007Z
UID:10064083-1756407600-1756407600@thepinestimes.com
SUMMARY:Thursday Music Bingo
DESCRIPTION:Come out to 715 Bar & Grill for Top Shelf Trivia Music Bingo! The fun takes place each Thursday 7pm-9pm.
URL:https://thepinestimes.com/event/715-bar-grill-music-bingo/2025-08-28/
LOCATION:715 Bar & Grill\, 715 SW Broad St\, Southern Pines\, NC\, 28387\, United States
CATEGORIES:Adult Connections,Adults,Games,Hobby/Enthusiast,Night Life,Pines Connector,Senior,Social,Southern Pines Events
ATTACH;FMTTYPE=image/png:https://thepinestimes.com/wp-content/uploads/Music-Bingo.png
END:VEVENT
BEGIN:VEVENT
DTSTART;TZID=America/New_York:20250827T200000
DTEND;TZID=America/New_York:20250827T230000
DTSTAMP:20260425T214409
CREATED:20230127T133549Z
LAST-MODIFIED:20260306T161134Z
UID:10064099-1756324800-1756335600@thepinestimes.com
SUMMARY:Karaoke Wednesday
DESCRIPTION:Come out for KJ’s Karaoke each Wednesday at 715 Bar & Grill from 8:00pm-11:00pm!
URL:https://thepinestimes.com/event/karaoke-wednesday-2/2025-08-27/
LOCATION:715 Bar & Grill\, 715 SW Broad St\, Southern Pines\, NC\, 28387\, United States
CATEGORIES:Adults,Beer and Wine,Hobby/Enthusiast,Music,Night Life,Pines Connector,Social,Southern Pines Events
ATTACH;FMTTYPE=image/png:https://thepinestimes.com/wp-content/uploads/Karaoke-e1754409547503.png
END:VEVENT
BEGIN:VEVENT
DTSTART;TZID=America/New_York:20250821T190000
DTEND;TZID=America/New_York:20250821T190000
DTSTAMP:20260425T214409
CREATED:20230322T132144Z
LAST-MODIFIED:20260306T161007Z
UID:10064082-1755802800-1755802800@thepinestimes.com
SUMMARY:Thursday Music Bingo
DESCRIPTION:Come out to 715 Bar & Grill for Top Shelf Trivia Music Bingo! The fun takes place each Thursday 7pm-9pm.
URL:https://thepinestimes.com/event/715-bar-grill-music-bingo/2025-08-21/
LOCATION:715 Bar & Grill\, 715 SW Broad St\, Southern Pines\, NC\, 28387\, United States
CATEGORIES:Adult Connections,Adults,Games,Hobby/Enthusiast,Night Life,Pines Connector,Senior,Social,Southern Pines Events
ATTACH;FMTTYPE=image/png:https://thepinestimes.com/wp-content/uploads/Music-Bingo.png
END:VEVENT
BEGIN:VEVENT
DTSTART;TZID=America/New_York:20250820T200000
DTEND;TZID=America/New_York:20250820T230000
DTSTAMP:20260425T214409
CREATED:20230127T133549Z
LAST-MODIFIED:20260306T161134Z
UID:10064098-1755720000-1755730800@thepinestimes.com
SUMMARY:Karaoke Wednesday
DESCRIPTION:Come out for KJ’s Karaoke each Wednesday at 715 Bar & Grill from 8:00pm-11:00pm!
URL:https://thepinestimes.com/event/karaoke-wednesday-2/2025-08-20/
LOCATION:715 Bar & Grill\, 715 SW Broad St\, Southern Pines\, NC\, 28387\, United States
CATEGORIES:Adults,Beer and Wine,Hobby/Enthusiast,Music,Night Life,Pines Connector,Social,Southern Pines Events
ATTACH;FMTTYPE=image/png:https://thepinestimes.com/wp-content/uploads/Karaoke-e1754409547503.png
END:VEVENT
BEGIN:VEVENT
DTSTART;TZID=America/New_York:20250814T190000
DTEND;TZID=America/New_York:20250814T190000
DTSTAMP:20260425T214409
CREATED:20230322T132144Z
LAST-MODIFIED:20260306T161007Z
UID:10064081-1755198000-1755198000@thepinestimes.com
SUMMARY:Thursday Music Bingo
DESCRIPTION:Come out to 715 Bar & Grill for Top Shelf Trivia Music Bingo! The fun takes place each Thursday 7pm-9pm.
URL:https://thepinestimes.com/event/715-bar-grill-music-bingo/2025-08-14/
LOCATION:715 Bar & Grill\, 715 SW Broad St\, Southern Pines\, NC\, 28387\, United States
CATEGORIES:Adult Connections,Adults,Games,Hobby/Enthusiast,Night Life,Pines Connector,Senior,Social,Southern Pines Events
ATTACH;FMTTYPE=image/png:https://thepinestimes.com/wp-content/uploads/Music-Bingo.png
END:VEVENT
END:VCALENDAR