BEGIN:VCALENDAR
VERSION:2.0
PRODID:-//The Pines Times - ECPv6.15.20//NONSGML v1.0//EN
CALSCALE:GREGORIAN
METHOD:PUBLISH
X-WR-CALNAME:The Pines Times
X-ORIGINAL-URL:https://thepinestimes.com
X-WR-CALDESC:Events for The Pines Times
REFRESH-INTERVAL;VALUE=DURATION:PT1H
X-Robots-Tag:noindex
X-PUBLISHED-TTL:PT1H
BEGIN:VTIMEZONE
TZID:America/New_York
BEGIN:DAYLIGHT
TZOFFSETFROM:-0500
TZOFFSETTO:-0400
TZNAME:EDT
DTSTART:20240310T070000
END:DAYLIGHT
BEGIN:STANDARD
TZOFFSETFROM:-0400
TZOFFSETTO:-0500
TZNAME:EST
DTSTART:20241103T060000
END:STANDARD
BEGIN:DAYLIGHT
TZOFFSETFROM:-0500
TZOFFSETTO:-0400
TZNAME:EDT
DTSTART:20250309T070000
END:DAYLIGHT
BEGIN:STANDARD
TZOFFSETFROM:-0400
TZOFFSETTO:-0500
TZNAME:EST
DTSTART:20251102T060000
END:STANDARD
BEGIN:DAYLIGHT
TZOFFSETFROM:-0500
TZOFFSETTO:-0400
TZNAME:EDT
DTSTART:20260308T070000
END:DAYLIGHT
BEGIN:STANDARD
TZOFFSETFROM:-0400
TZOFFSETTO:-0500
TZNAME:EST
DTSTART:20261101T060000
END:STANDARD
END:VTIMEZONE
BEGIN:VEVENT
DTSTART;TZID=America/New_York:20251108T200000
DTEND;TZID=America/New_York:20251108T235900
DTSTAMP:20260422T205212
CREATED:20240913T184516Z
LAST-MODIFIED:20250824T161005Z
UID:10064864-1762632000-1762646340@thepinestimes.com
SUMMARY:Indoor Haunted House
DESCRIPTION:The terror returns! Come out for the largest indoor haunt at the Aberdeen Fear Factory! The haunted house runs September 26th-November 8th. Check out Technicolor terror in the 3D Clown House or play Zombie Outbreak Paintball and more. Each Thursday will have a special surprise. Children 13 and under should be accompanied by an adult. Call 910-944-0908 with questions. For full details and ticket options\, follow the link provided below.
URL:https://thepinestimes.com/event/indoor-haunted-house/2025-11-08/
LOCATION:Aberdeen Fear Factory\, 10570 NC-211\, Aberdeen\, NC\, 28315\, United States
CATEGORIES:Aberdeen Events,Adults,Exhibits,Halloween,Live Entertainment,Social,Tours
ATTACH;FMTTYPE=image/jpeg:https://thepinestimes.com/wp-content/uploads/AberdeenFearFactoryFeature.jpg
END:VEVENT
BEGIN:VEVENT
DTSTART;TZID=America/New_York:20251107T200000
DTEND;TZID=America/New_York:20251107T235900
DTSTAMP:20260422T205212
CREATED:20240913T184516Z
LAST-MODIFIED:20250824T161005Z
UID:10064863-1762545600-1762559940@thepinestimes.com
SUMMARY:Indoor Haunted House
DESCRIPTION:The terror returns! Come out for the largest indoor haunt at the Aberdeen Fear Factory! The haunted house runs September 26th-November 8th. Check out Technicolor terror in the 3D Clown House or play Zombie Outbreak Paintball and more. Each Thursday will have a special surprise. Children 13 and under should be accompanied by an adult. Call 910-944-0908 with questions. For full details and ticket options\, follow the link provided below.
URL:https://thepinestimes.com/event/indoor-haunted-house/2025-11-07/
LOCATION:Aberdeen Fear Factory\, 10570 NC-211\, Aberdeen\, NC\, 28315\, United States
CATEGORIES:Aberdeen Events,Adults,Exhibits,Halloween,Live Entertainment,Social,Tours
ATTACH;FMTTYPE=image/jpeg:https://thepinestimes.com/wp-content/uploads/AberdeenFearFactoryFeature.jpg
END:VEVENT
BEGIN:VEVENT
DTSTART;TZID=America/New_York:20251101T200000
DTEND;TZID=America/New_York:20251101T235900
DTSTAMP:20260422T205212
CREATED:20240913T184516Z
LAST-MODIFIED:20250824T161005Z
UID:10064862-1762027200-1762041540@thepinestimes.com
SUMMARY:Indoor Haunted House
DESCRIPTION:The terror returns! Come out for the largest indoor haunt at the Aberdeen Fear Factory! The haunted house runs September 26th-November 8th. Check out Technicolor terror in the 3D Clown House or play Zombie Outbreak Paintball and more. Each Thursday will have a special surprise. Children 13 and under should be accompanied by an adult. Call 910-944-0908 with questions. For full details and ticket options\, follow the link provided below.
URL:https://thepinestimes.com/event/indoor-haunted-house/2025-11-01/
LOCATION:Aberdeen Fear Factory\, 10570 NC-211\, Aberdeen\, NC\, 28315\, United States
CATEGORIES:Aberdeen Events,Adults,Exhibits,Halloween,Live Entertainment,Social,Tours
ATTACH;FMTTYPE=image/jpeg:https://thepinestimes.com/wp-content/uploads/AberdeenFearFactoryFeature.jpg
END:VEVENT
BEGIN:VEVENT
DTSTART;TZID=America/New_York:20251031T200000
DTEND;TZID=America/New_York:20251031T235900
DTSTAMP:20260422T205212
CREATED:20240913T184516Z
LAST-MODIFIED:20250824T161005Z
UID:10064861-1761940800-1761955140@thepinestimes.com
SUMMARY:Indoor Haunted House
DESCRIPTION:The terror returns! Come out for the largest indoor haunt at the Aberdeen Fear Factory! The haunted house runs September 26th-November 8th. Check out Technicolor terror in the 3D Clown House or play Zombie Outbreak Paintball and more. Each Thursday will have a special surprise. Children 13 and under should be accompanied by an adult. Call 910-944-0908 with questions. For full details and ticket options\, follow the link provided below.
URL:https://thepinestimes.com/event/indoor-haunted-house/2025-10-31/
LOCATION:Aberdeen Fear Factory\, 10570 NC-211\, Aberdeen\, NC\, 28315\, United States
CATEGORIES:Aberdeen Events,Adults,Exhibits,Halloween,Live Entertainment,Social,Tours
ATTACH;FMTTYPE=image/jpeg:https://thepinestimes.com/wp-content/uploads/AberdeenFearFactoryFeature.jpg
END:VEVENT
BEGIN:VEVENT
DTSTART;TZID=America/New_York:20251025T200000
DTEND;TZID=America/New_York:20251025T235900
DTSTAMP:20260422T205212
CREATED:20240913T184516Z
LAST-MODIFIED:20250824T161005Z
UID:10064860-1761422400-1761436740@thepinestimes.com
SUMMARY:Indoor Haunted House
DESCRIPTION:The terror returns! Come out for the largest indoor haunt at the Aberdeen Fear Factory! The haunted house runs September 26th-November 8th. Check out Technicolor terror in the 3D Clown House or play Zombie Outbreak Paintball and more. Each Thursday will have a special surprise. Children 13 and under should be accompanied by an adult. Call 910-944-0908 with questions. For full details and ticket options\, follow the link provided below.
URL:https://thepinestimes.com/event/indoor-haunted-house/2025-10-25/
LOCATION:Aberdeen Fear Factory\, 10570 NC-211\, Aberdeen\, NC\, 28315\, United States
CATEGORIES:Aberdeen Events,Adults,Exhibits,Halloween,Live Entertainment,Social,Tours
ATTACH;FMTTYPE=image/jpeg:https://thepinestimes.com/wp-content/uploads/AberdeenFearFactoryFeature.jpg
END:VEVENT
BEGIN:VEVENT
DTSTART;TZID=America/New_York:20251024T200000
DTEND;TZID=America/New_York:20251024T235900
DTSTAMP:20260422T205212
CREATED:20240913T184516Z
LAST-MODIFIED:20250824T161005Z
UID:10064859-1761336000-1761350340@thepinestimes.com
SUMMARY:Indoor Haunted House
DESCRIPTION:The terror returns! Come out for the largest indoor haunt at the Aberdeen Fear Factory! The haunted house runs September 26th-November 8th. Check out Technicolor terror in the 3D Clown House or play Zombie Outbreak Paintball and more. Each Thursday will have a special surprise. Children 13 and under should be accompanied by an adult. Call 910-944-0908 with questions. For full details and ticket options\, follow the link provided below.
URL:https://thepinestimes.com/event/indoor-haunted-house/2025-10-24/
LOCATION:Aberdeen Fear Factory\, 10570 NC-211\, Aberdeen\, NC\, 28315\, United States
CATEGORIES:Aberdeen Events,Adults,Exhibits,Halloween,Live Entertainment,Social,Tours
ATTACH;FMTTYPE=image/jpeg:https://thepinestimes.com/wp-content/uploads/AberdeenFearFactoryFeature.jpg
END:VEVENT
BEGIN:VEVENT
DTSTART;TZID=America/New_York:20251018T200000
DTEND;TZID=America/New_York:20251018T235900
DTSTAMP:20260422T205212
CREATED:20240913T184516Z
LAST-MODIFIED:20250824T161005Z
UID:10064858-1760817600-1760831940@thepinestimes.com
SUMMARY:Indoor Haunted House
DESCRIPTION:The terror returns! Come out for the largest indoor haunt at the Aberdeen Fear Factory! The haunted house runs September 26th-November 8th. Check out Technicolor terror in the 3D Clown House or play Zombie Outbreak Paintball and more. Each Thursday will have a special surprise. Children 13 and under should be accompanied by an adult. Call 910-944-0908 with questions. For full details and ticket options\, follow the link provided below.
URL:https://thepinestimes.com/event/indoor-haunted-house/2025-10-18/
LOCATION:Aberdeen Fear Factory\, 10570 NC-211\, Aberdeen\, NC\, 28315\, United States
CATEGORIES:Aberdeen Events,Adults,Exhibits,Halloween,Live Entertainment,Social,Tours
ATTACH;FMTTYPE=image/jpeg:https://thepinestimes.com/wp-content/uploads/AberdeenFearFactoryFeature.jpg
END:VEVENT
BEGIN:VEVENT
DTSTART;TZID=America/New_York:20251017T200000
DTEND;TZID=America/New_York:20251017T235900
DTSTAMP:20260422T205212
CREATED:20240913T184516Z
LAST-MODIFIED:20250824T161005Z
UID:10064857-1760731200-1760745540@thepinestimes.com
SUMMARY:Indoor Haunted House
DESCRIPTION:The terror returns! Come out for the largest indoor haunt at the Aberdeen Fear Factory! The haunted house runs September 26th-November 8th. Check out Technicolor terror in the 3D Clown House or play Zombie Outbreak Paintball and more. Each Thursday will have a special surprise. Children 13 and under should be accompanied by an adult. Call 910-944-0908 with questions. For full details and ticket options\, follow the link provided below.
URL:https://thepinestimes.com/event/indoor-haunted-house/2025-10-17/
LOCATION:Aberdeen Fear Factory\, 10570 NC-211\, Aberdeen\, NC\, 28315\, United States
CATEGORIES:Aberdeen Events,Adults,Exhibits,Halloween,Live Entertainment,Social,Tours
ATTACH;FMTTYPE=image/jpeg:https://thepinestimes.com/wp-content/uploads/AberdeenFearFactoryFeature.jpg
END:VEVENT
BEGIN:VEVENT
DTSTART;TZID=America/New_York:20251011T200000
DTEND;TZID=America/New_York:20251011T235900
DTSTAMP:20260422T205212
CREATED:20240913T184516Z
LAST-MODIFIED:20250824T161005Z
UID:10064856-1760212800-1760227140@thepinestimes.com
SUMMARY:Indoor Haunted House
DESCRIPTION:The terror returns! Come out for the largest indoor haunt at the Aberdeen Fear Factory! The haunted house runs September 26th-November 8th. Check out Technicolor terror in the 3D Clown House or play Zombie Outbreak Paintball and more. Each Thursday will have a special surprise. Children 13 and under should be accompanied by an adult. Call 910-944-0908 with questions. For full details and ticket options\, follow the link provided below.
URL:https://thepinestimes.com/event/indoor-haunted-house/2025-10-11/
LOCATION:Aberdeen Fear Factory\, 10570 NC-211\, Aberdeen\, NC\, 28315\, United States
CATEGORIES:Aberdeen Events,Adults,Exhibits,Halloween,Live Entertainment,Social,Tours
ATTACH;FMTTYPE=image/jpeg:https://thepinestimes.com/wp-content/uploads/AberdeenFearFactoryFeature.jpg
END:VEVENT
BEGIN:VEVENT
DTSTART;TZID=America/New_York:20251010T200000
DTEND;TZID=America/New_York:20251010T235900
DTSTAMP:20260422T205212
CREATED:20240913T184516Z
LAST-MODIFIED:20250824T161005Z
UID:10064855-1760126400-1760140740@thepinestimes.com
SUMMARY:Indoor Haunted House
DESCRIPTION:The terror returns! Come out for the largest indoor haunt at the Aberdeen Fear Factory! The haunted house runs September 26th-November 8th. Check out Technicolor terror in the 3D Clown House or play Zombie Outbreak Paintball and more. Each Thursday will have a special surprise. Children 13 and under should be accompanied by an adult. Call 910-944-0908 with questions. For full details and ticket options\, follow the link provided below.
URL:https://thepinestimes.com/event/indoor-haunted-house/2025-10-10/
LOCATION:Aberdeen Fear Factory\, 10570 NC-211\, Aberdeen\, NC\, 28315\, United States
CATEGORIES:Aberdeen Events,Adults,Exhibits,Halloween,Live Entertainment,Social,Tours
ATTACH;FMTTYPE=image/jpeg:https://thepinestimes.com/wp-content/uploads/AberdeenFearFactoryFeature.jpg
END:VEVENT
BEGIN:VEVENT
DTSTART;TZID=America/New_York:20251004T200000
DTEND;TZID=America/New_York:20251004T235900
DTSTAMP:20260422T205213
CREATED:20240913T184516Z
LAST-MODIFIED:20250824T161005Z
UID:10064854-1759608000-1759622340@thepinestimes.com
SUMMARY:Indoor Haunted House
DESCRIPTION:The terror returns! Come out for the largest indoor haunt at the Aberdeen Fear Factory! The haunted house runs September 26th-November 8th. Check out Technicolor terror in the 3D Clown House or play Zombie Outbreak Paintball and more. Each Thursday will have a special surprise. Children 13 and under should be accompanied by an adult. Call 910-944-0908 with questions. For full details and ticket options\, follow the link provided below.
URL:https://thepinestimes.com/event/indoor-haunted-house/2025-10-04/
LOCATION:Aberdeen Fear Factory\, 10570 NC-211\, Aberdeen\, NC\, 28315\, United States
CATEGORIES:Aberdeen Events,Adults,Exhibits,Halloween,Live Entertainment,Social,Tours
ATTACH;FMTTYPE=image/jpeg:https://thepinestimes.com/wp-content/uploads/AberdeenFearFactoryFeature.jpg
END:VEVENT
BEGIN:VEVENT
DTSTART;TZID=America/New_York:20251003T200000
DTEND;TZID=America/New_York:20251003T235900
DTSTAMP:20260422T205213
CREATED:20240913T184516Z
LAST-MODIFIED:20250824T161005Z
UID:10064853-1759521600-1759535940@thepinestimes.com
SUMMARY:Indoor Haunted House
DESCRIPTION:The terror returns! Come out for the largest indoor haunt at the Aberdeen Fear Factory! The haunted house runs September 26th-November 8th. Check out Technicolor terror in the 3D Clown House or play Zombie Outbreak Paintball and more. Each Thursday will have a special surprise. Children 13 and under should be accompanied by an adult. Call 910-944-0908 with questions. For full details and ticket options\, follow the link provided below.
URL:https://thepinestimes.com/event/indoor-haunted-house/2025-10-03/
LOCATION:Aberdeen Fear Factory\, 10570 NC-211\, Aberdeen\, NC\, 28315\, United States
CATEGORIES:Aberdeen Events,Adults,Exhibits,Halloween,Live Entertainment,Social,Tours
ATTACH;FMTTYPE=image/jpeg:https://thepinestimes.com/wp-content/uploads/AberdeenFearFactoryFeature.jpg
END:VEVENT
BEGIN:VEVENT
DTSTART;TZID=America/New_York:20250927T200000
DTEND;TZID=America/New_York:20250927T235900
DTSTAMP:20260422T205213
CREATED:20240913T184516Z
LAST-MODIFIED:20250824T161005Z
UID:10064852-1759003200-1759017540@thepinestimes.com
SUMMARY:Indoor Haunted House
DESCRIPTION:The terror returns! Come out for the largest indoor haunt at the Aberdeen Fear Factory! The haunted house runs September 26th-November 8th. Check out Technicolor terror in the 3D Clown House or play Zombie Outbreak Paintball and more. Each Thursday will have a special surprise. Children 13 and under should be accompanied by an adult. Call 910-944-0908 with questions. For full details and ticket options\, follow the link provided below.
URL:https://thepinestimes.com/event/indoor-haunted-house/2025-09-27/
LOCATION:Aberdeen Fear Factory\, 10570 NC-211\, Aberdeen\, NC\, 28315\, United States
CATEGORIES:Aberdeen Events,Adults,Exhibits,Halloween,Live Entertainment,Social,Tours
ATTACH;FMTTYPE=image/jpeg:https://thepinestimes.com/wp-content/uploads/AberdeenFearFactoryFeature.jpg
END:VEVENT
BEGIN:VEVENT
DTSTART;TZID=America/New_York:20250926T200000
DTEND;TZID=America/New_York:20250926T235900
DTSTAMP:20260422T205213
CREATED:20240913T184516Z
LAST-MODIFIED:20250824T161005Z
UID:10064851-1758916800-1758931140@thepinestimes.com
SUMMARY:Indoor Haunted House
DESCRIPTION:The terror returns! Come out for the largest indoor haunt at the Aberdeen Fear Factory! The haunted house runs September 26th-November 8th. Check out Technicolor terror in the 3D Clown House or play Zombie Outbreak Paintball and more. Each Thursday will have a special surprise. Children 13 and under should be accompanied by an adult. Call 910-944-0908 with questions. For full details and ticket options\, follow the link provided below.
URL:https://thepinestimes.com/event/indoor-haunted-house/2025-09-26/
LOCATION:Aberdeen Fear Factory\, 10570 NC-211\, Aberdeen\, NC\, 28315\, United States
CATEGORIES:Aberdeen Events,Adults,Exhibits,Halloween,Live Entertainment,Social,Tours
ATTACH;FMTTYPE=image/jpeg:https://thepinestimes.com/wp-content/uploads/AberdeenFearFactoryFeature.jpg
END:VEVENT
END:VCALENDAR