BEGIN:VCALENDAR
VERSION:2.0
PRODID:-//The Pines Times - ECPv6.15.20//NONSGML v1.0//EN
CALSCALE:GREGORIAN
METHOD:PUBLISH
X-ORIGINAL-URL:https://thepinestimes.com
X-WR-CALDESC:Events for The Pines Times
REFRESH-INTERVAL;VALUE=DURATION:PT1H
X-Robots-Tag:noindex
X-PUBLISHED-TTL:PT1H
BEGIN:VTIMEZONE
TZID:America/New_York
BEGIN:DAYLIGHT
TZOFFSETFROM:-0500
TZOFFSETTO:-0400
TZNAME:EDT
DTSTART:20240310T070000
END:DAYLIGHT
BEGIN:STANDARD
TZOFFSETFROM:-0400
TZOFFSETTO:-0500
TZNAME:EST
DTSTART:20241103T060000
END:STANDARD
BEGIN:DAYLIGHT
TZOFFSETFROM:-0500
TZOFFSETTO:-0400
TZNAME:EDT
DTSTART:20250309T070000
END:DAYLIGHT
BEGIN:STANDARD
TZOFFSETFROM:-0400
TZOFFSETTO:-0500
TZNAME:EST
DTSTART:20251102T060000
END:STANDARD
BEGIN:DAYLIGHT
TZOFFSETFROM:-0500
TZOFFSETTO:-0400
TZNAME:EDT
DTSTART:20260308T070000
END:DAYLIGHT
BEGIN:STANDARD
TZOFFSETFROM:-0400
TZOFFSETTO:-0500
TZNAME:EST
DTSTART:20261101T060000
END:STANDARD
END:VTIMEZONE
BEGIN:VEVENT
DTSTART;TZID=America/New_York:20251108T090000
DTEND;TZID=America/New_York:20251108T150000
DTSTAMP:20260424T073310
CREATED:20251028T123105Z
LAST-MODIFIED:20251028T123105Z
UID:10073353-1762592400-1762614000@thepinestimes.com
SUMMARY:Wreaths Across America Car wash Fundraiser
DESCRIPTION:Car Wash for a Cause! Join om Saturday\, November 8th\, from 9am-3pm at Advance Auto Parts (1804 N Sandhills Blvd\, Aberdeen) for a Car Wash Fundraiser supporting Wreaths Across America. All proceeds will go toward purchasing wreaths to honor and remember our local veterans this December. Come out\, get your car shining\, and support a great cause! \n 
URL:https://thepinestimes.com/event/wreaths-across-america-car-wash-fundraiser/
LOCATION:Advance Auto Parts\, 1804 N Sandhills Blvd.\, Aberdeen\, NC\, 28315\, United States
CATEGORIES:Adults,Fundraiser,Hobby/Enthusiast,Military,Moore County Events,Senior,Social
END:VEVENT
END:VCALENDAR