BEGIN:VCALENDAR
VERSION:2.0
PRODID:-//The Pines Times - ECPv6.15.20//NONSGML v1.0//EN
CALSCALE:GREGORIAN
METHOD:PUBLISH
X-WR-CALNAME:The Pines Times
X-ORIGINAL-URL:https://thepinestimes.com
X-WR-CALDESC:Events for The Pines Times
REFRESH-INTERVAL;VALUE=DURATION:PT1H
X-Robots-Tag:noindex
X-PUBLISHED-TTL:PT1H
BEGIN:VTIMEZONE
TZID:America/New_York
BEGIN:DAYLIGHT
TZOFFSETFROM:-0500
TZOFFSETTO:-0400
TZNAME:EDT
DTSTART:20240310T070000
END:DAYLIGHT
BEGIN:STANDARD
TZOFFSETFROM:-0400
TZOFFSETTO:-0500
TZNAME:EST
DTSTART:20241103T060000
END:STANDARD
BEGIN:DAYLIGHT
TZOFFSETFROM:-0500
TZOFFSETTO:-0400
TZNAME:EDT
DTSTART:20250309T070000
END:DAYLIGHT
BEGIN:STANDARD
TZOFFSETFROM:-0400
TZOFFSETTO:-0500
TZNAME:EST
DTSTART:20251102T060000
END:STANDARD
BEGIN:DAYLIGHT
TZOFFSETFROM:-0500
TZOFFSETTO:-0400
TZNAME:EDT
DTSTART:20260308T070000
END:DAYLIGHT
BEGIN:STANDARD
TZOFFSETFROM:-0400
TZOFFSETTO:-0500
TZNAME:EST
DTSTART:20261101T060000
END:STANDARD
BEGIN:DAYLIGHT
TZOFFSETFROM:-0500
TZOFFSETTO:-0400
TZNAME:EDT
DTSTART:20270314T070000
END:DAYLIGHT
BEGIN:STANDARD
TZOFFSETFROM:-0400
TZOFFSETTO:-0500
TZNAME:EST
DTSTART:20271107T060000
END:STANDARD
END:VTIMEZONE
BEGIN:VEVENT
DTSTART;TZID=America/New_York:20260321T100000
DTEND;TZID=America/New_York:20260321T170000
DTSTAMP:20260421T235540
CREATED:20260318T144320Z
LAST-MODIFIED:20260318T144320Z
UID:10083523-1774087200-1774112400@thepinestimes.com
SUMMARY:7 Year Anniversary of Against the Grain Shoppe
DESCRIPTION:Celebrate seven years of shopping local with Against the Grain Shoppe on Saturday\, March 21st\, from 10:00AM-5:00PM in downtown Southern Pines. There will be a full day of special discounts\, local pop-ups\, and champagne to mark the milestone. Come together and support local makers while enjoying the celebration and exclusive shop deals!
URL:https://thepinestimes.com/event/7-year-anniversary-of-against-the-grain-shoppe/
LOCATION:Against the Grain Shoppe\, 220 NW Broad Street\, Southern Pines\, NC\, 28387\, United States
CATEGORIES:Anniversary Celebration,Birthday Celebration,Pop Ups,Shopping,Social,Southern Pines Events
ATTACH;FMTTYPE=image/jpeg:https://thepinestimes.com/wp-content/uploads/AgainstTheGrainShoppeFeature-1.jpg
ORGANIZER;CN="Against the Grain Shoppe":MAILTO:againstthegrainshoppe@gmail.com
END:VEVENT
BEGIN:VEVENT
DTSTART;TZID=America/New_York:20251109T110000
DTEND;TZID=America/New_York:20251109T160000
DTSTAMP:20260421T235540
CREATED:20251109T161712Z
LAST-MODIFIED:20251109T161856Z
UID:10075130-1762686000-1762704000@thepinestimes.com
SUMMARY:Holiday Open House
DESCRIPTION:Come out to Against The Grain in Southern Pines for a Holiday Open House this Sunday\, November 9th | 11am-4pm! Join them for a festive day that includes shopping\, snacks\, and champagne. As a special treat\, all ornaments will be 10% off on Sunday only. \n \n 
URL:https://thepinestimes.com/event/holiday-open-house-2/
LOCATION:Against the Grain Shoppe\, 220 NW Broad Street\, Southern Pines\, NC\, 28387\, United States
CATEGORIES:Adults,Beer and Wine,Christmas,Holiday Events,Open House,Senior,Shopping,Social,Southern Pines Events,Young Adults
ATTACH;FMTTYPE=image/jpeg:https://thepinestimes.com/wp-content/uploads/AgainstTheGrainShoppeFeature.jpg
ORGANIZER;CN="Against the Grain Shoppe":MAILTO:againstthegrainshoppe@gmail.com
END:VEVENT
END:VCALENDAR