BEGIN:VCALENDAR
VERSION:2.0
PRODID:-//The Pines Times - ECPv6.15.20//NONSGML v1.0//EN
CALSCALE:GREGORIAN
METHOD:PUBLISH
X-ORIGINAL-URL:https://thepinestimes.com
X-WR-CALDESC:Events for The Pines Times
REFRESH-INTERVAL;VALUE=DURATION:PT1H
X-Robots-Tag:noindex
X-PUBLISHED-TTL:PT1H
BEGIN:VTIMEZONE
TZID:America/New_York
BEGIN:DAYLIGHT
TZOFFSETFROM:-0500
TZOFFSETTO:-0400
TZNAME:EDT
DTSTART:20240310T070000
END:DAYLIGHT
BEGIN:STANDARD
TZOFFSETFROM:-0400
TZOFFSETTO:-0500
TZNAME:EST
DTSTART:20241103T060000
END:STANDARD
BEGIN:DAYLIGHT
TZOFFSETFROM:-0500
TZOFFSETTO:-0400
TZNAME:EDT
DTSTART:20250309T070000
END:DAYLIGHT
BEGIN:STANDARD
TZOFFSETFROM:-0400
TZOFFSETTO:-0500
TZNAME:EST
DTSTART:20251102T060000
END:STANDARD
BEGIN:DAYLIGHT
TZOFFSETFROM:-0500
TZOFFSETTO:-0400
TZNAME:EDT
DTSTART:20260308T070000
END:DAYLIGHT
BEGIN:STANDARD
TZOFFSETFROM:-0400
TZOFFSETTO:-0500
TZNAME:EST
DTSTART:20261101T060000
END:STANDARD
END:VTIMEZONE
BEGIN:VEVENT
DTSTART;TZID=America/New_York:20251026T110000
DTEND;TZID=America/New_York:20251026T140000
DTSTAMP:20260422T000221
CREATED:20250929T165150Z
LAST-MODIFIED:20250929T165150Z
UID:10072182-1761476400-1761487200@thepinestimes.com
SUMMARY:Community in the Courtyard
DESCRIPTION:Be a part of Community in the Courtyard\, a special\, child-led\, and family-friendly event presented by The Connection Corner and Kidcentric Studio! Everyone is welcome to this free afternoon featuring engaging activities like sensory play\, arts and crafts\, mindfulness exercises\, rock painting\, and access to valuable family resources. Join us on Sunday\, October 26th from 11:00am-2:00pm at Belvedere Plaza in Southern Pines. Registration can be completed throught the event website link provided below. \n 
URL:https://thepinestimes.com/event/community-in-the-courtyard/
LOCATION:Belvedere Plaza\, W. Pennsylvanie Ave.\, Southern Pines\, 28387\, United States
CATEGORIES:Art/Photography,Arts,Children,Crafts,Family,Games,Nature/Outdoors,Piney's Kids,Piney's Tiny's,Social,Southern Pines Events
ATTACH;FMTTYPE=image/jpeg:https://thepinestimes.com/wp-content/uploads/CommunityInTheCourtyardFeature.jpg
END:VEVENT
END:VCALENDAR