BEGIN:VCALENDAR
VERSION:2.0
PRODID:-//The Pines Times - ECPv6.15.20//NONSGML v1.0//EN
CALSCALE:GREGORIAN
METHOD:PUBLISH
X-ORIGINAL-URL:https://thepinestimes.com
X-WR-CALDESC:Events for The Pines Times
REFRESH-INTERVAL;VALUE=DURATION:PT1H
X-Robots-Tag:noindex
X-PUBLISHED-TTL:PT1H
BEGIN:VTIMEZONE
TZID:America/New_York
BEGIN:DAYLIGHT
TZOFFSETFROM:-0500
TZOFFSETTO:-0400
TZNAME:EDT
DTSTART:20240310T070000
END:DAYLIGHT
BEGIN:STANDARD
TZOFFSETFROM:-0400
TZOFFSETTO:-0500
TZNAME:EST
DTSTART:20241103T060000
END:STANDARD
BEGIN:DAYLIGHT
TZOFFSETFROM:-0500
TZOFFSETTO:-0400
TZNAME:EDT
DTSTART:20250309T070000
END:DAYLIGHT
BEGIN:STANDARD
TZOFFSETFROM:-0400
TZOFFSETTO:-0500
TZNAME:EST
DTSTART:20251102T060000
END:STANDARD
BEGIN:DAYLIGHT
TZOFFSETFROM:-0500
TZOFFSETTO:-0400
TZNAME:EDT
DTSTART:20260308T070000
END:DAYLIGHT
BEGIN:STANDARD
TZOFFSETFROM:-0400
TZOFFSETTO:-0500
TZNAME:EST
DTSTART:20261101T060000
END:STANDARD
BEGIN:DAYLIGHT
TZOFFSETFROM:-0500
TZOFFSETTO:-0400
TZNAME:EDT
DTSTART:20270314T070000
END:DAYLIGHT
BEGIN:STANDARD
TZOFFSETFROM:-0400
TZOFFSETTO:-0500
TZNAME:EST
DTSTART:20271107T060000
END:STANDARD
END:VTIMEZONE
BEGIN:VEVENT
DTSTART;TZID=America/New_York:20260404T100000
DTEND;TZID=America/New_York:20260404T120000
DTSTAMP:20260425T173203
CREATED:20260322T134724Z
LAST-MODIFIED:20260322T134724Z
UID:10083727-1775296800-1775304000@thepinestimes.com
SUMMARY:Equestrian Event: Frostbite Series Combined Test
DESCRIPTION:The Moore County Driving Club has rescheduled the Frostbite Series Combined Test for Saturday\, April 4th\, which will now take place from 10:00AM-12:00PM at Big Sky Farm. The entry fee for this competition is $50.00 per participant. Those interested in joining the event can register by emailing Keady at hikeady@yahoo.com to secure their spot. This event offers a great opportunity for the local driving community to gather and compete in a beautiful farm setting. Spectators are encouraged to attend.
URL:https://thepinestimes.com/event/equestrian-event-frostbite-series-combined-test/
LOCATION:Big Sky Farm\, 390 Tremont Place\, Southern Pines\, NC\, 28387\, United States
CATEGORIES:Adults,Equestrian,Farm Event,Hobby/Enthusiast,Nature/Outdoors,Senior,Social,Southern Pines Events
ATTACH;FMTTYPE=image/jpeg:https://thepinestimes.com/wp-content/uploads/MooreCountyDrivingClubFeature.jpg
END:VEVENT
BEGIN:VEVENT
DTSTART;TZID=America/New_York:20250427T100000
DTEND;TZID=America/New_York:20250427T170000
DTSTAMP:20260425T173203
CREATED:20250416T124802Z
LAST-MODIFIED:20250416T124802Z
UID:10056708-1745748000-1745773200@thepinestimes.com
SUMMARY:Four in Hand Club: Annual Spring Drive
DESCRIPTION:The Four in Hand Club will be in Southern Pines from April 25th-27th for its Annual Spring Drive. Drives will begin at Big Sky and is a great opportunity for people to see the many four in hand turnouts. Volunteers needed and appreciated. Please contact Keady at hikeady@yahoo.com.
URL:https://thepinestimes.com/event/four-in-hand-club-annual-spring-drive/2025-04-27/
LOCATION:Big Sky Farm\, 390 Tremont Place\, Southern Pines\, NC\, 28387\, United States
CATEGORIES:Adults,Equestrian,Hobby/Enthusiast,Nature/Outdoors,Pets/Animals,Senior,Social,Southern Pines Events,Volunteer
ATTACH;FMTTYPE=image/jpeg:https://thepinestimes.com/wp-content/uploads/MooreCountyDrivingClubFeature.jpg
END:VEVENT
BEGIN:VEVENT
DTSTART;TZID=America/New_York:20250426T100000
DTEND;TZID=America/New_York:20250426T170000
DTSTAMP:20260425T173203
CREATED:20250416T124802Z
LAST-MODIFIED:20250416T124802Z
UID:10056707-1745661600-1745686800@thepinestimes.com
SUMMARY:Four in Hand Club: Annual Spring Drive
DESCRIPTION:The Four in Hand Club will be in Southern Pines from April 25th-27th for its Annual Spring Drive. Drives will begin at Big Sky and is a great opportunity for people to see the many four in hand turnouts. Volunteers needed and appreciated. Please contact Keady at hikeady@yahoo.com.
URL:https://thepinestimes.com/event/four-in-hand-club-annual-spring-drive/2025-04-26/
LOCATION:Big Sky Farm\, 390 Tremont Place\, Southern Pines\, NC\, 28387\, United States
CATEGORIES:Adults,Equestrian,Hobby/Enthusiast,Nature/Outdoors,Pets/Animals,Senior,Social,Southern Pines Events,Volunteer
ATTACH;FMTTYPE=image/jpeg:https://thepinestimes.com/wp-content/uploads/MooreCountyDrivingClubFeature.jpg
END:VEVENT
BEGIN:VEVENT
DTSTART;TZID=America/New_York:20250425T100000
DTEND;TZID=America/New_York:20250425T170000
DTSTAMP:20260425T173203
CREATED:20250416T124802Z
LAST-MODIFIED:20250416T124802Z
UID:10056706-1745575200-1745600400@thepinestimes.com
SUMMARY:Four in Hand Club: Annual Spring Drive
DESCRIPTION:The Four in Hand Club will be in Southern Pines from April 25th-27th for its Annual Spring Drive. Drives will begin at Big Sky and is a great opportunity for people to see the many four in hand turnouts. Volunteers needed and appreciated. Please contact Keady at hikeady@yahoo.com.
URL:https://thepinestimes.com/event/four-in-hand-club-annual-spring-drive/2025-04-25/
LOCATION:Big Sky Farm\, 390 Tremont Place\, Southern Pines\, NC\, 28387\, United States
CATEGORIES:Adults,Equestrian,Hobby/Enthusiast,Nature/Outdoors,Pets/Animals,Senior,Social,Southern Pines Events,Volunteer
ATTACH;FMTTYPE=image/jpeg:https://thepinestimes.com/wp-content/uploads/MooreCountyDrivingClubFeature.jpg
END:VEVENT
BEGIN:VEVENT
DTSTART;TZID=America/New_York:20250222T110000
DTEND;TZID=America/New_York:20250222T140000
DTSTAMP:20260425T173203
CREATED:20250210T143557Z
LAST-MODIFIED:20250210T143557Z
UID:10053626-1740222000-1740232800@thepinestimes.com
SUMMARY:Equestrian Event: "Pine & Dandy" Fix a Test Cones
DESCRIPTION:The Moore County Driving Club invites you to join for Pine & Dandy Cones at Big Sky Farm on Saturday\, February 22nd\, from 11am-2pm. Fix a Test Cones. 20 cones. $30 per entry. Randy Cadwell will be the judge. Please register by emailing hikeady@yahoo.com. Spectators are welcome.
URL:https://thepinestimes.com/event/equestrian-event-pine-dandy-fix-a-test-cones/
LOCATION:Big Sky Farm\, 390 Tremont Place\, Southern Pines\, NC\, 28387\, United States
CATEGORIES:Adults,Equestrian,Health & Wellness,Hobby/Enthusiast,Live Entertainment,Nature/Outdoors,Pets/Animals,Southern Pines Events
ATTACH;FMTTYPE=image/jpeg:https://thepinestimes.com/wp-content/uploads/MooreCountyDrivingClubFeature.jpg
END:VEVENT
END:VCALENDAR