BEGIN:VCALENDAR
VERSION:2.0
PRODID:-//The Pines Times - ECPv6.15.20//NONSGML v1.0//EN
CALSCALE:GREGORIAN
METHOD:PUBLISH
X-ORIGINAL-URL:https://thepinestimes.com
X-WR-CALDESC:Events for The Pines Times
REFRESH-INTERVAL;VALUE=DURATION:PT1H
X-Robots-Tag:noindex
X-PUBLISHED-TTL:PT1H
BEGIN:VTIMEZONE
TZID:America/New_York
BEGIN:DAYLIGHT
TZOFFSETFROM:-0500
TZOFFSETTO:-0400
TZNAME:EDT
DTSTART:20240310T070000
END:DAYLIGHT
BEGIN:STANDARD
TZOFFSETFROM:-0400
TZOFFSETTO:-0500
TZNAME:EST
DTSTART:20241103T060000
END:STANDARD
BEGIN:DAYLIGHT
TZOFFSETFROM:-0500
TZOFFSETTO:-0400
TZNAME:EDT
DTSTART:20250309T070000
END:DAYLIGHT
BEGIN:STANDARD
TZOFFSETFROM:-0400
TZOFFSETTO:-0500
TZNAME:EST
DTSTART:20251102T060000
END:STANDARD
BEGIN:DAYLIGHT
TZOFFSETFROM:-0500
TZOFFSETTO:-0400
TZNAME:EDT
DTSTART:20260308T070000
END:DAYLIGHT
BEGIN:STANDARD
TZOFFSETFROM:-0400
TZOFFSETTO:-0500
TZNAME:EST
DTSTART:20261101T060000
END:STANDARD
END:VTIMEZONE
BEGIN:VEVENT
DTSTART;TZID=America/New_York:20250927T090000
DTEND;TZID=America/New_York:20250927T170000
DTSTAMP:20260423T014317
CREATED:20250921T171853Z
LAST-MODIFIED:20250921T171853Z
UID:10070066-1758963600-1758992400@thepinestimes.com
SUMMARY:In Loving Memory & Birthday Celebration Celebration of Allisha Watts
DESCRIPTION:In loving memory\, family and friends will gather on Saturday\, September 27th at Blanchie Carter Park to celebrate the life and birthday of Allisha Watts. Visit anytime between 9am-5pm at her dedicated Cherry Blossom Tree\, beside the gazebo near the soccer field\, to pause\, reflect\, and honor her beautiful spirit.
URL:https://thepinestimes.com/event/in-loving-memory-birthday-celebration-celebration-of-allisha-watts/
LOCATION:Blanchie Carter Discovery Park\, 1250 W. New York Ave.\, Southern Pines\, NC\, 28387\, United States
CATEGORIES:Birthday Celebration,Ceremony,Social,Southern Pines Events
ATTACH;FMTTYPE=image/jpeg:https://thepinestimes.com/wp-content/uploads/AllishaWattsCelebrationFeature.jpg
END:VEVENT
BEGIN:VEVENT
DTSTART;TZID=America/New_York:20250418T180000
DTEND;TZID=America/New_York:20250418T180000
DTSTAMP:20260423T014317
CREATED:20250327T130804Z
LAST-MODIFIED:20250327T130804Z
UID:10055523-1744999200-1744999200@thepinestimes.com
SUMMARY:West Southern Pines Easter Egg Hunt
DESCRIPTION:Get ready for an egg-citing Easter Egg Hunt for children ages 6-11! Join on Friday\, April 18th at 6:00pm for an evening of fun at the soccer field behind Blanche Carter Playground at West Southern Pines Center. Hunt for eggs filled with candy and money\, and don’t forget to enter the raffle for a chance to win one of three Easter baskets for adults. Please note that parents are not allowed to assist during the hunt. Be sure to bring your baskets and your cameras!
URL:https://thepinestimes.com/event/west-southern-pines-easter-egg-hunt/
LOCATION:Blanchie Carter Discovery Park\, 1250 W. New York Ave.\, Southern Pines\, NC\, 28387\, United States
CATEGORIES:Adults,Children,Easter,Family,Games,Holiday Events,Live Entertainment,Nature/Outdoors,Social,Southern Pines Events
ATTACH;FMTTYPE=image/jpeg:https://thepinestimes.com/wp-content/uploads/WestSouthernPinesCommunityAssociationFeature.jpg
END:VEVENT
END:VCALENDAR