BEGIN:VCALENDAR
VERSION:2.0
PRODID:-//The Pines Times - ECPv6.15.20//NONSGML v1.0//EN
CALSCALE:GREGORIAN
METHOD:PUBLISH
X-ORIGINAL-URL:https://thepinestimes.com
X-WR-CALDESC:Events for The Pines Times
REFRESH-INTERVAL;VALUE=DURATION:PT1H
X-Robots-Tag:noindex
X-PUBLISHED-TTL:PT1H
BEGIN:VTIMEZONE
TZID:America/New_York
BEGIN:DAYLIGHT
TZOFFSETFROM:-0500
TZOFFSETTO:-0400
TZNAME:EDT
DTSTART:20250309T070000
END:DAYLIGHT
BEGIN:STANDARD
TZOFFSETFROM:-0400
TZOFFSETTO:-0500
TZNAME:EST
DTSTART:20251102T060000
END:STANDARD
BEGIN:DAYLIGHT
TZOFFSETFROM:-0500
TZOFFSETTO:-0400
TZNAME:EDT
DTSTART:20260308T070000
END:DAYLIGHT
BEGIN:STANDARD
TZOFFSETFROM:-0400
TZOFFSETTO:-0500
TZNAME:EST
DTSTART:20261101T060000
END:STANDARD
BEGIN:DAYLIGHT
TZOFFSETFROM:-0500
TZOFFSETTO:-0400
TZNAME:EDT
DTSTART:20270314T070000
END:DAYLIGHT
BEGIN:STANDARD
TZOFFSETFROM:-0400
TZOFFSETTO:-0500
TZNAME:EST
DTSTART:20271107T060000
END:STANDARD
END:VTIMEZONE
BEGIN:VEVENT
DTSTART;TZID=America/New_York:20260421T090000
DTEND;TZID=America/New_York:20260421T120000
DTSTAMP:20260419T171058
CREATED:20260410T134359Z
LAST-MODIFIED:20260410T134359Z
UID:10086692-1776762000-1776772800@thepinestimes.com
SUMMARY:Bridging the Gap for Builders\, Realtors\, and Inspectors
DESCRIPTION:The Moore County Home Builders Association is hosting an interactive session titled Bridging the Gap for Builders\, Realtors\, and Inspectors on April 21st\, from 9AM-12PM. This event takes place at the Sandhills Community College Owens Auditorium and is designed to improve communication and close the working knowledge gap between industry professionals. \nThe curriculum covers essential topics including a deep dive into the inspection process\, best practices for pre-closing walk-throughs\, and a clarification of warranty responsibilities. Attendees will also learn how to manage vendor lists and set realistic expectations with buyers and agents. This licensed personnel only event aims to build better homes and a stronger community through shared expertise. Those interested in attending can RSVP at http://www.mchba.com or call 910-773-6577 to save a seat.
URL:https://thepinestimes.com/event/bridging-the-gap-for-builders-realtors-and-inspectors/
LOCATION:Owens Auditorium\, Bradshaw Performing Arts Center\, 3395 Airport Road\, Pinehurst\, NC\, 28374\, United States
CATEGORIES:Adults,Business/Networking,Discussion,Educational,Moore County Events,Pinehurst Events,Presentation,Social
ATTACH;FMTTYPE=image/jpeg:https://thepinestimes.com/wp-content/uploads/MCHBAseminarfeature.jpg
END:VEVENT
BEGIN:VEVENT
DTSTART;TZID=America/New_York:20260421T193000
DTEND;TZID=America/New_York:20260421T213000
DTSTAMP:20260419T171058
CREATED:20260103T223705Z
LAST-MODIFIED:20260103T223756Z
UID:10078406-1776799800-1776807000@thepinestimes.com
SUMMARY:Moore County Choral Society Rehearsal for Spring Concert
DESCRIPTION:The Moore County Choral Society\, a 70-member community chorus in its 51st season of enriching the Sandhills\, is preparing for its April 26\, 2026 spring concert\, titled Perhaps Love. Featured are beautiful choral selections–classical\, contemporary\, and popular–about varieties of human love\, from romantic passion and family devotion to compassion and gratitude for mankind. Weekly rehearsals take place Tuesdays\, 7:30-9:30pm\, at Brownson Memorial Presbyterian Church (330 S. May St.\, Southern Pines). Newcomers and returning singers\, adults and students\, are invited to arrive January 6th or January 13th at 6:30pm for orientation (no auditions). \n \n 
URL:https://thepinestimes.com/event/moore-county-choral-society-rehearsal-for-spring-concert/2026-04-21/
LOCATION:Brownson Memorial Presbyterian Church\, 330 S. May St\, Southern Pines\, NC\, 28387\, United States
CATEGORIES:Concert
END:VEVENT
BEGIN:VEVENT
DTSTART;TZID=America/New_York:20260423T193000
DTEND;TZID=America/New_York:20260423T210000
DTSTAMP:20260419T171059
CREATED:20260125T163037Z
LAST-MODIFIED:20260125T163037Z
UID:10080022-1776972600-1776978000@thepinestimes.com
SUMMARY:"Celebrating America 250" Symphony Concert
DESCRIPTION:Join as the North Carolina Symphony presents “Celebrating America 250” on Thursday\, April 23rd at 7:30pm! Conductor Sophie Mok will lead a performance of timeless masterpieces by Bernstein and Copland along with the cinematic brilliance of John Williams. This commemorative event honors America’s 250th anniversary through a powerful program that blends orchestral tradition with iconic film scores to showcase the depth of American musical heritage. The concert takes place at Owens Auditorium of the Bradshaw Performing Arts Center on the campus of Sandhills Community College. For full details and online ticket purchases\, follow the event link provided below.
URL:https://thepinestimes.com/event/celebrating-america-250-symphony-concert/
LOCATION:Owens Auditorium\, Bradshaw Performing Arts Center\, 3395 Airport Road\, Pinehurst\, NC\, 28374\, United States
CATEGORIES:Adults,America 250,Concert,Family,Hobby/Enthusiast,Live Entertainment,Music,Pinehurst Events,Senior,Social,Young Adults
ATTACH;FMTTYPE=image/jpeg:https://thepinestimes.com/wp-content/uploads/America250ConcertBPACFeature.jpg
END:VEVENT
BEGIN:VEVENT
DTSTART;TZID=America/New_York:20260426T160000
DTEND;TZID=America/New_York:20260426T180000
DTSTAMP:20260419T171059
CREATED:20260407T150204Z
LAST-MODIFIED:20260407T150250Z
UID:10086505-1777219200-1777226400@thepinestimes.com
SUMMARY:Moore County Choral Society Spring Concert: "Perhaps Love"
DESCRIPTION:The Moore County Choral Society presents its spring concert\, Perhaps Love\, on Sunday\, April 26th\, from 4PM-6PM in Owens Auditorium at BPAC\, Sandhills Community College. Conducted by Anne Dorsey and accompanied by Stephen Gourley\, the performance features a jazz combo and string quartet. \nTickets are priced at $25 for adults and $10 for students\, with no added fees\, and are available through the event website link provided below. This project is supported by the Arts Council of Moore County and the North Carolina Arts Council.
URL:https://thepinestimes.com/event/moore-county-choral-society-spring-concert-perhaps-love/
LOCATION:Owens Auditorium\, Bradshaw Performing Arts Center\, 3395 Airport Road\, Pinehurst\, NC\, 28374\, United States
CATEGORIES:Adults,Concert,Family,Hobby/Enthusiast,Live Entertainment,Music,Pinehurst Events,Senior
ATTACH;FMTTYPE=image/jpeg:https://thepinestimes.com/wp-content/uploads/MooreCountyChoralSocietyFeature.jpg
END:VEVENT
BEGIN:VEVENT
DTSTART;TZID=America/New_York:20260428T190000
DTEND;TZID=America/New_York:20260428T201500
DTSTAMP:20260419T171059
CREATED:20241009T185803Z
LAST-MODIFIED:20260408T220242Z
UID:10046359-1777402800-1777407300@thepinestimes.com
SUMMARY:Ruth Pauley Lecture: National Geographic Live-Dr. Lindsay Zanno\, PhD “Rise of T. Rex”
DESCRIPTION:Join as the Ruth Pauley Lecture Series presents: National Geographic Live-Dr. Lindsay Zanno\, PhD “Rise of T. Rex” on Tuesday\, April 28th. \n“Paleontologist Dr. Lindsay Zanno is uncovering the answer. Each year\, she spends several months on expedition\, scouring the badlands of western North America in search of clues. Along the way\, she has discovered many new species – including some of the earliest predecessors of T. Rex. Dr. Zanno takes a fascinating look at how a global climate crisis during the Cretaceous changed the course of evolution for this prehistoric tyrant and its ancestors…” \nThe event will begin at 7:00pm in Owens Auditorium at the Bradshaw Performing Arts Center on the Sandhills Community College campus. The lecture will be preceded with a cash bar in the auditorium lobby and will be followed by a Q&A session and then an informal gathering with the speaker and refreshments in the lobby. All Ruth Pauley lectures are free and open to the public; however\, tickets are required to attend. For additional information and to reserve your space\, follow the event website link provided below. \n \n 
URL:https://thepinestimes.com/event/ruth-pauley-lecture-national-geographic-live-dr-lindsay-zanno-phd-rise-of-t-rex/
LOCATION:Owens Auditorium\, Bradshaw Performing Arts Center\, 3395 Airport Road\, Pinehurst\, NC\, 28374\, United States
CATEGORIES:Adults,Educational,Lecture,Moore County Events,Pinehurst Events,Presentation,Social
ATTACH;FMTTYPE=image/jpeg:https://thepinestimes.com/wp-content/uploads/RuthPauleyLectureFeature.jpg
END:VEVENT
BEGIN:VEVENT
DTSTART;TZID=America/New_York:20260428T193000
DTEND;TZID=America/New_York:20260428T213000
DTSTAMP:20260419T171059
CREATED:20260103T223705Z
LAST-MODIFIED:20260103T223756Z
UID:10078407-1777404600-1777411800@thepinestimes.com
SUMMARY:Moore County Choral Society Rehearsal for Spring Concert
DESCRIPTION:The Moore County Choral Society\, a 70-member community chorus in its 51st season of enriching the Sandhills\, is preparing for its April 26\, 2026 spring concert\, titled Perhaps Love. Featured are beautiful choral selections–classical\, contemporary\, and popular–about varieties of human love\, from romantic passion and family devotion to compassion and gratitude for mankind. Weekly rehearsals take place Tuesdays\, 7:30-9:30pm\, at Brownson Memorial Presbyterian Church (330 S. May St.\, Southern Pines). Newcomers and returning singers\, adults and students\, are invited to arrive January 6th or January 13th at 6:30pm for orientation (no auditions). \n \n 
URL:https://thepinestimes.com/event/moore-county-choral-society-rehearsal-for-spring-concert/2026-04-28/
LOCATION:Brownson Memorial Presbyterian Church\, 330 S. May St\, Southern Pines\, NC\, 28387\, United States
CATEGORIES:Concert
END:VEVENT
BEGIN:VEVENT
DTSTART;TZID=America/New_York:20260516T193000
DTEND;TZID=America/New_York:20260516T193000
DTSTAMP:20260419T171059
CREATED:20250619T135839Z
LAST-MODIFIED:20250801T150527Z
UID:10061685-1778959800-1778959800@thepinestimes.com
SUMMARY:The Carolina Philharmonic Presents: "Broadway Lights" Season Closing Concert
DESCRIPTION:Experience the joy of exceptional music with the Carolina Philharmonic’s! Join for the 2025/2026 season’s closing concert\, “Broadway Lights\,” on Saturday\, May 16th\, 2026 at 7:30pm. The season closes with a dazzling evening of Broadway’s greatest hits. Featuring timeless show tunes and captivating performances\, this concert celebrates the magic of musical theater. \nMaestro David Michael Wolff and The Carolina Philharmonic look forward to welcoming you for an evening of musical brilliance! All concerts are held at CPH’s home venue of Owens Auditorium at Bradshaw Performing Arts Center on the campus of Sandhills Community College. Season subscriptions are available. To secure your seats for the 2025-2026 Season\, contact 910-687-0287 or visit the CPH Box Office at 5 Market Square in the Village of Pinehurst. For additional information and online ticket purchases\, CLICK HERE. \n  \n  \n 
URL:https://thepinestimes.com/event/the-carolina-philharmonic-presents-broadway-lights-season-closing-concert/
LOCATION:Owens Auditorium\, Bradshaw Performing Arts Center\, 3395 Airport Road\, Pinehurst\, NC\, 28374\, United States
CATEGORIES:Adults,Arts,Concert,Hobby/Enthusiast,HOMEPAGE Featured,Live Entertainment,Live Music,Senior,Social,Southern Pines Events
ATTACH;FMTTYPE=image/jpeg:https://thepinestimes.com/wp-content/uploads/CarolinaPhilharmonicFeature.jpg
END:VEVENT
END:VCALENDAR