BEGIN:VCALENDAR
VERSION:2.0
PRODID:-//The Pines Times - ECPv6.15.20//NONSGML v1.0//EN
CALSCALE:GREGORIAN
METHOD:PUBLISH
X-WR-CALNAME:The Pines Times
X-ORIGINAL-URL:https://thepinestimes.com
X-WR-CALDESC:Events for The Pines Times
REFRESH-INTERVAL;VALUE=DURATION:PT1H
X-Robots-Tag:noindex
X-PUBLISHED-TTL:PT1H
BEGIN:VTIMEZONE
TZID:America/New_York
BEGIN:DAYLIGHT
TZOFFSETFROM:-0500
TZOFFSETTO:-0400
TZNAME:EDT
DTSTART:20240310T070000
END:DAYLIGHT
BEGIN:STANDARD
TZOFFSETFROM:-0400
TZOFFSETTO:-0500
TZNAME:EST
DTSTART:20241103T060000
END:STANDARD
BEGIN:DAYLIGHT
TZOFFSETFROM:-0500
TZOFFSETTO:-0400
TZNAME:EDT
DTSTART:20250309T070000
END:DAYLIGHT
BEGIN:STANDARD
TZOFFSETFROM:-0400
TZOFFSETTO:-0500
TZNAME:EST
DTSTART:20251102T060000
END:STANDARD
BEGIN:DAYLIGHT
TZOFFSETFROM:-0500
TZOFFSETTO:-0400
TZNAME:EDT
DTSTART:20260308T070000
END:DAYLIGHT
BEGIN:STANDARD
TZOFFSETFROM:-0400
TZOFFSETTO:-0500
TZNAME:EST
DTSTART:20261101T060000
END:STANDARD
BEGIN:DAYLIGHT
TZOFFSETFROM:-0500
TZOFFSETTO:-0400
TZNAME:EDT
DTSTART:20270314T070000
END:DAYLIGHT
BEGIN:STANDARD
TZOFFSETFROM:-0400
TZOFFSETTO:-0500
TZNAME:EST
DTSTART:20271107T060000
END:STANDARD
END:VTIMEZONE
BEGIN:VEVENT
DTSTART;TZID=America/New_York:20260413T130000
DTEND;TZID=America/New_York:20260413T140000
DTSTAMP:20260419T121943
CREATED:20260409T144700Z
LAST-MODIFIED:20260409T144700Z
UID:10086688-1776085200-1776088800@thepinestimes.com
SUMMARY:EdZooCation Classes
DESCRIPTION:EdZooCation Classes Return to Broadway Zoological Park\, resuming April 13th at 1PM! These engaging\, hands-on classes are included with general admission and are specially designed with homeschool students in mind. Each week\, explore a different animal topic\, giving students a fun and interactive way to learn about wildlife\, conservation\, and the natural world. It’s a great chance to learn more about the incredible animals that call Broadway Zoological Park home! \nThe first class topic: Ambassador Animals — featuring a mix of lots of your favorite animal ambassadors. \nCall 919-258-0111 for more information!
URL:https://thepinestimes.com/event/edzoocation-classes/
LOCATION:Broadway Zoological Park\, 1096 Patterson Rd.\, Broadway\, 27505\, United States
CATEGORIES:Adults,Animal Event,Broadway,Educational,Family,Nature/Outdoors,Pets/Animals,Social
ATTACH;FMTTYPE=image/jpeg:https://thepinestimes.com/wp-content/uploads/BroadwayZoologicalParkFeature.jpg
ORGANIZER;CN="Broadway Zoological Park":MAILTO:carolinawildlifepark.haley@gmail.com
END:VEVENT
BEGIN:VEVENT
DTSTART;TZID=America/New_York:20260404T150000
DTEND;TZID=America/New_York:20260404T180000
DTSTAMP:20260419T121943
CREATED:20260314T150915Z
LAST-MODIFIED:20260314T151821Z
UID:10083481-1775314800-1775325600@thepinestimes.com
SUMMARY:Easter Egg Hunts at the Zoological Park
DESCRIPTION:Celebrate the spring season with “egg-citing” fun at the Broadway Zoological Park during their series of festive Easter Egg Hunts. \nThe park will host hunts on Saturdays\, March 28th and April 4th\, with sessions for ages 3 and under from 3:00PM-4:00PM and ages 4 and older from 5:00PM-6:00PM. \nA dedicated Special Needs Easter Egg Hunt is scheduled for March 29th from 4:00PM-6:00PM\, which requires pre-registration via BZP.bookings@gmail.com. \nAdmission is $15 per participant and includes both park entry and a required Easter bucket for the hunt. Members receive $10 admission & bucket! While certain features like the giraffe feed deck and aviary may be closed during the events\, all animal exhibits and buildings will remain open for families to enjoy. These outdoor festivities are weather-permitting\, so be sure to check the Broadway Zoological Park’s Facebook page for the latest updates. \n \n  \n 
URL:https://thepinestimes.com/event/easter-egg-hunts-at-the-zoological-park/2026-04-04/
LOCATION:Broadway Zoological Park\, 1096 Patterson Rd.\, Broadway\, 27505\, United States
CATEGORIES:Broadway,Children,Easter,Family,Games,Holiday Events,Nature/Outdoors,Out of Town,Pets/Animals,Piney's Kids,Piney's Tiny's,Social
ATTACH;FMTTYPE=image/jpeg:https://thepinestimes.com/wp-content/uploads/BroadwayZoologicalParkFeature.jpg
ORGANIZER;CN="Broadway Zoological Park":MAILTO:carolinawildlifepark.haley@gmail.com
END:VEVENT
BEGIN:VEVENT
DTSTART;TZID=America/New_York:20260329T160000
DTEND;TZID=America/New_York:20260329T180000
DTSTAMP:20260419T121943
CREATED:20260314T151751Z
LAST-MODIFIED:20260314T151938Z
UID:10083482-1774800000-1774807200@thepinestimes.com
SUMMARY:Special Needs Easter Egg Hunt (Reservations Required)
DESCRIPTION:Celebrate the spring season with “egg-citing” fun at the Broadway Zoological Park during their series of festive Easter Egg Hunts. \nA dedicated Special Needs Easter Egg Hunt is scheduled for Sunday\, March 29th from 4:00PM-6:00PM. Pre-registration required to help provide the best experience possible.\n– Register at BZP.bookings@gmail.com\nPlease include name\, contact number\, and participant count. \nAdmission is $15 per participant and includes both park entry and a required Easter bucket for the hunt. Members receive $10 admission & bucket! While certain features like the giraffe feed deck and aviary may be closed during the events\, all animal exhibits and buildings will remain open for families to enjoy. These outdoor festivities are weather-permitting\, so be sure to check the Broadway Zoological Park’s Facebook page for the latest updates. \n \n  \n 
URL:https://thepinestimes.com/event/special-needs-easter-egg-hunt-reservations-required/
LOCATION:Broadway Zoological Park\, 1096 Patterson Rd.\, Broadway\, 27505\, United States
CATEGORIES:Broadway,Children,Easter,Family,Games,Holiday Events,Nature/Outdoors,Out of Town,Pets/Animals,Piney's Kids,Piney's Tiny's,Social
ATTACH;FMTTYPE=image/jpeg:https://thepinestimes.com/wp-content/uploads/BroadwayZoologicalParkFeature.jpg
ORGANIZER;CN="Broadway Zoological Park":MAILTO:carolinawildlifepark.haley@gmail.com
END:VEVENT
BEGIN:VEVENT
DTSTART;TZID=America/New_York:20260328T150000
DTEND;TZID=America/New_York:20260328T180000
DTSTAMP:20260419T121943
CREATED:20260314T150915Z
LAST-MODIFIED:20260314T151821Z
UID:10083480-1774710000-1774720800@thepinestimes.com
SUMMARY:Easter Egg Hunts at the Zoological Park
DESCRIPTION:Celebrate the spring season with “egg-citing” fun at the Broadway Zoological Park during their series of festive Easter Egg Hunts. \nThe park will host hunts on Saturdays\, March 28th and April 4th\, with sessions for ages 3 and under from 3:00PM-4:00PM and ages 4 and older from 5:00PM-6:00PM. \nA dedicated Special Needs Easter Egg Hunt is scheduled for March 29th from 4:00PM-6:00PM\, which requires pre-registration via BZP.bookings@gmail.com. \nAdmission is $15 per participant and includes both park entry and a required Easter bucket for the hunt. Members receive $10 admission & bucket! While certain features like the giraffe feed deck and aviary may be closed during the events\, all animal exhibits and buildings will remain open for families to enjoy. These outdoor festivities are weather-permitting\, so be sure to check the Broadway Zoological Park’s Facebook page for the latest updates. \n \n  \n 
URL:https://thepinestimes.com/event/easter-egg-hunts-at-the-zoological-park/2026-03-28/
LOCATION:Broadway Zoological Park\, 1096 Patterson Rd.\, Broadway\, 27505\, United States
CATEGORIES:Broadway,Children,Easter,Family,Games,Holiday Events,Nature/Outdoors,Out of Town,Pets/Animals,Piney's Kids,Piney's Tiny's,Social
ATTACH;FMTTYPE=image/jpeg:https://thepinestimes.com/wp-content/uploads/BroadwayZoologicalParkFeature.jpg
ORGANIZER;CN="Broadway Zoological Park":MAILTO:carolinawildlifepark.haley@gmail.com
END:VEVENT
BEGIN:VEVENT
DTSTART;TZID=America/New_York:20251228T180000
DTEND;TZID=America/New_York:20251228T210000
DTSTAMP:20260419T121943
CREATED:20251123T150335Z
LAST-MODIFIED:20251219T004059Z
UID:10075533-1766944800-1766955600@thepinestimes.com
SUMMARY:Holiday Magic Lights at Broadway Zoological Park
DESCRIPTION:Holiday Magic is coming to Broadway Zoological Park with two events! \nThe Parking Lot Drive-In Light Show is a dazzling display that will be free to view starting November 28th. Donations are kindly encouraged to support animal care and community efforts. \nThe Broadway Lights Walk-Through Event begins the following week\, running from December 5th-December 28th on Fridays\, Saturdays\, and Sundays only. The event is closed on December 26th. It opens at 6:00pm with the last ticket sold at 9:00pm. Admission is $10 per person\, and children 3 and under are free. \nGuests can enjoy special appearances by Santa\, mischief from The Grinch\, and Christmas Train Rides for just $3. Park members receive free walk-through admission on December 5th-7th and December 12th-14th.
URL:https://thepinestimes.com/event/holiday-magic-lights-at-broadway-zoological-park/2025-12-28/
LOCATION:Broadway Zoological Park\, 1096 Patterson Rd.\, Broadway\, 27505\, United States
CATEGORIES:Adults,Children,Christmas,Exhibits,Family,Finding Santa,Holiday Events,Pets/Animals,Piney's Kids,Piney's Tiny's,Social,Teen Activities,Tours,Young Adults
ATTACH;FMTTYPE=image/jpeg:https://thepinestimes.com/wp-content/uploads/BroadwayZoologicalParkFeature.jpg
ORGANIZER;CN="Broadway Zoological Park":MAILTO:carolinawildlifepark.haley@gmail.com
END:VEVENT
BEGIN:VEVENT
DTSTART;TZID=America/New_York:20251227T180000
DTEND;TZID=America/New_York:20251227T210000
DTSTAMP:20260419T121943
CREATED:20251123T150335Z
LAST-MODIFIED:20251219T004059Z
UID:10075532-1766858400-1766869200@thepinestimes.com
SUMMARY:Holiday Magic Lights at Broadway Zoological Park
DESCRIPTION:Holiday Magic is coming to Broadway Zoological Park with two events! \nThe Parking Lot Drive-In Light Show is a dazzling display that will be free to view starting November 28th. Donations are kindly encouraged to support animal care and community efforts. \nThe Broadway Lights Walk-Through Event begins the following week\, running from December 5th-December 28th on Fridays\, Saturdays\, and Sundays only. The event is closed on December 26th. It opens at 6:00pm with the last ticket sold at 9:00pm. Admission is $10 per person\, and children 3 and under are free. \nGuests can enjoy special appearances by Santa\, mischief from The Grinch\, and Christmas Train Rides for just $3. Park members receive free walk-through admission on December 5th-7th and December 12th-14th.
URL:https://thepinestimes.com/event/holiday-magic-lights-at-broadway-zoological-park/2025-12-27/
LOCATION:Broadway Zoological Park\, 1096 Patterson Rd.\, Broadway\, 27505\, United States
CATEGORIES:Adults,Children,Christmas,Exhibits,Family,Finding Santa,Holiday Events,Pets/Animals,Piney's Kids,Piney's Tiny's,Social,Teen Activities,Tours,Young Adults
ATTACH;FMTTYPE=image/jpeg:https://thepinestimes.com/wp-content/uploads/BroadwayZoologicalParkFeature.jpg
ORGANIZER;CN="Broadway Zoological Park":MAILTO:carolinawildlifepark.haley@gmail.com
END:VEVENT
BEGIN:VEVENT
DTSTART;TZID=America/New_York:20251221T180000
DTEND;TZID=America/New_York:20251221T210000
DTSTAMP:20260419T121943
CREATED:20251123T150335Z
LAST-MODIFIED:20251219T004059Z
UID:10075531-1766340000-1766350800@thepinestimes.com
SUMMARY:Holiday Magic Lights at Broadway Zoological Park
DESCRIPTION:Holiday Magic is coming to Broadway Zoological Park with two events! \nThe Parking Lot Drive-In Light Show is a dazzling display that will be free to view starting November 28th. Donations are kindly encouraged to support animal care and community efforts. \nThe Broadway Lights Walk-Through Event begins the following week\, running from December 5th-December 28th on Fridays\, Saturdays\, and Sundays only. The event is closed on December 26th. It opens at 6:00pm with the last ticket sold at 9:00pm. Admission is $10 per person\, and children 3 and under are free. \nGuests can enjoy special appearances by Santa\, mischief from The Grinch\, and Christmas Train Rides for just $3. Park members receive free walk-through admission on December 5th-7th and December 12th-14th.
URL:https://thepinestimes.com/event/holiday-magic-lights-at-broadway-zoological-park/2025-12-21/
LOCATION:Broadway Zoological Park\, 1096 Patterson Rd.\, Broadway\, 27505\, United States
CATEGORIES:Adults,Children,Christmas,Exhibits,Family,Finding Santa,Holiday Events,Pets/Animals,Piney's Kids,Piney's Tiny's,Social,Teen Activities,Tours,Young Adults
ATTACH;FMTTYPE=image/jpeg:https://thepinestimes.com/wp-content/uploads/BroadwayZoologicalParkFeature.jpg
ORGANIZER;CN="Broadway Zoological Park":MAILTO:carolinawildlifepark.haley@gmail.com
END:VEVENT
BEGIN:VEVENT
DTSTART;TZID=America/New_York:20251220T180000
DTEND;TZID=America/New_York:20251220T210000
DTSTAMP:20260419T121943
CREATED:20251123T150335Z
LAST-MODIFIED:20251219T004059Z
UID:10075530-1766253600-1766264400@thepinestimes.com
SUMMARY:Holiday Magic Lights at Broadway Zoological Park
DESCRIPTION:Holiday Magic is coming to Broadway Zoological Park with two events! \nThe Parking Lot Drive-In Light Show is a dazzling display that will be free to view starting November 28th. Donations are kindly encouraged to support animal care and community efforts. \nThe Broadway Lights Walk-Through Event begins the following week\, running from December 5th-December 28th on Fridays\, Saturdays\, and Sundays only. The event is closed on December 26th. It opens at 6:00pm with the last ticket sold at 9:00pm. Admission is $10 per person\, and children 3 and under are free. \nGuests can enjoy special appearances by Santa\, mischief from The Grinch\, and Christmas Train Rides for just $3. Park members receive free walk-through admission on December 5th-7th and December 12th-14th.
URL:https://thepinestimes.com/event/holiday-magic-lights-at-broadway-zoological-park/2025-12-20/
LOCATION:Broadway Zoological Park\, 1096 Patterson Rd.\, Broadway\, 27505\, United States
CATEGORIES:Adults,Children,Christmas,Exhibits,Family,Finding Santa,Holiday Events,Pets/Animals,Piney's Kids,Piney's Tiny's,Social,Teen Activities,Tours,Young Adults
ATTACH;FMTTYPE=image/jpeg:https://thepinestimes.com/wp-content/uploads/BroadwayZoologicalParkFeature.jpg
ORGANIZER;CN="Broadway Zoological Park":MAILTO:carolinawildlifepark.haley@gmail.com
END:VEVENT
BEGIN:VEVENT
DTSTART;TZID=America/New_York:20251219T180000
DTEND;TZID=America/New_York:20251219T210000
DTSTAMP:20260419T121943
CREATED:20251123T150335Z
LAST-MODIFIED:20251219T004059Z
UID:10075529-1766167200-1766178000@thepinestimes.com
SUMMARY:Holiday Magic Lights at Broadway Zoological Park
DESCRIPTION:Holiday Magic is coming to Broadway Zoological Park with two events! \nThe Parking Lot Drive-In Light Show is a dazzling display that will be free to view starting November 28th. Donations are kindly encouraged to support animal care and community efforts. \nThe Broadway Lights Walk-Through Event begins the following week\, running from December 5th-December 28th on Fridays\, Saturdays\, and Sundays only. The event is closed on December 26th. It opens at 6:00pm with the last ticket sold at 9:00pm. Admission is $10 per person\, and children 3 and under are free. \nGuests can enjoy special appearances by Santa\, mischief from The Grinch\, and Christmas Train Rides for just $3. Park members receive free walk-through admission on December 5th-7th and December 12th-14th.
URL:https://thepinestimes.com/event/holiday-magic-lights-at-broadway-zoological-park/2025-12-19/
LOCATION:Broadway Zoological Park\, 1096 Patterson Rd.\, Broadway\, 27505\, United States
CATEGORIES:Adults,Children,Christmas,Exhibits,Family,Finding Santa,Holiday Events,Pets/Animals,Piney's Kids,Piney's Tiny's,Social,Teen Activities,Tours,Young Adults
ATTACH;FMTTYPE=image/jpeg:https://thepinestimes.com/wp-content/uploads/BroadwayZoologicalParkFeature.jpg
ORGANIZER;CN="Broadway Zoological Park":MAILTO:carolinawildlifepark.haley@gmail.com
END:VEVENT
BEGIN:VEVENT
DTSTART;TZID=America/New_York:20251214T180000
DTEND;TZID=America/New_York:20251214T210000
DTSTAMP:20260419T121943
CREATED:20251123T150335Z
LAST-MODIFIED:20251219T004059Z
UID:10075528-1765735200-1765746000@thepinestimes.com
SUMMARY:Holiday Magic Lights at Broadway Zoological Park
DESCRIPTION:Holiday Magic is coming to Broadway Zoological Park with two events! \nThe Parking Lot Drive-In Light Show is a dazzling display that will be free to view starting November 28th. Donations are kindly encouraged to support animal care and community efforts. \nThe Broadway Lights Walk-Through Event begins the following week\, running from December 5th-December 28th on Fridays\, Saturdays\, and Sundays only. The event is closed on December 26th. It opens at 6:00pm with the last ticket sold at 9:00pm. Admission is $10 per person\, and children 3 and under are free. \nGuests can enjoy special appearances by Santa\, mischief from The Grinch\, and Christmas Train Rides for just $3. Park members receive free walk-through admission on December 5th-7th and December 12th-14th.
URL:https://thepinestimes.com/event/holiday-magic-lights-at-broadway-zoological-park/2025-12-14/
LOCATION:Broadway Zoological Park\, 1096 Patterson Rd.\, Broadway\, 27505\, United States
CATEGORIES:Adults,Children,Christmas,Exhibits,Family,Finding Santa,Holiday Events,Pets/Animals,Piney's Kids,Piney's Tiny's,Social,Teen Activities,Tours,Young Adults
ATTACH;FMTTYPE=image/jpeg:https://thepinestimes.com/wp-content/uploads/BroadwayZoologicalParkFeature.jpg
ORGANIZER;CN="Broadway Zoological Park":MAILTO:carolinawildlifepark.haley@gmail.com
END:VEVENT
BEGIN:VEVENT
DTSTART;TZID=America/New_York:20251213T180000
DTEND;TZID=America/New_York:20251213T210000
DTSTAMP:20260419T121943
CREATED:20251123T150335Z
LAST-MODIFIED:20251219T004059Z
UID:10075527-1765648800-1765659600@thepinestimes.com
SUMMARY:Holiday Magic Lights at Broadway Zoological Park
DESCRIPTION:Holiday Magic is coming to Broadway Zoological Park with two events! \nThe Parking Lot Drive-In Light Show is a dazzling display that will be free to view starting November 28th. Donations are kindly encouraged to support animal care and community efforts. \nThe Broadway Lights Walk-Through Event begins the following week\, running from December 5th-December 28th on Fridays\, Saturdays\, and Sundays only. The event is closed on December 26th. It opens at 6:00pm with the last ticket sold at 9:00pm. Admission is $10 per person\, and children 3 and under are free. \nGuests can enjoy special appearances by Santa\, mischief from The Grinch\, and Christmas Train Rides for just $3. Park members receive free walk-through admission on December 5th-7th and December 12th-14th.
URL:https://thepinestimes.com/event/holiday-magic-lights-at-broadway-zoological-park/2025-12-13/
LOCATION:Broadway Zoological Park\, 1096 Patterson Rd.\, Broadway\, 27505\, United States
CATEGORIES:Adults,Children,Christmas,Exhibits,Family,Finding Santa,Holiday Events,Pets/Animals,Piney's Kids,Piney's Tiny's,Social,Teen Activities,Tours,Young Adults
ATTACH;FMTTYPE=image/jpeg:https://thepinestimes.com/wp-content/uploads/BroadwayZoologicalParkFeature.jpg
ORGANIZER;CN="Broadway Zoological Park":MAILTO:carolinawildlifepark.haley@gmail.com
END:VEVENT
BEGIN:VEVENT
DTSTART;TZID=America/New_York:20251212T180000
DTEND;TZID=America/New_York:20251212T210000
DTSTAMP:20260419T121943
CREATED:20251123T150335Z
LAST-MODIFIED:20251219T004059Z
UID:10075526-1765562400-1765573200@thepinestimes.com
SUMMARY:Holiday Magic Lights at Broadway Zoological Park
DESCRIPTION:Holiday Magic is coming to Broadway Zoological Park with two events! \nThe Parking Lot Drive-In Light Show is a dazzling display that will be free to view starting November 28th. Donations are kindly encouraged to support animal care and community efforts. \nThe Broadway Lights Walk-Through Event begins the following week\, running from December 5th-December 28th on Fridays\, Saturdays\, and Sundays only. The event is closed on December 26th. It opens at 6:00pm with the last ticket sold at 9:00pm. Admission is $10 per person\, and children 3 and under are free. \nGuests can enjoy special appearances by Santa\, mischief from The Grinch\, and Christmas Train Rides for just $3. Park members receive free walk-through admission on December 5th-7th and December 12th-14th.
URL:https://thepinestimes.com/event/holiday-magic-lights-at-broadway-zoological-park/2025-12-12/
LOCATION:Broadway Zoological Park\, 1096 Patterson Rd.\, Broadway\, 27505\, United States
CATEGORIES:Adults,Children,Christmas,Exhibits,Family,Finding Santa,Holiday Events,Pets/Animals,Piney's Kids,Piney's Tiny's,Social,Teen Activities,Tours,Young Adults
ATTACH;FMTTYPE=image/jpeg:https://thepinestimes.com/wp-content/uploads/BroadwayZoologicalParkFeature.jpg
ORGANIZER;CN="Broadway Zoological Park":MAILTO:carolinawildlifepark.haley@gmail.com
END:VEVENT
BEGIN:VEVENT
DTSTART;TZID=America/New_York:20251207T180000
DTEND;TZID=America/New_York:20251207T210000
DTSTAMP:20260419T121943
CREATED:20251123T150335Z
LAST-MODIFIED:20251219T004059Z
UID:10075525-1765130400-1765141200@thepinestimes.com
SUMMARY:Holiday Magic Lights at Broadway Zoological Park
DESCRIPTION:Holiday Magic is coming to Broadway Zoological Park with two events! \nThe Parking Lot Drive-In Light Show is a dazzling display that will be free to view starting November 28th. Donations are kindly encouraged to support animal care and community efforts. \nThe Broadway Lights Walk-Through Event begins the following week\, running from December 5th-December 28th on Fridays\, Saturdays\, and Sundays only. The event is closed on December 26th. It opens at 6:00pm with the last ticket sold at 9:00pm. Admission is $10 per person\, and children 3 and under are free. \nGuests can enjoy special appearances by Santa\, mischief from The Grinch\, and Christmas Train Rides for just $3. Park members receive free walk-through admission on December 5th-7th and December 12th-14th.
URL:https://thepinestimes.com/event/holiday-magic-lights-at-broadway-zoological-park/2025-12-07/
LOCATION:Broadway Zoological Park\, 1096 Patterson Rd.\, Broadway\, 27505\, United States
CATEGORIES:Adults,Children,Christmas,Exhibits,Family,Finding Santa,Holiday Events,Pets/Animals,Piney's Kids,Piney's Tiny's,Social,Teen Activities,Tours,Young Adults
ATTACH;FMTTYPE=image/jpeg:https://thepinestimes.com/wp-content/uploads/BroadwayZoologicalParkFeature.jpg
ORGANIZER;CN="Broadway Zoological Park":MAILTO:carolinawildlifepark.haley@gmail.com
END:VEVENT
BEGIN:VEVENT
DTSTART;TZID=America/New_York:20251206T180000
DTEND;TZID=America/New_York:20251206T210000
DTSTAMP:20260419T121943
CREATED:20251123T150335Z
LAST-MODIFIED:20251219T004059Z
UID:10075524-1765044000-1765054800@thepinestimes.com
SUMMARY:Holiday Magic Lights at Broadway Zoological Park
DESCRIPTION:Holiday Magic is coming to Broadway Zoological Park with two events! \nThe Parking Lot Drive-In Light Show is a dazzling display that will be free to view starting November 28th. Donations are kindly encouraged to support animal care and community efforts. \nThe Broadway Lights Walk-Through Event begins the following week\, running from December 5th-December 28th on Fridays\, Saturdays\, and Sundays only. The event is closed on December 26th. It opens at 6:00pm with the last ticket sold at 9:00pm. Admission is $10 per person\, and children 3 and under are free. \nGuests can enjoy special appearances by Santa\, mischief from The Grinch\, and Christmas Train Rides for just $3. Park members receive free walk-through admission on December 5th-7th and December 12th-14th.
URL:https://thepinestimes.com/event/holiday-magic-lights-at-broadway-zoological-park/2025-12-06/
LOCATION:Broadway Zoological Park\, 1096 Patterson Rd.\, Broadway\, 27505\, United States
CATEGORIES:Adults,Children,Christmas,Exhibits,Family,Finding Santa,Holiday Events,Pets/Animals,Piney's Kids,Piney's Tiny's,Social,Teen Activities,Tours,Young Adults
ATTACH;FMTTYPE=image/jpeg:https://thepinestimes.com/wp-content/uploads/BroadwayZoologicalParkFeature.jpg
ORGANIZER;CN="Broadway Zoological Park":MAILTO:carolinawildlifepark.haley@gmail.com
END:VEVENT
BEGIN:VEVENT
DTSTART;TZID=America/New_York:20251205T180000
DTEND;TZID=America/New_York:20251205T210000
DTSTAMP:20260419T121943
CREATED:20251123T150335Z
LAST-MODIFIED:20251219T004059Z
UID:10075523-1764957600-1764968400@thepinestimes.com
SUMMARY:Holiday Magic Lights at Broadway Zoological Park
DESCRIPTION:Holiday Magic is coming to Broadway Zoological Park with two events! \nThe Parking Lot Drive-In Light Show is a dazzling display that will be free to view starting November 28th. Donations are kindly encouraged to support animal care and community efforts. \nThe Broadway Lights Walk-Through Event begins the following week\, running from December 5th-December 28th on Fridays\, Saturdays\, and Sundays only. The event is closed on December 26th. It opens at 6:00pm with the last ticket sold at 9:00pm. Admission is $10 per person\, and children 3 and under are free. \nGuests can enjoy special appearances by Santa\, mischief from The Grinch\, and Christmas Train Rides for just $3. Park members receive free walk-through admission on December 5th-7th and December 12th-14th.
URL:https://thepinestimes.com/event/holiday-magic-lights-at-broadway-zoological-park/2025-12-05/
LOCATION:Broadway Zoological Park\, 1096 Patterson Rd.\, Broadway\, 27505\, United States
CATEGORIES:Adults,Children,Christmas,Exhibits,Family,Finding Santa,Holiday Events,Pets/Animals,Piney's Kids,Piney's Tiny's,Social,Teen Activities,Tours,Young Adults
ATTACH;FMTTYPE=image/jpeg:https://thepinestimes.com/wp-content/uploads/BroadwayZoologicalParkFeature.jpg
ORGANIZER;CN="Broadway Zoological Park":MAILTO:carolinawildlifepark.haley@gmail.com
END:VEVENT
BEGIN:VEVENT
DTSTART;TZID=America/New_York:20251128T180000
DTEND;TZID=America/New_York:20251128T210000
DTSTAMP:20260419T121943
CREATED:20251123T150335Z
LAST-MODIFIED:20251219T004059Z
UID:10075534-1764352800-1764363600@thepinestimes.com
SUMMARY:Holiday Magic Lights at Broadway Zoological Park
DESCRIPTION:Holiday Magic is coming to Broadway Zoological Park with two events! \nThe Parking Lot Drive-In Light Show is a dazzling display that will be free to view starting November 28th. Donations are kindly encouraged to support animal care and community efforts. \nThe Broadway Lights Walk-Through Event begins the following week\, running from December 5th-December 28th on Fridays\, Saturdays\, and Sundays only. The event is closed on December 26th. It opens at 6:00pm with the last ticket sold at 9:00pm. Admission is $10 per person\, and children 3 and under are free. \nGuests can enjoy special appearances by Santa\, mischief from The Grinch\, and Christmas Train Rides for just $3. Park members receive free walk-through admission on December 5th-7th and December 12th-14th.
URL:https://thepinestimes.com/event/holiday-magic-lights-at-broadway-zoological-park/2025-11-28/
LOCATION:Broadway Zoological Park\, 1096 Patterson Rd.\, Broadway\, 27505\, United States
CATEGORIES:Adults,Children,Christmas,Exhibits,Family,Finding Santa,Holiday Events,Pets/Animals,Piney's Kids,Piney's Tiny's,Social,Teen Activities,Tours,Young Adults
ATTACH;FMTTYPE=image/jpeg:https://thepinestimes.com/wp-content/uploads/BroadwayZoologicalParkFeature.jpg
ORGANIZER;CN="Broadway Zoological Park":MAILTO:carolinawildlifepark.haley@gmail.com
END:VEVENT
BEGIN:VEVENT
DTSTART;TZID=America/New_York:20250831T140000
DTEND;TZID=America/New_York:20250831T190000
DTSTAMP:20260419T121943
CREATED:20250824T162629Z
LAST-MODIFIED:20250824T162629Z
UID:10065136-1756648800-1756666800@thepinestimes.com
SUMMARY:Jamie's Jurassic Zoo Day Benefit
DESCRIPTION:Visit Broadway Zoological Park & Support a Great Cause! Spend the day at Broadway Zoological Park while supporting a wonderful cause! Jamie’s Jurassic Zoo Day on Saturday\, August 31st | 2:00pm-7:00pm\, all proceeds will benefit the North Carolina Down Syndrome Alliance. Enjoy exploring the park’s 167 animal species\, take part in family-friendly fun and join the community in celebrating and supporting NCDSA’s mission to empower individuals with Down syndrome and their families. It’s the perfect way to make memories\, give back and have a wildly good time!
URL:https://thepinestimes.com/event/jamies-jurassic-zoo-day-benefit/
LOCATION:Broadway Zoological Park\, 1096 Patterson Rd.\, Broadway\, 27505\, United States
CATEGORIES:Adults,Broadway,Children,Educational,Family,Fundraiser,Hobby/Enthusiast,Out of Town,Pets/Animals,Piney's Kids,Piney's Tiny's,Social,Teen Activities,Young Adults
ATTACH;FMTTYPE=image/jpeg:https://thepinestimes.com/wp-content/uploads/BroadwayZoologicalParkFeature.jpg
ORGANIZER;CN="Broadway Zoological Park":MAILTO:carolinawildlifepark.haley@gmail.com
END:VEVENT
END:VCALENDAR