BEGIN:VCALENDAR
VERSION:2.0
PRODID:-//The Pines Times - ECPv6.15.20//NONSGML v1.0//EN
CALSCALE:GREGORIAN
METHOD:PUBLISH
X-WR-CALNAME:The Pines Times
X-ORIGINAL-URL:https://thepinestimes.com
X-WR-CALDESC:Events for The Pines Times
REFRESH-INTERVAL;VALUE=DURATION:PT1H
X-Robots-Tag:noindex
X-PUBLISHED-TTL:PT1H
BEGIN:VTIMEZONE
TZID:America/New_York
BEGIN:DAYLIGHT
TZOFFSETFROM:-0500
TZOFFSETTO:-0400
TZNAME:EDT
DTSTART:20240310T070000
END:DAYLIGHT
BEGIN:STANDARD
TZOFFSETFROM:-0400
TZOFFSETTO:-0500
TZNAME:EST
DTSTART:20241103T060000
END:STANDARD
BEGIN:DAYLIGHT
TZOFFSETFROM:-0500
TZOFFSETTO:-0400
TZNAME:EDT
DTSTART:20250309T070000
END:DAYLIGHT
BEGIN:STANDARD
TZOFFSETFROM:-0400
TZOFFSETTO:-0500
TZNAME:EST
DTSTART:20251102T060000
END:STANDARD
BEGIN:DAYLIGHT
TZOFFSETFROM:-0500
TZOFFSETTO:-0400
TZNAME:EDT
DTSTART:20260308T070000
END:DAYLIGHT
BEGIN:STANDARD
TZOFFSETFROM:-0400
TZOFFSETTO:-0500
TZNAME:EST
DTSTART:20261101T060000
END:STANDARD
END:VTIMEZONE
BEGIN:VEVENT
DTSTART;TZID=America/New_York:20251127T070000
DTEND;TZID=America/New_York:20251127T120000
DTSTAMP:20260425T172210
CREATED:20231113T184012Z
LAST-MODIFIED:20251103T204232Z
UID:10022438-1764226800-1764244800@thepinestimes.com
SUMMARY:Thanksgiving Day Opening Meet & Blessing of the Hounds 2025
DESCRIPTION:“Every Thanksgiving morning\, a unique and time-honored tradition unfolds in Southern Pines\, North Carolina. The Moore County Hounds invite the public to attend their opening meet for the annual Blessing of the Hounds. This ritual\, dating back to the Middle Ages\, marks the formal launch of the foxhunting season and gathers hounds\, riders\, and over 1\,000 spectators in a celebration of heritage\, sport\, and community.” \nA beloved event and cherished tradition of over 100 years in Southern Pines and the surrounding area\, The Blessing of the Hounds takes place on Thursday\, November 27th. Celebrate Thanksgiving Day by joining in-person for the Blessing of the Hounds and Opening Meet. Hosted by the non-profit Preserve the Sandhills\, it is such a fun way to start the holiday season. The Blessing will promptly commence at 10:00am\, so plan to allocate at least an hour for parking and walking from Lyell’s Meadow to Buchan Field. \nIf you prefer a front tailgate spot\, reach out to Moore County Hounds for more details. Please remember that dogs and pets are not allowed. Moore County Hounds\, one of North Carolina’s oldest recognized packs of foxhounds and one of the last remaining private packs\, welcomes you to this exclusive gathering with a limited number of VIP tailgating spots available. For full details and schedule of events\, follow the event website link provided below.
URL:https://thepinestimes.com/event/thanksgiving-day-opening-meet-blessing-of-the-hounds/
LOCATION:Cameron’s Meadow-Buchan Field\, 225 Mile Away Farm Lane\, Southern Pines\, NC\, 28387\, United States
CATEGORIES:Adults,Ceremony,Fall,Family,Golden Age,Historical,Hobby/Enthusiast,Holiday Events,Nature/Outdoors,Pets/Animals,Senior,Social,Southern Pines Events,Thanksgiving
ATTACH;FMTTYPE=image/jpeg:https://thepinestimes.com/wp-content/uploads/Moore-County-Hounds-Feature.jpg
END:VEVENT
END:VCALENDAR