BEGIN:VCALENDAR
VERSION:2.0
PRODID:-//The Pines Times - ECPv6.15.20//NONSGML v1.0//EN
CALSCALE:GREGORIAN
METHOD:PUBLISH
X-ORIGINAL-URL:https://thepinestimes.com
X-WR-CALDESC:Events for The Pines Times
REFRESH-INTERVAL;VALUE=DURATION:PT1H
X-Robots-Tag:noindex
X-PUBLISHED-TTL:PT1H
BEGIN:VTIMEZONE
TZID:America/New_York
BEGIN:DAYLIGHT
TZOFFSETFROM:-0500
TZOFFSETTO:-0400
TZNAME:EDT
DTSTART:20250309T070000
END:DAYLIGHT
BEGIN:STANDARD
TZOFFSETFROM:-0400
TZOFFSETTO:-0500
TZNAME:EST
DTSTART:20251102T060000
END:STANDARD
BEGIN:DAYLIGHT
TZOFFSETFROM:-0500
TZOFFSETTO:-0400
TZNAME:EDT
DTSTART:20260308T070000
END:DAYLIGHT
BEGIN:STANDARD
TZOFFSETFROM:-0400
TZOFFSETTO:-0500
TZNAME:EST
DTSTART:20261101T060000
END:STANDARD
BEGIN:DAYLIGHT
TZOFFSETFROM:-0500
TZOFFSETTO:-0400
TZNAME:EDT
DTSTART:20270314T070000
END:DAYLIGHT
BEGIN:STANDARD
TZOFFSETFROM:-0400
TZOFFSETTO:-0500
TZNAME:EST
DTSTART:20271107T060000
END:STANDARD
END:VTIMEZONE
BEGIN:VEVENT
DTSTART;TZID=America/New_York:20260321T120000
DTEND;TZID=America/New_York:20260321T160000
DTSTAMP:20260420T131617
CREATED:20250223T215420Z
LAST-MODIFIED:20260223T132143Z
UID:10054215-1774094400-1774108800@thepinestimes.com
SUMMARY:Busking in the 'Boro Street Festival 2026
DESCRIPTION:Celebrate the season with live music\, local talent\, and a lively atmosphere at Busking in the ‘Boro on Saturday\, March 21st from 10am-4pm! This street festival will fill the heart of Jonesboro with sounds from bands\, craft and food vendors\, and musicians. Stroll through the festival\, enjoy the performances\, and experience the energy of spring as we kick off the warmer months. With food vendors\, art\, and entertainment for all ages\, this is the perfect event to soak in the vibrant community spirit!
URL:https://thepinestimes.com/event/busking-in-the-boro-street-festival-2026/
LOCATION:Busking in the ‘Boro\, E Trade St.\, Sanford\, NC\, 27332\, United States
CATEGORIES:Adults,Dance,Fair/Festival,Family,Food,Hobby/Enthusiast,Live Entertainment,Live Music,Music,Nature/Outdoors,Out of Town,Sanford Events,Shopping,Social,Vendors
ATTACH;FMTTYPE=image/jpeg:https://thepinestimes.com/wp-content/uploads/Busking-in-the-‘Boro-Feature.jpg
END:VEVENT
END:VCALENDAR