BEGIN:VCALENDAR
VERSION:2.0
PRODID:-//The Pines Times - ECPv6.15.20//NONSGML v1.0//EN
CALSCALE:GREGORIAN
METHOD:PUBLISH
X-WR-CALNAME:The Pines Times
X-ORIGINAL-URL:https://thepinestimes.com
X-WR-CALDESC:Events for The Pines Times
REFRESH-INTERVAL;VALUE=DURATION:PT1H
X-Robots-Tag:noindex
X-PUBLISHED-TTL:PT1H
BEGIN:VTIMEZONE
TZID:America/New_York
BEGIN:DAYLIGHT
TZOFFSETFROM:-0500
TZOFFSETTO:-0400
TZNAME:EDT
DTSTART:20250309T070000
END:DAYLIGHT
BEGIN:STANDARD
TZOFFSETFROM:-0400
TZOFFSETTO:-0500
TZNAME:EST
DTSTART:20251102T060000
END:STANDARD
BEGIN:DAYLIGHT
TZOFFSETFROM:-0500
TZOFFSETTO:-0400
TZNAME:EDT
DTSTART:20260308T070000
END:DAYLIGHT
BEGIN:STANDARD
TZOFFSETFROM:-0400
TZOFFSETTO:-0500
TZNAME:EST
DTSTART:20261101T060000
END:STANDARD
BEGIN:DAYLIGHT
TZOFFSETFROM:-0500
TZOFFSETTO:-0400
TZNAME:EDT
DTSTART:20270314T070000
END:DAYLIGHT
BEGIN:STANDARD
TZOFFSETFROM:-0400
TZOFFSETTO:-0500
TZNAME:EST
DTSTART:20271107T060000
END:STANDARD
END:VTIMEZONE
BEGIN:VEVENT
DTSTART;TZID=America/New_York:20260327T183000
DTEND;TZID=America/New_York:20260327T203000
DTSTAMP:20260424T075038
CREATED:20251120T190142Z
LAST-MODIFIED:20260327T123653Z
UID:10075474-1774636200-1774643400@thepinestimes.com
SUMMARY:Friday Night Music Bingo
DESCRIPTION:Camelback Brewing Company in Sanford is hosting Music Bingo on Friday\, March 27th. The fun starts at 6:30PM and runs until 8:30PM\, featuring JV Jams and Mix Tape Music Bingo! \n \n  \n 
URL:https://thepinestimes.com/event/friday-night-music-bingo/
LOCATION:Camelback Brewing Company\, 84 Spring Lane\, Sanford\, NC\, United States
CATEGORIES:Adult Connections,Adults,Beer and Wine,Hobby/Enthusiast,Music,Sanford Events,Social,Young Adults
ATTACH;FMTTYPE=image/png:https://thepinestimes.com/wp-content/uploads/Music-Bingo.png
END:VEVENT
BEGIN:VEVENT
DTSTART;TZID=America/New_York:20260109T183000
DTEND;TZID=America/New_York:20260109T213000
DTSTAMP:20260424T075038
CREATED:20251114T225939Z
LAST-MODIFIED:20260109T145325Z
UID:10075339-1767983400-1767994200@thepinestimes.com
SUMMARY:Friday Night Karaoke
DESCRIPTION:Join JV Jams Karaoke for Friday Night Karaoke at Camelback Brewing in Sanford! Karaoke runs from 6:30pm-9:30pm. Head over for a night of singing and fun! All decades\, all genres\, all are welcome! \n \n 
URL:https://thepinestimes.com/event/friday-night-karaoke/
LOCATION:Camelback Brewing Company\, 84 Spring Lane\, Sanford\, NC\, United States
CATEGORIES:Adult Connections,Adults,Beer and Wine,Hobby/Enthusiast,Music,Sanford Events,Social
ATTACH;FMTTYPE=image/png:https://thepinestimes.com/wp-content/uploads/Karaoke-e1754409547503.png
END:VEVENT
END:VCALENDAR