BEGIN:VCALENDAR
VERSION:2.0
PRODID:-//The Pines Times - ECPv6.15.20//NONSGML v1.0//EN
CALSCALE:GREGORIAN
METHOD:PUBLISH
X-ORIGINAL-URL:https://thepinestimes.com
X-WR-CALDESC:Events for The Pines Times
REFRESH-INTERVAL;VALUE=DURATION:PT1H
X-Robots-Tag:noindex
X-PUBLISHED-TTL:PT1H
BEGIN:VTIMEZONE
TZID:America/New_York
BEGIN:DAYLIGHT
TZOFFSETFROM:-0500
TZOFFSETTO:-0400
TZNAME:EDT
DTSTART:20240310T070000
END:DAYLIGHT
BEGIN:STANDARD
TZOFFSETFROM:-0400
TZOFFSETTO:-0500
TZNAME:EST
DTSTART:20241103T060000
END:STANDARD
BEGIN:DAYLIGHT
TZOFFSETFROM:-0500
TZOFFSETTO:-0400
TZNAME:EDT
DTSTART:20250309T070000
END:DAYLIGHT
BEGIN:STANDARD
TZOFFSETFROM:-0400
TZOFFSETTO:-0500
TZNAME:EST
DTSTART:20251102T060000
END:STANDARD
BEGIN:DAYLIGHT
TZOFFSETFROM:-0500
TZOFFSETTO:-0400
TZNAME:EDT
DTSTART:20260308T070000
END:DAYLIGHT
BEGIN:STANDARD
TZOFFSETFROM:-0400
TZOFFSETTO:-0500
TZNAME:EST
DTSTART:20261101T060000
END:STANDARD
BEGIN:DAYLIGHT
TZOFFSETFROM:-0500
TZOFFSETTO:-0400
TZNAME:EDT
DTSTART:20270314T070000
END:DAYLIGHT
BEGIN:STANDARD
TZOFFSETFROM:-0400
TZOFFSETTO:-0500
TZNAME:EST
DTSTART:20271107T060000
END:STANDARD
END:VTIMEZONE
BEGIN:VEVENT
DTSTART;TZID=America/New_York:20260306T080000
DTEND;TZID=America/New_York:20260306T170000
DTSTAMP:20260422T173458
CREATED:20260218T182156Z
LAST-MODIFIED:20260218T182156Z
UID:10081206-1772784000-1772816400@thepinestimes.com
SUMMARY:Beginner Disc Golf Lessons
DESCRIPTION:Ready to try something new? Join on Friday\, March 6th at the Campbell House Park Grounds for Beginner Disc Golf Lessons instructed by Addison Roth! Whether you’ve never picked up a disc or just want to sharpen your skills\, this lesson is designed to help you learn the basics in a fun\, supportive environment. Come out\, get active\, and discover your new favorite hobby. Registration can be completed through the event website link provided below.
URL:https://thepinestimes.com/event/beginner-disc-golf-lessons/
LOCATION:Campbell House Field\, 482 E Connecticut Ave\, Southern Pines\, NC\, 28387\, United States
CATEGORIES:Classes/Workshops,Disc Golf,Games,Social,Southern Pines Events,Sports
ATTACH;FMTTYPE=image/jpeg:https://thepinestimes.com/wp-content/uploads/DiscGolfFeature.jpg
ORGANIZER;CN="Southern Pines Parks and Recreation":MAILTO:bsampson@southernpines.net
END:VEVENT
BEGIN:VEVENT
DTSTART;TZID=America/New_York:20250901T080000
DTEND;TZID=America/New_York:20250901T080000
DTSTAMP:20260422T173458
CREATED:20250828T164154Z
LAST-MODIFIED:20250828T164154Z
UID:10067037-1756713600-1756713600@thepinestimes.com
SUMMARY:C4 Labor Day 50-Mile or 28-Mile Ride
DESCRIPTION:Kick off Labor Day with a special ride\, the C4 Labor Day 50-Mile or 28-Mile Ride group ride on Monday\, rolling out at 8:00am sharp (with a rider briefing at 7:45am). Everyone starts together\, then the group naturally splits as the hills begin. Routes are available for download (Tour de Moore 28 or 50) with GPX and Strava files for easy navigation. The 50-miler will have a SAG stop around mile 26.5 at Short Stop in Carthage. This is not a police-supported event\, so come prepared with your own maintenance supplies—tubes\, CO2\, and anything you might need. Ride at your own risk and enjoy a strong start to the holiday!
URL:https://thepinestimes.com/event/c4-labor-day-50-mile-or-28-mile-ride/
LOCATION:Campbell House Field\, 482 E Connecticut Ave\, Southern Pines\, NC\, 28387\, United States
CATEGORIES:Cycling,Health & Wellness,Hobby/Enthusiast,Labor Day,Nature/Outdoors,Social,Southern Pines Events,Sports
ATTACH;FMTTYPE=image/jpeg:https://thepinestimes.com/wp-content/uploads/LaborDayBikeFeature.jpg
END:VEVENT
END:VCALENDAR