BEGIN:VCALENDAR
VERSION:2.0
PRODID:-//The Pines Times - ECPv6.15.20//NONSGML v1.0//EN
CALSCALE:GREGORIAN
METHOD:PUBLISH
X-ORIGINAL-URL:https://thepinestimes.com
X-WR-CALDESC:Events for The Pines Times
REFRESH-INTERVAL;VALUE=DURATION:PT1H
X-Robots-Tag:noindex
X-PUBLISHED-TTL:PT1H
BEGIN:VTIMEZONE
TZID:America/New_York
BEGIN:DAYLIGHT
TZOFFSETFROM:-0500
TZOFFSETTO:-0400
TZNAME:EDT
DTSTART:20250309T070000
END:DAYLIGHT
BEGIN:STANDARD
TZOFFSETFROM:-0400
TZOFFSETTO:-0500
TZNAME:EST
DTSTART:20251102T060000
END:STANDARD
BEGIN:DAYLIGHT
TZOFFSETFROM:-0500
TZOFFSETTO:-0400
TZNAME:EDT
DTSTART:20260308T070000
END:DAYLIGHT
BEGIN:STANDARD
TZOFFSETFROM:-0400
TZOFFSETTO:-0500
TZNAME:EST
DTSTART:20261101T060000
END:STANDARD
BEGIN:DAYLIGHT
TZOFFSETFROM:-0500
TZOFFSETTO:-0400
TZNAME:EDT
DTSTART:20270314T070000
END:DAYLIGHT
BEGIN:STANDARD
TZOFFSETFROM:-0400
TZOFFSETTO:-0500
TZNAME:EST
DTSTART:20271107T060000
END:STANDARD
END:VTIMEZONE
BEGIN:VEVENT
DTSTART;TZID=America/New_York:20260425T110000
DTEND;TZID=America/New_York:20260425T140000
DTSTAMP:20260423T021249
CREATED:20230127T140830Z
LAST-MODIFIED:20260303T183240Z
UID:10008649-1777114800-1777125600@thepinestimes.com
SUMMARY:Celebration of the Military Child 2026
DESCRIPTION:Join the Village of Pinehurst to celebrate the month of the Military Child with a FREE fun-filled afternoon at the 16th annual Celebration of the Military Child!  Enjoy a free cookout\, games\, a variety of kids activities\, and special performances! The event takes place at The Village Arboretum in Pinehurst on Saturday\, April 25th from 11AM-2PM. This event is open to anyone who wants to celebrate the children of our military families. Opening ceremony begins promptly at 11AM. Co-sponsored by the Kiwanis Club of the Sandhills. \n \n 
URL:https://thepinestimes.com/event/15th-annual-celebration-of-the-military-child/
LOCATION:Cannon Park Community Center\, 210 Rattlesnake Trail\, Pinehurst\, NC\, 28374
CATEGORIES:Adults,Children,Family,Food,Games,Live Entertainment,Nature/Outdoors,Pinehurst Events,Play,Senior,Social
ATTACH;FMTTYPE=image/jpeg:https://thepinestimes.com/wp-content/uploads/CelebrationOfTheMilitaryChildFeature.jpg
END:VEVENT
BEGIN:VEVENT
DTSTART;TZID=America/New_York:20260426T133000
DTEND;TZID=America/New_York:20260426T170000
DTSTAMP:20260423T021249
CREATED:20260420T155904Z
LAST-MODIFIED:20260420T155946Z
UID:10087002-1777210200-1777222800@thepinestimes.com
SUMMARY:Lady Spartans Leadership & Wellness Clinic
DESCRIPTION:The Sandhills Spartans Athletic Club is hosting the opening session of the Lady Spartans Leadership & Wellness Clinic on Sunday\, April 26th. The event will run from 1:30PM-5:00PM at the Cannon Park Community Center in Pinehurst. \nThe session features guest speaker Tommy Brown\, a former collegiate coach and author of “One Heartbeat.” His presentation focuses on helping young female athletes develop resilience\, mental toughness\, and mindset habits that translate from the field into everyday life. The clinic is designed to help participants learn how to handle pressure\, respond to adversity\, and grow through various challenges. \nMore than the game.Every athlete faces it—confidence struggles\, pressure moments\, questions about identity. And the truth is\, most of them are navigating it alone. \nThe Wellness & Leadership Clinic is designed to give female athletes the tools they need to:\n• Build real confidence\n• Handle pressure the right way\n• Understand who they are beyond the scoreboard \nThis isn’t about more reps. This is about real conversations that impact how they show up—in sport and in life. There will be guest speakers and a panel of original Lady Spartans who have lived it\, walked through it\, and are ready to pour back into the next generation. \nAthletes + Parents are both encouraged to attend. \nRegistration Details: The registration fee covers the attending female athlete. Parents are encouraged to attend alongside their daughter at no additional cost. \nRegistration for the clinic is $25 per athlete\, and the fee covers the participating student. Parents are strongly encouraged to attend the session alongside their daughters at no additional cost to share in the experience. Because space is limited\, interested families should register in advance by visiting oneheartbeatwarriors.com or by using the official event QR code.
URL:https://thepinestimes.com/event/lady-spartans-leadership-wellness-clinic/
LOCATION:Cannon Park Community Center\, 210 Rattlesnake Trail\, Pinehurst\, NC\, 28374
CATEGORIES:Adults,Author Event,Educational,Health & Wellness,Hobby/Enthusiast,Piney's Kids,Presentation,Social,Sports,Teen Activities,Women,Young Adults
ATTACH;FMTTYPE=image/jpeg:https://thepinestimes.com/wp-content/uploads/WellnessClinicFeature.jpg
ORGANIZER;CN="Sandhills Spartans Athletic Club":MAILTO:sandhillsspartansac@gmail.com
END:VEVENT
BEGIN:VEVENT
DTSTART;TZID=America/New_York:20260513T170000
DTEND;TZID=America/New_York:20260513T180000
DTSTAMP:20260423T021249
CREATED:20250917T213152Z
LAST-MODIFIED:20260401T163844Z
UID:10085967-1778691600-1778695200@thepinestimes.com
SUMMARY:The Arc of Moore County: Monthly Book Club
DESCRIPTION:The Arc of Moore County’s Book Club invites adults of all ages to come together and share in the joy of reading! Each month\, members meet at the Cannon Park Community Center  to discuss a selected book and enjoy a related project. The group gathers on the second Wednesday of every month at 5pm\, and participation is free. For details on the next meeting and book pick-up\, please contact The Arc office at (910) 692-8272.
URL:https://thepinestimes.com/event/the-arc-of-moore-county-monthly-book-club/2026-05-13/
LOCATION:Cannon Park Community Center\, 210 Rattlesnake Trail\, Pinehurst\, NC\, 28374
CATEGORIES:Adults,Book Club,Clubs,Crafts,Educational,Family,Hobby/Enthusiast,Pinehurst Events,Senior,Social,Teen Activities,Young Adults
ATTACH;FMTTYPE=image/jpeg:https://thepinestimes.com/wp-content/uploads/The-Arc-of-Moore-County-feature.jpg
END:VEVENT
BEGIN:VEVENT
DTSTART;TZID=America/New_York:20260519T183000
DTEND;TZID=America/New_York:20260519T200000
DTSTAMP:20260423T021250
CREATED:20260412T152828Z
LAST-MODIFIED:20260412T152852Z
UID:10086796-1779215400-1779220800@thepinestimes.com
SUMMARY:Pinehurst Youth Basketball Clinic (Ages 9-15)
DESCRIPTION:Pinehurst Parks & Recreation is hosting a Youth Basketball Clinic is being offered in partnership with Fitz n Fit Fitness at the Cannon Park Community Center on Tuesday\, May 19th. Coach Najee Fitzgerald and his coaching staff will lead the session for boys and girls between the ages of 9-15. \nThe program focuses on fundamental skill development both on and off the court\, including jump shots\, teamwork\, and good sportsmanship. Participants will be organized into age-based groups during the clinic\, which runs from 6:30PM-8:00PM. The cost to attend is $30 per player for this comprehensive evening of athletic growth and life skills training.
URL:https://thepinestimes.com/event/youth-basketball-clinic-ages-9-15/
LOCATION:Cannon Park Community Center\, 210 Rattlesnake Trail\, Pinehurst\, NC\, 28374
CATEGORIES:Basketball,Children,Educational,Hobby/Enthusiast,Pinehurst Events,Social,Sports,Teen Activities
ATTACH;FMTTYPE=image/jpeg:https://thepinestimes.com/wp-content/uploads/VillageOfPinehurstFeature.jpg
END:VEVENT
BEGIN:VEVENT
DTSTART;TZID=America/New_York:20260724T180000
DTEND;TZID=America/New_York:20260724T200000
DTSTAMP:20260423T021250
CREATED:20260413T132523Z
LAST-MODIFIED:20260413T132523Z
UID:10086808-1784916000-1784923200@thepinestimes.com
SUMMARY:Jr. NBA Skills Challenge (Ages 7-14)
DESCRIPTION:The Parks and Recreation Departments of Aberdeen\, Pinehurst\, and Southern Pines are jointly hosting a Jr. NBA Skills Challenge on July 24th at 6:00PM. Held at the Cannon Park Community Center located at 210 Rattlesnake Trail\, this free competition is open to boys and girls ages 7-14. \nParticipants will compete in five fundamental basketball areas: shooting\, lay-ups\, dribbling\, passing\, and defense. Players will be divided into 8U\, 10U\, 12U\, and 14U age groups\, with medals awarded to winners in each skill category and trophies presented to overall age bracket winners. For those seeking more information on rules and scoring\, or with specific questions\, Judith Lawhon can be reached at jlawhon@vopnc.org. \n 
URL:https://thepinestimes.com/event/jr-nba-skills-challenge-ages-7-14/
LOCATION:Cannon Park Community Center\, 210 Rattlesnake Trail\, Pinehurst\, NC\, 28374
CATEGORIES:Basketball,Children,Contest,Games,Hobby/Enthusiast,Pinehurst Events,Piney's Kids,Social,Sports,Teen Activities
ORGANIZER;CN="Aberdeen Parks and Recreation":MAILTO:aprd@townofaberdeen.net
END:VEVENT
END:VCALENDAR