BEGIN:VCALENDAR
VERSION:2.0
PRODID:-//The Pines Times - ECPv6.15.20//NONSGML v1.0//EN
CALSCALE:GREGORIAN
METHOD:PUBLISH
X-ORIGINAL-URL:https://thepinestimes.com
X-WR-CALDESC:Events for The Pines Times
REFRESH-INTERVAL;VALUE=DURATION:PT1H
X-Robots-Tag:noindex
X-PUBLISHED-TTL:PT1H
BEGIN:VTIMEZONE
TZID:America/New_York
BEGIN:DAYLIGHT
TZOFFSETFROM:-0500
TZOFFSETTO:-0400
TZNAME:EDT
DTSTART:20250309T070000
END:DAYLIGHT
BEGIN:STANDARD
TZOFFSETFROM:-0400
TZOFFSETTO:-0500
TZNAME:EST
DTSTART:20251102T060000
END:STANDARD
BEGIN:DAYLIGHT
TZOFFSETFROM:-0500
TZOFFSETTO:-0400
TZNAME:EDT
DTSTART:20260308T070000
END:DAYLIGHT
BEGIN:STANDARD
TZOFFSETFROM:-0400
TZOFFSETTO:-0500
TZNAME:EST
DTSTART:20261101T060000
END:STANDARD
BEGIN:DAYLIGHT
TZOFFSETFROM:-0500
TZOFFSETTO:-0400
TZNAME:EDT
DTSTART:20270314T070000
END:DAYLIGHT
BEGIN:STANDARD
TZOFFSETFROM:-0400
TZOFFSETTO:-0500
TZNAME:EST
DTSTART:20271107T060000
END:STANDARD
END:VTIMEZONE
BEGIN:VEVENT
DTSTART;TZID=America/New_York:20260503T113000
DTEND;TZID=America/New_York:20260503T194000
DTSTAMP:20260425T003024
CREATED:20260421T172209Z
LAST-MODIFIED:20260421T172209Z
UID:10087069-1777807800-1777837200@thepinestimes.com
SUMMARY:Carolina Cinemas: "Billie Eilish: Hit Me Hard and Soft"
DESCRIPTION:See “Billie Eilish: Hit Me Hard and Soft” on the big screen at Carolina Cinemas-Sandhills 10! \n“Captured during Billie Eilish’s sold-out world tour\, a concert experience from one of the most celebrated and successful artists of her generation\, presented in immersive 3D.” \nTo secure your tickets online\, CLICK HERE.
URL:https://thepinestimes.com/event/carolina-cinemas-billie-eilish-hit-me-hard-and-soft/2026-05-03/
LOCATION:Carolina Cinemas-Sandhills 10\, 104 Brucewood Drive\, Southern Pines\, NC\, 28387\, United States
CATEGORIES:Adults,Concert,Family,Hobby/Enthusiast,Live Entertainment,Movie,Music,Teen Activities,Young Adults
ATTACH;FMTTYPE=image/jpeg:https://thepinestimes.com/wp-content/uploads/CarolinaCinemasFeature1.jpg
END:VEVENT
BEGIN:VEVENT
DTSTART;TZID=America/New_York:20260503T120000
DTEND;TZID=America/New_York:20260508T200000
DTSTAMP:20260425T003024
CREATED:20260402T201852Z
LAST-MODIFIED:20260402T201852Z
UID:10086043-1777809600-1778270400@thepinestimes.com
SUMMARY:Carolina Cinemas: "Monty Python and The Holy Grail" Flashback Cinema
DESCRIPTION:King Arthur\, accompanied by his squire\, recruits his Knights of the Round Table\, including Sir Bedevere the Wise\, Sir Lancelot the Brave\, Sir Robin the Not-Quite-So-Brave-As-Sir-Lancelot and Sir Galahad the Pure. On the way\, Arthur battles the Black Knight who\, despite having had all his limbs chopped off\, insists he can still fight. They reach Camelot\, but Arthur decides not to enter\, as “it is a silly place”.
URL:https://thepinestimes.com/event/carolina-cinemas-monty-python-and-the-holy-grail-flashback-cinema/2026-05-03/
LOCATION:Carolina Cinemas-Sandhills 10\, 104 Brucewood Drive\, Southern Pines\, NC\, 28387\, United States
CATEGORIES:Movie
ATTACH;FMTTYPE=image/jpeg:https://thepinestimes.com/wp-content/uploads/CarolinaCinemasFeature1.jpg
END:VEVENT
BEGIN:VEVENT
DTSTART;TZID=America/New_York:20260504T120000
DTEND;TZID=America/New_York:20260509T200000
DTSTAMP:20260425T003024
CREATED:20260402T201852Z
LAST-MODIFIED:20260402T201852Z
UID:10086044-1777896000-1778356800@thepinestimes.com
SUMMARY:Carolina Cinemas: "Monty Python and The Holy Grail" Flashback Cinema
DESCRIPTION:King Arthur\, accompanied by his squire\, recruits his Knights of the Round Table\, including Sir Bedevere the Wise\, Sir Lancelot the Brave\, Sir Robin the Not-Quite-So-Brave-As-Sir-Lancelot and Sir Galahad the Pure. On the way\, Arthur battles the Black Knight who\, despite having had all his limbs chopped off\, insists he can still fight. They reach Camelot\, but Arthur decides not to enter\, as “it is a silly place”.
URL:https://thepinestimes.com/event/carolina-cinemas-monty-python-and-the-holy-grail-flashback-cinema/2026-05-04/
LOCATION:Carolina Cinemas-Sandhills 10\, 104 Brucewood Drive\, Southern Pines\, NC\, 28387\, United States
CATEGORIES:Movie
ATTACH;FMTTYPE=image/jpeg:https://thepinestimes.com/wp-content/uploads/CarolinaCinemasFeature1.jpg
END:VEVENT
BEGIN:VEVENT
DTSTART;TZID=America/New_York:20260504T141000
DTEND;TZID=America/New_York:20260504T194000
DTSTAMP:20260425T003024
CREATED:20260421T172209Z
LAST-MODIFIED:20260421T172209Z
UID:10087070-1777903800-1777923600@thepinestimes.com
SUMMARY:Carolina Cinemas: "Billie Eilish: Hit Me Hard and Soft"
DESCRIPTION:See “Billie Eilish: Hit Me Hard and Soft” on the big screen at Carolina Cinemas-Sandhills 10! \n“Captured during Billie Eilish’s sold-out world tour\, a concert experience from one of the most celebrated and successful artists of her generation\, presented in immersive 3D.” \nTo secure your tickets online\, CLICK HERE.
URL:https://thepinestimes.com/event/carolina-cinemas-billie-eilish-hit-me-hard-and-soft/2026-05-04/
LOCATION:Carolina Cinemas-Sandhills 10\, 104 Brucewood Drive\, Southern Pines\, NC\, 28387\, United States
CATEGORIES:Adults,Concert,Family,Hobby/Enthusiast,Live Entertainment,Movie,Music,Teen Activities,Young Adults
ATTACH;FMTTYPE=image/jpeg:https://thepinestimes.com/wp-content/uploads/CarolinaCinemasFeature1.jpg
END:VEVENT
BEGIN:VEVENT
DTSTART;TZID=America/New_York:20260505T100000
DTEND;TZID=America/New_York:20260505T200000
DTSTAMP:20260425T003024
CREATED:20260108T152057Z
LAST-MODIFIED:20260421T171536Z
UID:10087053-1777975200-1778011200@thepinestimes.com
SUMMARY:Carolina Cinemas Sandhills 10: Treat Yourself Tuesday
DESCRIPTION:Treat Yourself Tuesday at Carolina Cinemas with a special deal on movie tickets! You can enjoy any standard film for just $8 all day long every Tuesday. Please keep in mind that this offer excludes 3D screenings\, special engagements\, and holidays. To purchase your movie tickets\, CLICK HERE.
URL:https://thepinestimes.com/event/carolina-cinemas-sandhills-10-treat-yourself-tuesday/2026-05-05/
LOCATION:Carolina Cinemas-Sandhills 10\, 104 Brucewood Drive\, Southern Pines\, NC\, 28387\, United States
CATEGORIES:Hobby/Enthusiast,Movie,Southern Pines Events,Teen Activities
ATTACH;FMTTYPE=image/jpeg:https://thepinestimes.com/wp-content/uploads/CarolinaCinemasFeature1.jpg
END:VEVENT
BEGIN:VEVENT
DTSTART;TZID=America/New_York:20260505T120000
DTEND;TZID=America/New_York:20260510T200000
DTSTAMP:20260425T003024
CREATED:20260402T201852Z
LAST-MODIFIED:20260402T201852Z
UID:10086045-1777982400-1778443200@thepinestimes.com
SUMMARY:Carolina Cinemas: "Monty Python and The Holy Grail" Flashback Cinema
DESCRIPTION:King Arthur\, accompanied by his squire\, recruits his Knights of the Round Table\, including Sir Bedevere the Wise\, Sir Lancelot the Brave\, Sir Robin the Not-Quite-So-Brave-As-Sir-Lancelot and Sir Galahad the Pure. On the way\, Arthur battles the Black Knight who\, despite having had all his limbs chopped off\, insists he can still fight. They reach Camelot\, but Arthur decides not to enter\, as “it is a silly place”.
URL:https://thepinestimes.com/event/carolina-cinemas-monty-python-and-the-holy-grail-flashback-cinema/2026-05-05/
LOCATION:Carolina Cinemas-Sandhills 10\, 104 Brucewood Drive\, Southern Pines\, NC\, 28387\, United States
CATEGORIES:Movie
ATTACH;FMTTYPE=image/jpeg:https://thepinestimes.com/wp-content/uploads/CarolinaCinemasFeature1.jpg
END:VEVENT
BEGIN:VEVENT
DTSTART;TZID=America/New_York:20260505T141000
DTEND;TZID=America/New_York:20260505T194000
DTSTAMP:20260425T003024
CREATED:20260421T172209Z
LAST-MODIFIED:20260421T172209Z
UID:10087071-1777990200-1778010000@thepinestimes.com
SUMMARY:Carolina Cinemas: "Billie Eilish: Hit Me Hard and Soft"
DESCRIPTION:See “Billie Eilish: Hit Me Hard and Soft” on the big screen at Carolina Cinemas-Sandhills 10! \n“Captured during Billie Eilish’s sold-out world tour\, a concert experience from one of the most celebrated and successful artists of her generation\, presented in immersive 3D.” \nTo secure your tickets online\, CLICK HERE.
URL:https://thepinestimes.com/event/carolina-cinemas-billie-eilish-hit-me-hard-and-soft/2026-05-05/
LOCATION:Carolina Cinemas-Sandhills 10\, 104 Brucewood Drive\, Southern Pines\, NC\, 28387\, United States
CATEGORIES:Adults,Concert,Family,Hobby/Enthusiast,Live Entertainment,Movie,Music,Teen Activities,Young Adults
ATTACH;FMTTYPE=image/jpeg:https://thepinestimes.com/wp-content/uploads/CarolinaCinemasFeature1.jpg
END:VEVENT
BEGIN:VEVENT
DTSTART;TZID=America/New_York:20260506T120000
DTEND;TZID=America/New_York:20260511T200000
DTSTAMP:20260425T003024
CREATED:20260402T201852Z
LAST-MODIFIED:20260402T201852Z
UID:10086046-1778068800-1778529600@thepinestimes.com
SUMMARY:Carolina Cinemas: "Monty Python and The Holy Grail" Flashback Cinema
DESCRIPTION:King Arthur\, accompanied by his squire\, recruits his Knights of the Round Table\, including Sir Bedevere the Wise\, Sir Lancelot the Brave\, Sir Robin the Not-Quite-So-Brave-As-Sir-Lancelot and Sir Galahad the Pure. On the way\, Arthur battles the Black Knight who\, despite having had all his limbs chopped off\, insists he can still fight. They reach Camelot\, but Arthur decides not to enter\, as “it is a silly place”.
URL:https://thepinestimes.com/event/carolina-cinemas-monty-python-and-the-holy-grail-flashback-cinema/2026-05-06/
LOCATION:Carolina Cinemas-Sandhills 10\, 104 Brucewood Drive\, Southern Pines\, NC\, 28387\, United States
CATEGORIES:Movie
ATTACH;FMTTYPE=image/jpeg:https://thepinestimes.com/wp-content/uploads/CarolinaCinemasFeature1.jpg
END:VEVENT
BEGIN:VEVENT
DTSTART;TZID=America/New_York:20260506T141000
DTEND;TZID=America/New_York:20260506T194000
DTSTAMP:20260425T003024
CREATED:20260421T172209Z
LAST-MODIFIED:20260421T172209Z
UID:10087072-1778076600-1778096400@thepinestimes.com
SUMMARY:Carolina Cinemas: "Billie Eilish: Hit Me Hard and Soft"
DESCRIPTION:See “Billie Eilish: Hit Me Hard and Soft” on the big screen at Carolina Cinemas-Sandhills 10! \n“Captured during Billie Eilish’s sold-out world tour\, a concert experience from one of the most celebrated and successful artists of her generation\, presented in immersive 3D.” \nTo secure your tickets online\, CLICK HERE.
URL:https://thepinestimes.com/event/carolina-cinemas-billie-eilish-hit-me-hard-and-soft/2026-05-06/
LOCATION:Carolina Cinemas-Sandhills 10\, 104 Brucewood Drive\, Southern Pines\, NC\, 28387\, United States
CATEGORIES:Adults,Concert,Family,Hobby/Enthusiast,Live Entertainment,Movie,Music,Teen Activities,Young Adults
ATTACH;FMTTYPE=image/jpeg:https://thepinestimes.com/wp-content/uploads/CarolinaCinemasFeature1.jpg
END:VEVENT
BEGIN:VEVENT
DTSTART;TZID=America/New_York:20260512T100000
DTEND;TZID=America/New_York:20260512T200000
DTSTAMP:20260425T003024
CREATED:20260108T152057Z
LAST-MODIFIED:20260421T171536Z
UID:10087054-1778580000-1778616000@thepinestimes.com
SUMMARY:Carolina Cinemas Sandhills 10: Treat Yourself Tuesday
DESCRIPTION:Treat Yourself Tuesday at Carolina Cinemas with a special deal on movie tickets! You can enjoy any standard film for just $8 all day long every Tuesday. Please keep in mind that this offer excludes 3D screenings\, special engagements\, and holidays. To purchase your movie tickets\, CLICK HERE.
URL:https://thepinestimes.com/event/carolina-cinemas-sandhills-10-treat-yourself-tuesday/2026-05-12/
LOCATION:Carolina Cinemas-Sandhills 10\, 104 Brucewood Drive\, Southern Pines\, NC\, 28387\, United States
CATEGORIES:Hobby/Enthusiast,Movie,Southern Pines Events,Teen Activities
ATTACH;FMTTYPE=image/jpeg:https://thepinestimes.com/wp-content/uploads/CarolinaCinemasFeature1.jpg
END:VEVENT
BEGIN:VEVENT
DTSTART;TZID=America/New_York:20260519T100000
DTEND;TZID=America/New_York:20260519T200000
DTSTAMP:20260425T003024
CREATED:20260108T152057Z
LAST-MODIFIED:20260421T171536Z
UID:10087055-1779184800-1779220800@thepinestimes.com
SUMMARY:Carolina Cinemas Sandhills 10: Treat Yourself Tuesday
DESCRIPTION:Treat Yourself Tuesday at Carolina Cinemas with a special deal on movie tickets! You can enjoy any standard film for just $8 all day long every Tuesday. Please keep in mind that this offer excludes 3D screenings\, special engagements\, and holidays. To purchase your movie tickets\, CLICK HERE.
URL:https://thepinestimes.com/event/carolina-cinemas-sandhills-10-treat-yourself-tuesday/2026-05-19/
LOCATION:Carolina Cinemas-Sandhills 10\, 104 Brucewood Drive\, Southern Pines\, NC\, 28387\, United States
CATEGORIES:Hobby/Enthusiast,Movie,Southern Pines Events,Teen Activities
ATTACH;FMTTYPE=image/jpeg:https://thepinestimes.com/wp-content/uploads/CarolinaCinemasFeature1.jpg
END:VEVENT
BEGIN:VEVENT
DTSTART;TZID=America/New_York:20260526T100000
DTEND;TZID=America/New_York:20260526T200000
DTSTAMP:20260425T003024
CREATED:20260108T152057Z
LAST-MODIFIED:20260421T171536Z
UID:10087056-1779789600-1779825600@thepinestimes.com
SUMMARY:Carolina Cinemas Sandhills 10: Treat Yourself Tuesday
DESCRIPTION:Treat Yourself Tuesday at Carolina Cinemas with a special deal on movie tickets! You can enjoy any standard film for just $8 all day long every Tuesday. Please keep in mind that this offer excludes 3D screenings\, special engagements\, and holidays. To purchase your movie tickets\, CLICK HERE.
URL:https://thepinestimes.com/event/carolina-cinemas-sandhills-10-treat-yourself-tuesday/2026-05-26/
LOCATION:Carolina Cinemas-Sandhills 10\, 104 Brucewood Drive\, Southern Pines\, NC\, 28387\, United States
CATEGORIES:Hobby/Enthusiast,Movie,Southern Pines Events,Teen Activities
ATTACH;FMTTYPE=image/jpeg:https://thepinestimes.com/wp-content/uploads/CarolinaCinemasFeature1.jpg
END:VEVENT
BEGIN:VEVENT
DTSTART;TZID=America/New_York:20260602T100000
DTEND;TZID=America/New_York:20260602T200000
DTSTAMP:20260425T003024
CREATED:20260108T152057Z
LAST-MODIFIED:20260421T171536Z
UID:10087057-1780394400-1780430400@thepinestimes.com
SUMMARY:Carolina Cinemas Sandhills 10: Treat Yourself Tuesday
DESCRIPTION:Treat Yourself Tuesday at Carolina Cinemas with a special deal on movie tickets! You can enjoy any standard film for just $8 all day long every Tuesday. Please keep in mind that this offer excludes 3D screenings\, special engagements\, and holidays. To purchase your movie tickets\, CLICK HERE.
URL:https://thepinestimes.com/event/carolina-cinemas-sandhills-10-treat-yourself-tuesday/2026-06-02/
LOCATION:Carolina Cinemas-Sandhills 10\, 104 Brucewood Drive\, Southern Pines\, NC\, 28387\, United States
CATEGORIES:Hobby/Enthusiast,Movie,Southern Pines Events,Teen Activities
ATTACH;FMTTYPE=image/jpeg:https://thepinestimes.com/wp-content/uploads/CarolinaCinemasFeature1.jpg
END:VEVENT
BEGIN:VEVENT
DTSTART;TZID=America/New_York:20260609T100000
DTEND;TZID=America/New_York:20260609T200000
DTSTAMP:20260425T003024
CREATED:20260108T152057Z
LAST-MODIFIED:20260421T171536Z
UID:10087058-1780999200-1781035200@thepinestimes.com
SUMMARY:Carolina Cinemas Sandhills 10: Treat Yourself Tuesday
DESCRIPTION:Treat Yourself Tuesday at Carolina Cinemas with a special deal on movie tickets! You can enjoy any standard film for just $8 all day long every Tuesday. Please keep in mind that this offer excludes 3D screenings\, special engagements\, and holidays. To purchase your movie tickets\, CLICK HERE.
URL:https://thepinestimes.com/event/carolina-cinemas-sandhills-10-treat-yourself-tuesday/2026-06-09/
LOCATION:Carolina Cinemas-Sandhills 10\, 104 Brucewood Drive\, Southern Pines\, NC\, 28387\, United States
CATEGORIES:Hobby/Enthusiast,Movie,Southern Pines Events,Teen Activities
ATTACH;FMTTYPE=image/jpeg:https://thepinestimes.com/wp-content/uploads/CarolinaCinemasFeature1.jpg
END:VEVENT
BEGIN:VEVENT
DTSTART;TZID=America/New_York:20260616T100000
DTEND;TZID=America/New_York:20260616T200000
DTSTAMP:20260425T003024
CREATED:20260108T152057Z
LAST-MODIFIED:20260421T171536Z
UID:10087059-1781604000-1781640000@thepinestimes.com
SUMMARY:Carolina Cinemas Sandhills 10: Treat Yourself Tuesday
DESCRIPTION:Treat Yourself Tuesday at Carolina Cinemas with a special deal on movie tickets! You can enjoy any standard film for just $8 all day long every Tuesday. Please keep in mind that this offer excludes 3D screenings\, special engagements\, and holidays. To purchase your movie tickets\, CLICK HERE.
URL:https://thepinestimes.com/event/carolina-cinemas-sandhills-10-treat-yourself-tuesday/2026-06-16/
LOCATION:Carolina Cinemas-Sandhills 10\, 104 Brucewood Drive\, Southern Pines\, NC\, 28387\, United States
CATEGORIES:Hobby/Enthusiast,Movie,Southern Pines Events,Teen Activities
ATTACH;FMTTYPE=image/jpeg:https://thepinestimes.com/wp-content/uploads/CarolinaCinemasFeature1.jpg
END:VEVENT
BEGIN:VEVENT
DTSTART;TZID=America/New_York:20260623T100000
DTEND;TZID=America/New_York:20260623T200000
DTSTAMP:20260425T003024
CREATED:20260108T152057Z
LAST-MODIFIED:20260421T171536Z
UID:10087060-1782208800-1782244800@thepinestimes.com
SUMMARY:Carolina Cinemas Sandhills 10: Treat Yourself Tuesday
DESCRIPTION:Treat Yourself Tuesday at Carolina Cinemas with a special deal on movie tickets! You can enjoy any standard film for just $8 all day long every Tuesday. Please keep in mind that this offer excludes 3D screenings\, special engagements\, and holidays. To purchase your movie tickets\, CLICK HERE.
URL:https://thepinestimes.com/event/carolina-cinemas-sandhills-10-treat-yourself-tuesday/2026-06-23/
LOCATION:Carolina Cinemas-Sandhills 10\, 104 Brucewood Drive\, Southern Pines\, NC\, 28387\, United States
CATEGORIES:Hobby/Enthusiast,Movie,Southern Pines Events,Teen Activities
ATTACH;FMTTYPE=image/jpeg:https://thepinestimes.com/wp-content/uploads/CarolinaCinemasFeature1.jpg
END:VEVENT
BEGIN:VEVENT
DTSTART;TZID=America/New_York:20260630T100000
DTEND;TZID=America/New_York:20260630T200000
DTSTAMP:20260425T003024
CREATED:20260108T152057Z
LAST-MODIFIED:20260421T171536Z
UID:10087061-1782813600-1782849600@thepinestimes.com
SUMMARY:Carolina Cinemas Sandhills 10: Treat Yourself Tuesday
DESCRIPTION:Treat Yourself Tuesday at Carolina Cinemas with a special deal on movie tickets! You can enjoy any standard film for just $8 all day long every Tuesday. Please keep in mind that this offer excludes 3D screenings\, special engagements\, and holidays. To purchase your movie tickets\, CLICK HERE.
URL:https://thepinestimes.com/event/carolina-cinemas-sandhills-10-treat-yourself-tuesday/2026-06-30/
LOCATION:Carolina Cinemas-Sandhills 10\, 104 Brucewood Drive\, Southern Pines\, NC\, 28387\, United States
CATEGORIES:Hobby/Enthusiast,Movie,Southern Pines Events,Teen Activities
ATTACH;FMTTYPE=image/jpeg:https://thepinestimes.com/wp-content/uploads/CarolinaCinemasFeature1.jpg
END:VEVENT
BEGIN:VEVENT
DTSTART;TZID=America/New_York:20260707T100000
DTEND;TZID=America/New_York:20260707T200000
DTSTAMP:20260425T003024
CREATED:20260108T152057Z
LAST-MODIFIED:20260421T171536Z
UID:10087062-1783418400-1783454400@thepinestimes.com
SUMMARY:Carolina Cinemas Sandhills 10: Treat Yourself Tuesday
DESCRIPTION:Treat Yourself Tuesday at Carolina Cinemas with a special deal on movie tickets! You can enjoy any standard film for just $8 all day long every Tuesday. Please keep in mind that this offer excludes 3D screenings\, special engagements\, and holidays. To purchase your movie tickets\, CLICK HERE.
URL:https://thepinestimes.com/event/carolina-cinemas-sandhills-10-treat-yourself-tuesday/2026-07-07/
LOCATION:Carolina Cinemas-Sandhills 10\, 104 Brucewood Drive\, Southern Pines\, NC\, 28387\, United States
CATEGORIES:Hobby/Enthusiast,Movie,Southern Pines Events,Teen Activities
ATTACH;FMTTYPE=image/jpeg:https://thepinestimes.com/wp-content/uploads/CarolinaCinemasFeature1.jpg
END:VEVENT
BEGIN:VEVENT
DTSTART;TZID=America/New_York:20260714T100000
DTEND;TZID=America/New_York:20260714T200000
DTSTAMP:20260425T003024
CREATED:20260108T152057Z
LAST-MODIFIED:20260421T171536Z
UID:10087063-1784023200-1784059200@thepinestimes.com
SUMMARY:Carolina Cinemas Sandhills 10: Treat Yourself Tuesday
DESCRIPTION:Treat Yourself Tuesday at Carolina Cinemas with a special deal on movie tickets! You can enjoy any standard film for just $8 all day long every Tuesday. Please keep in mind that this offer excludes 3D screenings\, special engagements\, and holidays. To purchase your movie tickets\, CLICK HERE.
URL:https://thepinestimes.com/event/carolina-cinemas-sandhills-10-treat-yourself-tuesday/2026-07-14/
LOCATION:Carolina Cinemas-Sandhills 10\, 104 Brucewood Drive\, Southern Pines\, NC\, 28387\, United States
CATEGORIES:Hobby/Enthusiast,Movie,Southern Pines Events,Teen Activities
ATTACH;FMTTYPE=image/jpeg:https://thepinestimes.com/wp-content/uploads/CarolinaCinemasFeature1.jpg
END:VEVENT
BEGIN:VEVENT
DTSTART;TZID=America/New_York:20260721T100000
DTEND;TZID=America/New_York:20260721T200000
DTSTAMP:20260425T003024
CREATED:20260108T152057Z
LAST-MODIFIED:20260421T171536Z
UID:10087064-1784628000-1784664000@thepinestimes.com
SUMMARY:Carolina Cinemas Sandhills 10: Treat Yourself Tuesday
DESCRIPTION:Treat Yourself Tuesday at Carolina Cinemas with a special deal on movie tickets! You can enjoy any standard film for just $8 all day long every Tuesday. Please keep in mind that this offer excludes 3D screenings\, special engagements\, and holidays. To purchase your movie tickets\, CLICK HERE.
URL:https://thepinestimes.com/event/carolina-cinemas-sandhills-10-treat-yourself-tuesday/2026-07-21/
LOCATION:Carolina Cinemas-Sandhills 10\, 104 Brucewood Drive\, Southern Pines\, NC\, 28387\, United States
CATEGORIES:Hobby/Enthusiast,Movie,Southern Pines Events,Teen Activities
ATTACH;FMTTYPE=image/jpeg:https://thepinestimes.com/wp-content/uploads/CarolinaCinemasFeature1.jpg
END:VEVENT
BEGIN:VEVENT
DTSTART;TZID=America/New_York:20260728T100000
DTEND;TZID=America/New_York:20260728T200000
DTSTAMP:20260425T003024
CREATED:20260108T152057Z
LAST-MODIFIED:20260421T171536Z
UID:10087065-1785232800-1785268800@thepinestimes.com
SUMMARY:Carolina Cinemas Sandhills 10: Treat Yourself Tuesday
DESCRIPTION:Treat Yourself Tuesday at Carolina Cinemas with a special deal on movie tickets! You can enjoy any standard film for just $8 all day long every Tuesday. Please keep in mind that this offer excludes 3D screenings\, special engagements\, and holidays. To purchase your movie tickets\, CLICK HERE.
URL:https://thepinestimes.com/event/carolina-cinemas-sandhills-10-treat-yourself-tuesday/2026-07-28/
LOCATION:Carolina Cinemas-Sandhills 10\, 104 Brucewood Drive\, Southern Pines\, NC\, 28387\, United States
CATEGORIES:Hobby/Enthusiast,Movie,Southern Pines Events,Teen Activities
ATTACH;FMTTYPE=image/jpeg:https://thepinestimes.com/wp-content/uploads/CarolinaCinemasFeature1.jpg
END:VEVENT
END:VCALENDAR