BEGIN:VCALENDAR
VERSION:2.0
PRODID:-//The Pines Times - ECPv6.15.20//NONSGML v1.0//EN
CALSCALE:GREGORIAN
METHOD:PUBLISH
X-ORIGINAL-URL:https://thepinestimes.com
X-WR-CALDESC:Events for The Pines Times
REFRESH-INTERVAL;VALUE=DURATION:PT1H
X-Robots-Tag:noindex
X-PUBLISHED-TTL:PT1H
BEGIN:VTIMEZONE
TZID:America/New_York
BEGIN:DAYLIGHT
TZOFFSETFROM:-0500
TZOFFSETTO:-0400
TZNAME:EDT
DTSTART:20240310T070000
END:DAYLIGHT
BEGIN:STANDARD
TZOFFSETFROM:-0400
TZOFFSETTO:-0500
TZNAME:EST
DTSTART:20241103T060000
END:STANDARD
BEGIN:DAYLIGHT
TZOFFSETFROM:-0500
TZOFFSETTO:-0400
TZNAME:EDT
DTSTART:20250309T070000
END:DAYLIGHT
BEGIN:STANDARD
TZOFFSETFROM:-0400
TZOFFSETTO:-0500
TZNAME:EST
DTSTART:20251102T060000
END:STANDARD
BEGIN:DAYLIGHT
TZOFFSETFROM:-0500
TZOFFSETTO:-0400
TZNAME:EDT
DTSTART:20260308T070000
END:DAYLIGHT
BEGIN:STANDARD
TZOFFSETFROM:-0400
TZOFFSETTO:-0500
TZNAME:EST
DTSTART:20261101T060000
END:STANDARD
END:VTIMEZONE
BEGIN:VEVENT
DTSTART;TZID=America/New_York:20250928T100000
DTEND;TZID=America/New_York:20250928T113000
DTSTAMP:20260422T060822
CREATED:20250925T001010Z
LAST-MODIFIED:20250925T001941Z
UID:10071001-1759053600-1759059000@thepinestimes.com
SUMMARY:Natural History Hike at Carver's Creek State Park
DESCRIPTION:Join Sustainable Sandhills for a two-mile Natural History Hike at Carver’s Creek State Park (Sandhills Multi-Use Trails) on Sunday\, September 28th at 10:00am. This is a great opportunity to explore the beautiful longleaf pine savannas and learn about the unique environmental and economic contributions of the region’s ecosystem. The event is free and open to the public. Be sure to bring water bottles and your cameras. You can register by scanning the QR code on the included flyer or by visiting the event website link provided below.
URL:https://thepinestimes.com/event/natural-history-hike-at-carvers-creek-state-park/
LOCATION:Carver’s Creek State Park\, Sandhills Access-995 McCloskey Road\, Fayetteville\, 28311\, United States
CATEGORIES:Educational,Fayetteville,Hike,Hobby/Enthusiast,Nature/Outdoors,Out of Town,Social,Teen Activities,Young Adults
ATTACH;FMTTYPE=image/jpeg:https://thepinestimes.com/wp-content/uploads/Sustainable-Sandhills-Feature.jpg
END:VEVENT
END:VCALENDAR