BEGIN:VCALENDAR
VERSION:2.0
PRODID:-//The Pines Times - ECPv6.15.20//NONSGML v1.0//EN
CALSCALE:GREGORIAN
METHOD:PUBLISH
X-WR-CALNAME:The Pines Times
X-ORIGINAL-URL:https://thepinestimes.com
X-WR-CALDESC:Events for The Pines Times
REFRESH-INTERVAL;VALUE=DURATION:PT1H
X-Robots-Tag:noindex
X-PUBLISHED-TTL:PT1H
BEGIN:VTIMEZONE
TZID:America/New_York
BEGIN:DAYLIGHT
TZOFFSETFROM:-0500
TZOFFSETTO:-0400
TZNAME:EDT
DTSTART:20240310T070000
END:DAYLIGHT
BEGIN:STANDARD
TZOFFSETFROM:-0400
TZOFFSETTO:-0500
TZNAME:EST
DTSTART:20241103T060000
END:STANDARD
BEGIN:DAYLIGHT
TZOFFSETFROM:-0500
TZOFFSETTO:-0400
TZNAME:EDT
DTSTART:20250309T070000
END:DAYLIGHT
BEGIN:STANDARD
TZOFFSETFROM:-0400
TZOFFSETTO:-0500
TZNAME:EST
DTSTART:20251102T060000
END:STANDARD
BEGIN:DAYLIGHT
TZOFFSETFROM:-0500
TZOFFSETTO:-0400
TZNAME:EDT
DTSTART:20260308T070000
END:DAYLIGHT
BEGIN:STANDARD
TZOFFSETFROM:-0400
TZOFFSETTO:-0500
TZNAME:EST
DTSTART:20261101T060000
END:STANDARD
BEGIN:DAYLIGHT
TZOFFSETFROM:-0500
TZOFFSETTO:-0400
TZNAME:EDT
DTSTART:20270314T070000
END:DAYLIGHT
BEGIN:STANDARD
TZOFFSETFROM:-0400
TZOFFSETTO:-0500
TZNAME:EST
DTSTART:20271107T060000
END:STANDARD
END:VTIMEZONE
BEGIN:VEVENT
DTSTART;TZID=America/New_York:20260406T110000
DTEND;TZID=America/New_York:20260406T213000
DTSTAMP:20260424T114835
CREATED:20260327T161056Z
LAST-MODIFIED:20260407T092803Z
UID:10084713-1775473200-1775511000@thepinestimes.com
SUMMARY:Casa Santa Ana Mexican Cuisine: March Madness Game Plan
DESCRIPTION:March Madness + Mexican Flavor = The Perfect Game Plan! \nCasa Santa Ana Mexican Cuisine is the perfect place to celebrate March Madness with authentic Mexican flavors at their Pinehurst and Seven Lakes locations. Their special game day menu features a variety of favorites including Buffalo Wings\, Muncho Nachos\, Deluxe Nachos\, Carnitas Nachos\, and Pollo Asado Fries\, alongside signature dishes like Burritos Deluxe and Enchiladas Rancheras. \nAs a gesture of appreciation\, they offer a 10% discount every day of the week for first responders\, active military\, veterans\, and retired military personnel. Customers are encouraged to order online or visit in person to experience traditional Mexican cuisine that brings a taste of Mexico to the heart of Moore County. \n \n 
URL:https://thepinestimes.com/event/150636/2026-04-06/
LOCATION:Casa Santa Ana NC\, 168 Grant St.\, Seven Lakes\, NC\, 27376\, United States
CATEGORIES:Family,Food,Veterans
ATTACH;FMTTYPE=image/jpeg:https://thepinestimes.com/wp-content/uploads/CasaSantaAnaFeature-1.jpg
ORGANIZER;CN="Casa Santa Ana NC":MAILTO:casagarcia27376@hotmail.com
END:VEVENT
BEGIN:VEVENT
DTSTART;TZID=America/New_York:20260405T110000
DTEND;TZID=America/New_York:20260405T213000
DTSTAMP:20260424T114835
CREATED:20260327T161056Z
LAST-MODIFIED:20260407T092803Z
UID:10084712-1775386800-1775424600@thepinestimes.com
SUMMARY:Casa Santa Ana Mexican Cuisine: March Madness Game Plan
DESCRIPTION:March Madness + Mexican Flavor = The Perfect Game Plan! \nCasa Santa Ana Mexican Cuisine is the perfect place to celebrate March Madness with authentic Mexican flavors at their Pinehurst and Seven Lakes locations. Their special game day menu features a variety of favorites including Buffalo Wings\, Muncho Nachos\, Deluxe Nachos\, Carnitas Nachos\, and Pollo Asado Fries\, alongside signature dishes like Burritos Deluxe and Enchiladas Rancheras. \nAs a gesture of appreciation\, they offer a 10% discount every day of the week for first responders\, active military\, veterans\, and retired military personnel. Customers are encouraged to order online or visit in person to experience traditional Mexican cuisine that brings a taste of Mexico to the heart of Moore County. \n \n 
URL:https://thepinestimes.com/event/150636/2026-04-05/
LOCATION:Casa Santa Ana NC\, 168 Grant St.\, Seven Lakes\, NC\, 27376\, United States
CATEGORIES:Family,Food,Veterans
ATTACH;FMTTYPE=image/jpeg:https://thepinestimes.com/wp-content/uploads/CasaSantaAnaFeature-1.jpg
ORGANIZER;CN="Casa Santa Ana NC":MAILTO:casagarcia27376@hotmail.com
END:VEVENT
BEGIN:VEVENT
DTSTART;TZID=America/New_York:20260404T110000
DTEND;TZID=America/New_York:20260404T213000
DTSTAMP:20260424T114835
CREATED:20260327T161056Z
LAST-MODIFIED:20260407T092803Z
UID:10084711-1775300400-1775338200@thepinestimes.com
SUMMARY:Casa Santa Ana Mexican Cuisine: March Madness Game Plan
DESCRIPTION:March Madness + Mexican Flavor = The Perfect Game Plan! \nCasa Santa Ana Mexican Cuisine is the perfect place to celebrate March Madness with authentic Mexican flavors at their Pinehurst and Seven Lakes locations. Their special game day menu features a variety of favorites including Buffalo Wings\, Muncho Nachos\, Deluxe Nachos\, Carnitas Nachos\, and Pollo Asado Fries\, alongside signature dishes like Burritos Deluxe and Enchiladas Rancheras. \nAs a gesture of appreciation\, they offer a 10% discount every day of the week for first responders\, active military\, veterans\, and retired military personnel. Customers are encouraged to order online or visit in person to experience traditional Mexican cuisine that brings a taste of Mexico to the heart of Moore County. \n \n 
URL:https://thepinestimes.com/event/150636/2026-04-04/
LOCATION:Casa Santa Ana NC\, 168 Grant St.\, Seven Lakes\, NC\, 27376\, United States
CATEGORIES:Family,Food,Veterans
ATTACH;FMTTYPE=image/jpeg:https://thepinestimes.com/wp-content/uploads/CasaSantaAnaFeature-1.jpg
ORGANIZER;CN="Casa Santa Ana NC":MAILTO:casagarcia27376@hotmail.com
END:VEVENT
BEGIN:VEVENT
DTSTART;TZID=America/New_York:20260403T110000
DTEND;TZID=America/New_York:20260403T213000
DTSTAMP:20260424T114835
CREATED:20260327T161056Z
LAST-MODIFIED:20260407T092803Z
UID:10084710-1775214000-1775251800@thepinestimes.com
SUMMARY:Casa Santa Ana Mexican Cuisine: March Madness Game Plan
DESCRIPTION:March Madness + Mexican Flavor = The Perfect Game Plan! \nCasa Santa Ana Mexican Cuisine is the perfect place to celebrate March Madness with authentic Mexican flavors at their Pinehurst and Seven Lakes locations. Their special game day menu features a variety of favorites including Buffalo Wings\, Muncho Nachos\, Deluxe Nachos\, Carnitas Nachos\, and Pollo Asado Fries\, alongside signature dishes like Burritos Deluxe and Enchiladas Rancheras. \nAs a gesture of appreciation\, they offer a 10% discount every day of the week for first responders\, active military\, veterans\, and retired military personnel. Customers are encouraged to order online or visit in person to experience traditional Mexican cuisine that brings a taste of Mexico to the heart of Moore County. \n \n 
URL:https://thepinestimes.com/event/150636/2026-04-03/
LOCATION:Casa Santa Ana NC\, 168 Grant St.\, Seven Lakes\, NC\, 27376\, United States
CATEGORIES:Family,Food,Veterans
ATTACH;FMTTYPE=image/jpeg:https://thepinestimes.com/wp-content/uploads/CasaSantaAnaFeature-1.jpg
ORGANIZER;CN="Casa Santa Ana NC":MAILTO:casagarcia27376@hotmail.com
END:VEVENT
BEGIN:VEVENT
DTSTART;TZID=America/New_York:20260402T110000
DTEND;TZID=America/New_York:20260402T213000
DTSTAMP:20260424T114835
CREATED:20260327T161056Z
LAST-MODIFIED:20260407T092803Z
UID:10084709-1775127600-1775165400@thepinestimes.com
SUMMARY:Casa Santa Ana Mexican Cuisine: March Madness Game Plan
DESCRIPTION:March Madness + Mexican Flavor = The Perfect Game Plan! \nCasa Santa Ana Mexican Cuisine is the perfect place to celebrate March Madness with authentic Mexican flavors at their Pinehurst and Seven Lakes locations. Their special game day menu features a variety of favorites including Buffalo Wings\, Muncho Nachos\, Deluxe Nachos\, Carnitas Nachos\, and Pollo Asado Fries\, alongside signature dishes like Burritos Deluxe and Enchiladas Rancheras. \nAs a gesture of appreciation\, they offer a 10% discount every day of the week for first responders\, active military\, veterans\, and retired military personnel. Customers are encouraged to order online or visit in person to experience traditional Mexican cuisine that brings a taste of Mexico to the heart of Moore County. \n \n 
URL:https://thepinestimes.com/event/150636/2026-04-02/
LOCATION:Casa Santa Ana NC\, 168 Grant St.\, Seven Lakes\, NC\, 27376\, United States
CATEGORIES:Family,Food,Veterans
ATTACH;FMTTYPE=image/jpeg:https://thepinestimes.com/wp-content/uploads/CasaSantaAnaFeature-1.jpg
ORGANIZER;CN="Casa Santa Ana NC":MAILTO:casagarcia27376@hotmail.com
END:VEVENT
BEGIN:VEVENT
DTSTART;TZID=America/New_York:20260401T110000
DTEND;TZID=America/New_York:20260401T213000
DTSTAMP:20260424T114835
CREATED:20260327T161056Z
LAST-MODIFIED:20260407T092803Z
UID:10084708-1775041200-1775079000@thepinestimes.com
SUMMARY:Casa Santa Ana Mexican Cuisine: March Madness Game Plan
DESCRIPTION:March Madness + Mexican Flavor = The Perfect Game Plan! \nCasa Santa Ana Mexican Cuisine is the perfect place to celebrate March Madness with authentic Mexican flavors at their Pinehurst and Seven Lakes locations. Their special game day menu features a variety of favorites including Buffalo Wings\, Muncho Nachos\, Deluxe Nachos\, Carnitas Nachos\, and Pollo Asado Fries\, alongside signature dishes like Burritos Deluxe and Enchiladas Rancheras. \nAs a gesture of appreciation\, they offer a 10% discount every day of the week for first responders\, active military\, veterans\, and retired military personnel. Customers are encouraged to order online or visit in person to experience traditional Mexican cuisine that brings a taste of Mexico to the heart of Moore County. \n \n 
URL:https://thepinestimes.com/event/150636/2026-04-01/
LOCATION:Casa Santa Ana NC\, 168 Grant St.\, Seven Lakes\, NC\, 27376\, United States
CATEGORIES:Family,Food,Veterans
ATTACH;FMTTYPE=image/jpeg:https://thepinestimes.com/wp-content/uploads/CasaSantaAnaFeature-1.jpg
ORGANIZER;CN="Casa Santa Ana NC":MAILTO:casagarcia27376@hotmail.com
END:VEVENT
BEGIN:VEVENT
DTSTART;TZID=America/New_York:20260331T110000
DTEND;TZID=America/New_York:20260331T213000
DTSTAMP:20260424T114835
CREATED:20260327T161056Z
LAST-MODIFIED:20260407T092803Z
UID:10084707-1774954800-1774992600@thepinestimes.com
SUMMARY:Casa Santa Ana Mexican Cuisine: March Madness Game Plan
DESCRIPTION:March Madness + Mexican Flavor = The Perfect Game Plan! \nCasa Santa Ana Mexican Cuisine is the perfect place to celebrate March Madness with authentic Mexican flavors at their Pinehurst and Seven Lakes locations. Their special game day menu features a variety of favorites including Buffalo Wings\, Muncho Nachos\, Deluxe Nachos\, Carnitas Nachos\, and Pollo Asado Fries\, alongside signature dishes like Burritos Deluxe and Enchiladas Rancheras. \nAs a gesture of appreciation\, they offer a 10% discount every day of the week for first responders\, active military\, veterans\, and retired military personnel. Customers are encouraged to order online or visit in person to experience traditional Mexican cuisine that brings a taste of Mexico to the heart of Moore County. \n \n 
URL:https://thepinestimes.com/event/150636/2026-03-31/
LOCATION:Casa Santa Ana NC\, 168 Grant St.\, Seven Lakes\, NC\, 27376\, United States
CATEGORIES:Family,Food,Veterans
ATTACH;FMTTYPE=image/jpeg:https://thepinestimes.com/wp-content/uploads/CasaSantaAnaFeature-1.jpg
ORGANIZER;CN="Casa Santa Ana NC":MAILTO:casagarcia27376@hotmail.com
END:VEVENT
BEGIN:VEVENT
DTSTART;TZID=America/New_York:20260330T110000
DTEND;TZID=America/New_York:20260330T213000
DTSTAMP:20260424T114835
CREATED:20260327T161056Z
LAST-MODIFIED:20260407T092803Z
UID:10084706-1774868400-1774906200@thepinestimes.com
SUMMARY:Casa Santa Ana Mexican Cuisine: March Madness Game Plan
DESCRIPTION:March Madness + Mexican Flavor = The Perfect Game Plan! \nCasa Santa Ana Mexican Cuisine is the perfect place to celebrate March Madness with authentic Mexican flavors at their Pinehurst and Seven Lakes locations. Their special game day menu features a variety of favorites including Buffalo Wings\, Muncho Nachos\, Deluxe Nachos\, Carnitas Nachos\, and Pollo Asado Fries\, alongside signature dishes like Burritos Deluxe and Enchiladas Rancheras. \nAs a gesture of appreciation\, they offer a 10% discount every day of the week for first responders\, active military\, veterans\, and retired military personnel. Customers are encouraged to order online or visit in person to experience traditional Mexican cuisine that brings a taste of Mexico to the heart of Moore County. \n \n 
URL:https://thepinestimes.com/event/150636/2026-03-30/
LOCATION:Casa Santa Ana NC\, 168 Grant St.\, Seven Lakes\, NC\, 27376\, United States
CATEGORIES:Family,Food,Veterans
ATTACH;FMTTYPE=image/jpeg:https://thepinestimes.com/wp-content/uploads/CasaSantaAnaFeature-1.jpg
ORGANIZER;CN="Casa Santa Ana NC":MAILTO:casagarcia27376@hotmail.com
END:VEVENT
BEGIN:VEVENT
DTSTART;TZID=America/New_York:20260329T110000
DTEND;TZID=America/New_York:20260329T213000
DTSTAMP:20260424T114835
CREATED:20260327T161056Z
LAST-MODIFIED:20260407T092803Z
UID:10084705-1774782000-1774819800@thepinestimes.com
SUMMARY:Casa Santa Ana Mexican Cuisine: March Madness Game Plan
DESCRIPTION:March Madness + Mexican Flavor = The Perfect Game Plan! \nCasa Santa Ana Mexican Cuisine is the perfect place to celebrate March Madness with authentic Mexican flavors at their Pinehurst and Seven Lakes locations. Their special game day menu features a variety of favorites including Buffalo Wings\, Muncho Nachos\, Deluxe Nachos\, Carnitas Nachos\, and Pollo Asado Fries\, alongside signature dishes like Burritos Deluxe and Enchiladas Rancheras. \nAs a gesture of appreciation\, they offer a 10% discount every day of the week for first responders\, active military\, veterans\, and retired military personnel. Customers are encouraged to order online or visit in person to experience traditional Mexican cuisine that brings a taste of Mexico to the heart of Moore County. \n \n 
URL:https://thepinestimes.com/event/150636/2026-03-29/
LOCATION:Casa Santa Ana NC\, 168 Grant St.\, Seven Lakes\, NC\, 27376\, United States
CATEGORIES:Family,Food,Veterans
ATTACH;FMTTYPE=image/jpeg:https://thepinestimes.com/wp-content/uploads/CasaSantaAnaFeature-1.jpg
ORGANIZER;CN="Casa Santa Ana NC":MAILTO:casagarcia27376@hotmail.com
END:VEVENT
BEGIN:VEVENT
DTSTART;TZID=America/New_York:20260328T110000
DTEND;TZID=America/New_York:20260328T213000
DTSTAMP:20260424T114835
CREATED:20260327T161056Z
LAST-MODIFIED:20260407T092803Z
UID:10084704-1774695600-1774733400@thepinestimes.com
SUMMARY:Casa Santa Ana Mexican Cuisine: March Madness Game Plan
DESCRIPTION:March Madness + Mexican Flavor = The Perfect Game Plan! \nCasa Santa Ana Mexican Cuisine is the perfect place to celebrate March Madness with authentic Mexican flavors at their Pinehurst and Seven Lakes locations. Their special game day menu features a variety of favorites including Buffalo Wings\, Muncho Nachos\, Deluxe Nachos\, Carnitas Nachos\, and Pollo Asado Fries\, alongside signature dishes like Burritos Deluxe and Enchiladas Rancheras. \nAs a gesture of appreciation\, they offer a 10% discount every day of the week for first responders\, active military\, veterans\, and retired military personnel. Customers are encouraged to order online or visit in person to experience traditional Mexican cuisine that brings a taste of Mexico to the heart of Moore County. \n \n 
URL:https://thepinestimes.com/event/150636/2026-03-28/
LOCATION:Casa Santa Ana NC\, 168 Grant St.\, Seven Lakes\, NC\, 27376\, United States
CATEGORIES:Family,Food,Veterans
ATTACH;FMTTYPE=image/jpeg:https://thepinestimes.com/wp-content/uploads/CasaSantaAnaFeature-1.jpg
ORGANIZER;CN="Casa Santa Ana NC":MAILTO:casagarcia27376@hotmail.com
END:VEVENT
BEGIN:VEVENT
DTSTART;TZID=America/New_York:20260327T110000
DTEND;TZID=America/New_York:20260327T213000
DTSTAMP:20260424T114835
CREATED:20260327T161056Z
LAST-MODIFIED:20260407T092803Z
UID:10084439-1774609200-1774647000@thepinestimes.com
SUMMARY:Casa Santa Ana Mexican Cuisine: March Madness Game Plan
DESCRIPTION:March Madness + Mexican Flavor = The Perfect Game Plan! \nCasa Santa Ana Mexican Cuisine is the perfect place to celebrate March Madness with authentic Mexican flavors at their Pinehurst and Seven Lakes locations. Their special game day menu features a variety of favorites including Buffalo Wings\, Muncho Nachos\, Deluxe Nachos\, Carnitas Nachos\, and Pollo Asado Fries\, alongside signature dishes like Burritos Deluxe and Enchiladas Rancheras. \nAs a gesture of appreciation\, they offer a 10% discount every day of the week for first responders\, active military\, veterans\, and retired military personnel. Customers are encouraged to order online or visit in person to experience traditional Mexican cuisine that brings a taste of Mexico to the heart of Moore County. \n \n 
URL:https://thepinestimes.com/event/150636/2026-03-27/
LOCATION:Casa Santa Ana NC\, 168 Grant St.\, Seven Lakes\, NC\, 27376\, United States
CATEGORIES:Family,Food,Veterans
ATTACH;FMTTYPE=image/jpeg:https://thepinestimes.com/wp-content/uploads/CasaSantaAnaFeature-1.jpg
ORGANIZER;CN="Casa Santa Ana NC":MAILTO:casagarcia27376@hotmail.com
END:VEVENT
BEGIN:VEVENT
DTSTART;TZID=America/New_York:20250906T180000
DTEND;TZID=America/New_York:20250906T200000
DTSTAMP:20260424T114835
CREATED:20250901T123120Z
LAST-MODIFIED:20250901T123120Z
UID:10067155-1757181600-1757188800@thepinestimes.com
SUMMARY:Patio Opening and Mariachi Band
DESCRIPTION:Casa Santa Ana in Seven Lakes is unveiling its brand-new Pergola Patio on Saturday\, September 6th | 6pm-8pm. Gather your friends and family to enjoy authentic Mexican cuisine in the fresh air with plenty of great vibes. It’s the perfect spot for summer dining—be among the first to experience this exciting new chapter at Casa Santa Ana!
URL:https://thepinestimes.com/event/patio-opening-and-mariachi-band/
LOCATION:Casa Santa Ana NC\, 168 Grant St.\, Seven Lakes\, NC\, 27376\, United States
CATEGORIES:Family,Food,Grand Opening,Hobby/Enthusiast,Seven Lakes Events,Social,West End Events
ORGANIZER;CN="Casa Santa Ana NC":MAILTO:casagarcia27376@hotmail.com
END:VEVENT
END:VCALENDAR