BEGIN:VCALENDAR
VERSION:2.0
PRODID:-//The Pines Times - ECPv6.15.20//NONSGML v1.0//EN
CALSCALE:GREGORIAN
METHOD:PUBLISH
X-ORIGINAL-URL:https://thepinestimes.com
X-WR-CALDESC:Events for The Pines Times
REFRESH-INTERVAL;VALUE=DURATION:PT1H
X-Robots-Tag:noindex
X-PUBLISHED-TTL:PT1H
BEGIN:VTIMEZONE
TZID:America/New_York
BEGIN:DAYLIGHT
TZOFFSETFROM:-0500
TZOFFSETTO:-0400
TZNAME:EDT
DTSTART:20250309T070000
END:DAYLIGHT
BEGIN:STANDARD
TZOFFSETFROM:-0400
TZOFFSETTO:-0500
TZNAME:EST
DTSTART:20251102T060000
END:STANDARD
BEGIN:DAYLIGHT
TZOFFSETFROM:-0500
TZOFFSETTO:-0400
TZNAME:EDT
DTSTART:20260308T070000
END:DAYLIGHT
BEGIN:STANDARD
TZOFFSETFROM:-0400
TZOFFSETTO:-0500
TZNAME:EST
DTSTART:20261101T060000
END:STANDARD
BEGIN:DAYLIGHT
TZOFFSETFROM:-0500
TZOFFSETTO:-0400
TZNAME:EDT
DTSTART:20270314T070000
END:DAYLIGHT
BEGIN:STANDARD
TZOFFSETFROM:-0400
TZOFFSETTO:-0500
TZNAME:EST
DTSTART:20271107T060000
END:STANDARD
END:VTIMEZONE
BEGIN:VEVENT
DTSTART;TZID=America/New_York:20260424T190000
DTEND;TZID=America/New_York:20260424T210000
DTSTAMP:20260421T235040
CREATED:20260419T213612Z
LAST-MODIFIED:20260419T213612Z
UID:10086966-1777057200-1777064400@thepinestimes.com
SUMMARY:JV Jams Karaoke Night
DESCRIPTION:Come out and sing those blues away! Have some fun with JV Jams at C&J’s Taps & Corks in Sanford! Karaoke Night takes place on Friday\, April 24th at 7PM.
URL:https://thepinestimes.com/event/jv-jams-karaoke-night/
LOCATION:C&J’s Taps & Corks\, 2512 S Horner Blvd\, Sanford\, 27330\, United States
CATEGORIES:Adult Connections,Adults,Beer and Wine,Hobby/Enthusiast,Music,Sanford Events,Social
ATTACH;FMTTYPE=image/png:https://thepinestimes.com/wp-content/uploads/Karaoke-e1754409547503.png
ORGANIZER;CN="C&J's Taps & Corks":MAILTO:sales@tapsandcorks.com
END:VEVENT
END:VCALENDAR