BEGIN:VCALENDAR
VERSION:2.0
PRODID:-//The Pines Times - ECPv6.15.20//NONSGML v1.0//EN
CALSCALE:GREGORIAN
METHOD:PUBLISH
X-WR-CALNAME:The Pines Times
X-ORIGINAL-URL:https://thepinestimes.com
X-WR-CALDESC:Events for The Pines Times
REFRESH-INTERVAL;VALUE=DURATION:PT1H
X-Robots-Tag:noindex
X-PUBLISHED-TTL:PT1H
BEGIN:VTIMEZONE
TZID:America/New_York
BEGIN:DAYLIGHT
TZOFFSETFROM:-0500
TZOFFSETTO:-0400
TZNAME:EDT
DTSTART:20250309T070000
END:DAYLIGHT
BEGIN:STANDARD
TZOFFSETFROM:-0400
TZOFFSETTO:-0500
TZNAME:EST
DTSTART:20251102T060000
END:STANDARD
BEGIN:DAYLIGHT
TZOFFSETFROM:-0500
TZOFFSETTO:-0400
TZNAME:EDT
DTSTART:20260308T070000
END:DAYLIGHT
BEGIN:STANDARD
TZOFFSETFROM:-0400
TZOFFSETTO:-0500
TZNAME:EST
DTSTART:20261101T060000
END:STANDARD
BEGIN:DAYLIGHT
TZOFFSETFROM:-0500
TZOFFSETTO:-0400
TZNAME:EDT
DTSTART:20270314T070000
END:DAYLIGHT
BEGIN:STANDARD
TZOFFSETFROM:-0400
TZOFFSETTO:-0500
TZNAME:EST
DTSTART:20271107T060000
END:STANDARD
END:VTIMEZONE
BEGIN:VEVENT
DTSTART;TZID=America/New_York:20260314T090000
DTEND;TZID=America/New_York:20260314T180000
DTSTAMP:20260424T142224
CREATED:20260313T154101Z
LAST-MODIFIED:20260313T154101Z
UID:10083404-1773478800-1773511200@thepinestimes.com
SUMMARY:2-Year Anniversary Celebration at Costa Oil Aberdeen
DESCRIPTION:Costa Oil Aberdeen is hosting its 2-Year Anniversary Celebration this Saturday\, March 14th\, from 9:00AM-6:00PM. Every customer who stops by for an oil change during these hours will receive a special gift bag as a token of appreciation for supporting a local\, family-operated shop! \n \n 
URL:https://thepinestimes.com/event/2-year-anniversary-celebration-at-costa-oil-aberdeen/
LOCATION:Costa Oil Aberdeen\, 411 Dogwood Drive\, Aberdeen\, 28315\, United States
CATEGORIES:Aberdeen Events,Anniversary Celebration,Birthday Celebration,Social
ORGANIZER;CN="Costa Oil - 10 Minute Oil Change - Aberdeen%2C NC":MAILTO:costaoilsaberdeen@costaoils.com
END:VEVENT
END:VCALENDAR