BEGIN:VCALENDAR
VERSION:2.0
PRODID:-//The Pines Times - ECPv6.15.20//NONSGML v1.0//EN
CALSCALE:GREGORIAN
METHOD:PUBLISH
X-WR-CALNAME:The Pines Times
X-ORIGINAL-URL:https://thepinestimes.com
X-WR-CALDESC:Events for The Pines Times
REFRESH-INTERVAL;VALUE=DURATION:PT1H
X-Robots-Tag:noindex
X-PUBLISHED-TTL:PT1H
BEGIN:VTIMEZONE
TZID:America/New_York
BEGIN:DAYLIGHT
TZOFFSETFROM:-0500
TZOFFSETTO:-0400
TZNAME:EDT
DTSTART:20250309T070000
END:DAYLIGHT
BEGIN:STANDARD
TZOFFSETFROM:-0400
TZOFFSETTO:-0500
TZNAME:EST
DTSTART:20251102T060000
END:STANDARD
BEGIN:DAYLIGHT
TZOFFSETFROM:-0500
TZOFFSETTO:-0400
TZNAME:EDT
DTSTART:20260308T070000
END:DAYLIGHT
BEGIN:STANDARD
TZOFFSETFROM:-0400
TZOFFSETTO:-0500
TZNAME:EST
DTSTART:20261101T060000
END:STANDARD
BEGIN:DAYLIGHT
TZOFFSETFROM:-0500
TZOFFSETTO:-0400
TZNAME:EDT
DTSTART:20270314T070000
END:DAYLIGHT
BEGIN:STANDARD
TZOFFSETFROM:-0400
TZOFFSETTO:-0500
TZNAME:EST
DTSTART:20271107T060000
END:STANDARD
END:VTIMEZONE
BEGIN:VEVENT
DTSTART;TZID=America/New_York:20260425T100000
DTEND;TZID=America/New_York:20260425T170000
DTSTAMP:20260420T194403
CREATED:20260419T221336Z
LAST-MODIFIED:20260419T221654Z
UID:10086972-1777111200-1777136400@thepinestimes.com
SUMMARY:Henry Stinson Memorial Ride and Spring Cleaning Tent Event
DESCRIPTION:Cox’s Double Eagle Harley-Davidson is hosting the Henry Stinson Memorial Ride on Saturday\, April 25th\, to celebrate the life of a dear friend and motorcycle enthusiast. Registration and check-in begin at 10:00AM\, with kickstands up at 11:00AM. The registration fee is $20 per bike\, and all proceeds from the ride will be donated in Henry’s honor to the Mt. Vernon 143 Masonic Lodge. \nRiders and supporters are encouraged to stay after the memorial ride to enjoy the Spring Cleaning Tent Event held at the dealership on the same day. The Spring Cleaning Tent Event is happening at Cox’s is bringing out end-of-season MotorClothes\, dealer gear\, and select parts & accessories… all under the tent. The earlier you show up\, the better the finds. Burgers and brews starting at noon\, while supplies last. Come ride. Stay to shop. \nThe event takes place at the dealership located at 7540 NC Highway 15-501 South in West End. For more information\, you can visit doubleeagleharley.com or call 910-420-1564.
URL:https://thepinestimes.com/event/henry-stinson-memorial-ride-and-spring-cleaning-tent-event/
LOCATION:Cox’s Double Eagle Harley-Davidson\, 7540 NC Hwy 15/501 South\, Pinehurst\, NC\, 28374\, United States
CATEGORIES:Adults,Benefit,Hobby/Enthusiast,Pinehurst Events,Shopping,Social,West End Events
ATTACH;FMTTYPE=image/jpeg:https://thepinestimes.com/wp-content/uploads/Coxs-Double-Eagle-Harley-Feature.jpg
END:VEVENT
BEGIN:VEVENT
DTSTART;TZID=America/New_York:20260426T120000
DTEND;TZID=America/New_York:20260426T160000
DTSTAMP:20260420T194403
CREATED:20260419T223421Z
LAST-MODIFIED:20260419T224610Z
UID:10086973-1777204800-1777219200@thepinestimes.com
SUMMARY:Corvettes of Sandhills Cruise-In
DESCRIPTION:Join Cox’s Double Eagle Harley-Davidson in Pinehurst for the Corvettes of Sandhills Cruise-In on Sunday\, April 26th from 12PM-4PM! Hosted in partnership with Corvettes of Sandhills\, this Car & Bike Cruise-In welcomes all makes and models\, including Corvettes\, classic cars\, muscle cars\, custom builds\, trucks\, Jeeps\, motorcycles\, and Harley-Davidson riders from across the Sandhills region. Fellow local enthusiast groups are invited including Sandhills Classic Cars and other surrounding car and motorcycle clubs to help fill the lot with incredible rides and strong community energy! \nEnjoy a full Sunday afternoon experience featuring: \nKing Hotdog Food Truck\nJames Creek Ciderhouse\nLive DJ\nDealership atmosphere and open lot cruise-in parking\nGreat photo opportunities\nCommunity meet-up for local riders and car enthusiasts \nWhether you’re showing off your ride or coming out to enjoy the lineup\, this is one of the best ways to spend a Sunday afternoon in Pinehurst\, Southern Pines\, Aberdeen\, and the surrounding Sandhills area. All cars and bikes welcome. Spectators encouraged. \n \n 
URL:https://thepinestimes.com/event/corvettes-of-sandhills-cruise-in/
LOCATION:Cox’s Double Eagle Harley-Davidson\, 7540 NC Hwy 15/501 South\, Pinehurst\, NC\, 28374\, United States
CATEGORIES:Adults,Car Show/Motorcycle Show/Cruise In,Family,Hobby/Enthusiast,Music,Pinehurst Events,Social,Vendors,West End Events
ATTACH;FMTTYPE=image/jpeg:https://thepinestimes.com/wp-content/uploads/CruiseInFeature-6.jpg
ORGANIZER;CN="Corvettes of Sandhills":MAILTO:Info@corvettsofsandhills.com
END:VEVENT
END:VCALENDAR