BEGIN:VCALENDAR
VERSION:2.0
PRODID:-//The Pines Times - ECPv6.15.20//NONSGML v1.0//EN
CALSCALE:GREGORIAN
METHOD:PUBLISH
X-WR-CALNAME:The Pines Times
X-ORIGINAL-URL:https://thepinestimes.com
X-WR-CALDESC:Events for The Pines Times
REFRESH-INTERVAL;VALUE=DURATION:PT1H
X-Robots-Tag:noindex
X-PUBLISHED-TTL:PT1H
BEGIN:VTIMEZONE
TZID:America/New_York
BEGIN:DAYLIGHT
TZOFFSETFROM:-0500
TZOFFSETTO:-0400
TZNAME:EDT
DTSTART:20240310T070000
END:DAYLIGHT
BEGIN:STANDARD
TZOFFSETFROM:-0400
TZOFFSETTO:-0500
TZNAME:EST
DTSTART:20241103T060000
END:STANDARD
BEGIN:DAYLIGHT
TZOFFSETFROM:-0500
TZOFFSETTO:-0400
TZNAME:EDT
DTSTART:20250309T070000
END:DAYLIGHT
BEGIN:STANDARD
TZOFFSETFROM:-0400
TZOFFSETTO:-0500
TZNAME:EST
DTSTART:20251102T060000
END:STANDARD
BEGIN:DAYLIGHT
TZOFFSETFROM:-0500
TZOFFSETTO:-0400
TZNAME:EDT
DTSTART:20260308T070000
END:DAYLIGHT
BEGIN:STANDARD
TZOFFSETFROM:-0400
TZOFFSETTO:-0500
TZNAME:EST
DTSTART:20261101T060000
END:STANDARD
END:VTIMEZONE
BEGIN:VEVENT
DTSTART;TZID=America/New_York:20250809T120000
DTEND;TZID=America/New_York:20250809T150000
DTSTAMP:20260425T105347
CREATED:20240116T153233Z
LAST-MODIFIED:20250805T111027Z
UID:10027646-1754740800-1754751600@thepinestimes.com
SUMMARY:Back to School Bash "Stuff the Bus" for The CARE Group\, Inc
DESCRIPTION:Help local students gear up for success! From July 1st-August 9th\, the Cox’s Double Eagle Harley-Davidson in West End is collecting essential school supplies to benefit kids in the community! The supply drive wraps up with a family-friendly celebration on Saturday\, August 9th\, featuring a bounce house\, cotton candy\, music\, games and school-themed surprises\, plus one last chance to donate. Stop by with your donations\, enjoy some treats and learn more about the C.A.R.E. Group’s mission to support local families. \nRequested items include backpacks\, notebooks\, folders\, pencils\, crayons\, markers\, glue sticks\, scissors\, tissues\, hand sanitizer\, and more. Donations can be dropped off anytime at the front desk or during the event. \nFor questions\, contact Cox’s Double Eagle Harley-Davidson or The CARE Group\, Inc. All donations will benefit Moore County students in need.
URL:https://thepinestimes.com/event/hog-appreciation-day-2/
LOCATION:Cox’s Double Eagle Harley-Davidson\, 7540 NC Hwy 15/501 South\, Pinehurst\, NC\, 28374\, United States
CATEGORIES:Adults,Children,Dance,Donation,Family,Food,Hobby/Enthusiast,Pinehurst Events,Social,Volunteer,West End Events
ATTACH;FMTTYPE=image/jpeg:https://thepinestimes.com/wp-content/uploads/Coxs-Double-Eagle-Harley-Feature.jpg
END:VEVENT
BEGIN:VEVENT
DTSTART;TZID=America/New_York:20250426T100000
DTEND;TZID=America/New_York:20250426T150000
DTSTAMP:20260425T105347
CREATED:20250421T174220Z
LAST-MODIFIED:20250421T174220Z
UID:10056813-1745661600-1745679600@thepinestimes.com
SUMMARY:Blessing of the Bikes Ride
DESCRIPTION:Join Cox’s Double Eagle Harley-Davidson on Saturday\, April 26th for the Blessing of the Bikes Ride! Enjoy a day of faith\, fellowship and the open road. Preacher Wyatt Tillman of Rainbow Baptist Church in Aberdeen will lead the Bike Blessing at 11:00am\, offering prayers for safe travels and protection for all riders. All riders are welcome! Come for the blessing\, stay for the ride and enjoy good food and community at the dealership afterward. \nSchedule of Events:\nRegistration: 10:00am\nBike Blessing: 11:00am\nKickstands Up: 11:45am\nLunch & Fellowship: 1:00pm-3:00pm \n 
URL:https://thepinestimes.com/event/blessing-of-the-bikes-ride/
LOCATION:Cox’s Double Eagle Harley-Davidson\, 7540 NC Hwy 15/501 South\, Pinehurst\, NC\, 28374\, United States
CATEGORIES:Adults,Food,Hobby/Enthusiast,Live Entertainment,Nature/Outdoors,Religious/Spiritual,Senior,Social,West End Events
ATTACH;FMTTYPE=image/jpeg:https://thepinestimes.com/wp-content/uploads/Coxs-Double-Eagle-Harley-Feature.jpg
END:VEVENT
BEGIN:VEVENT
DTSTART;TZID=America/New_York:20250419T120000
DTEND;TZID=America/New_York:20250419T150000
DTSTAMP:20260425T105347
CREATED:20250403T151345Z
LAST-MODIFIED:20250403T151345Z
UID:10055978-1745064000-1745074800@thepinestimes.com
SUMMARY:Easter Egg Hunt
DESCRIPTION:Cox’s Double Eagle Harley-Davidson is hosting a fun-filled Easter Egg Hunt event for the whole family on Saturday\, April 19th | 12pm-3pm! Kids can join the excitement at 1:00pm\, searching for candy-filled eggs\, while also enjoying creative crafts like coloring pages\, bunny nose masks and handprint chicks. Free snacks and beverages will be available to keep the energy up\, and the first 25 adults to register will receive a special Easter egg filled with prizes\, discounts and surprises.
URL:https://thepinestimes.com/event/easter-egg-hunt-3/
LOCATION:Cox’s Double Eagle Harley-Davidson\, 7540 NC Hwy 15/501 South\, Pinehurst\, NC\, 28374\, United States
CATEGORIES:Adults,Children,Easter,Family,Food,Games,Holiday Events,Live Entertainment,Pinehurst Events,Shopping,Social,West End Events
ATTACH;FMTTYPE=image/jpeg:https://thepinestimes.com/wp-content/uploads/Coxs-Double-Eagle-Harley-Feature.jpg
END:VEVENT
END:VCALENDAR