BEGIN:VCALENDAR
VERSION:2.0
PRODID:-//The Pines Times - ECPv6.15.20//NONSGML v1.0//EN
CALSCALE:GREGORIAN
METHOD:PUBLISH
X-WR-CALNAME:The Pines Times
X-ORIGINAL-URL:https://thepinestimes.com
X-WR-CALDESC:Events for The Pines Times
REFRESH-INTERVAL;VALUE=DURATION:PT1H
X-Robots-Tag:noindex
X-PUBLISHED-TTL:PT1H
BEGIN:VTIMEZONE
TZID:America/New_York
BEGIN:DAYLIGHT
TZOFFSETFROM:-0500
TZOFFSETTO:-0400
TZNAME:EDT
DTSTART:20250309T070000
END:DAYLIGHT
BEGIN:STANDARD
TZOFFSETFROM:-0400
TZOFFSETTO:-0500
TZNAME:EST
DTSTART:20251102T060000
END:STANDARD
BEGIN:DAYLIGHT
TZOFFSETFROM:-0500
TZOFFSETTO:-0400
TZNAME:EDT
DTSTART:20260308T070000
END:DAYLIGHT
BEGIN:STANDARD
TZOFFSETFROM:-0400
TZOFFSETTO:-0500
TZNAME:EST
DTSTART:20261101T060000
END:STANDARD
BEGIN:DAYLIGHT
TZOFFSETFROM:-0500
TZOFFSETTO:-0400
TZNAME:EDT
DTSTART:20270314T070000
END:DAYLIGHT
BEGIN:STANDARD
TZOFFSETFROM:-0400
TZOFFSETTO:-0500
TZNAME:EST
DTSTART:20271107T060000
END:STANDARD
END:VTIMEZONE
BEGIN:VEVENT
DTSTART;TZID=America/New_York:20260328T100000
DTEND;TZID=America/New_York:20260328T160000
DTSTAMP:20260420T181425
CREATED:20260324T175413Z
LAST-MODIFIED:20260326T201145Z
UID:10084179-1774692000-1774713600@thepinestimes.com
SUMMARY:Spring Fling Design Market
DESCRIPTION:The Design Market in Aberdeen is holding a Spring Fling on Saturday\, March 28th\, from 10:00AM-4:00PM. Held at 3086 Highway 5\, the event will feature a curated selection of furniture\, home decor\, art\, and antiques for those looking to find something special for their space. \nThe annual Spring Fling is an elegant celebration of local artisans and designers\, with delightful sip-and-snack offerings and family-friendly charm. Stroll among inspired displays of home and garden decor\, discover rare vintage accessories and antique furniture\, and preview our stunning new spring and summer arrivals for outdoor furniture\, seasonal & holiday decorating\, and clothing. Enjoy curated vendor demonstrations\, exclusive event-only finds\, and deep discounts available only once a year. Bring friends and loved ones for a beautiful day of style\, inspiration\, and community. \nSupport local vendors and discover unique pieces to refresh your home for the spring season.
URL:https://thepinestimes.com/event/spring-fling-design-market/
LOCATION:Design Market of the Pines\, 3086 NC Hwy 5\, Aberdeen\, NC\, 28315\, United States
CATEGORIES:Aberdeen Events,Adults,Beer and Wine,Food,Hobby/Enthusiast,Markets,Pop Ups,Shopping,Social
ORGANIZER;CN="Design Market of the Pines":MAILTO:Designmarket3086@gmail.com
END:VEVENT
END:VCALENDAR