BEGIN:VCALENDAR
VERSION:2.0
PRODID:-//The Pines Times - ECPv6.15.20//NONSGML v1.0//EN
CALSCALE:GREGORIAN
METHOD:PUBLISH
X-ORIGINAL-URL:https://thepinestimes.com
X-WR-CALDESC:Events for The Pines Times
REFRESH-INTERVAL;VALUE=DURATION:PT1H
X-Robots-Tag:noindex
X-PUBLISHED-TTL:PT1H
BEGIN:VTIMEZONE
TZID:America/New_York
BEGIN:DAYLIGHT
TZOFFSETFROM:-0500
TZOFFSETTO:-0400
TZNAME:EDT
DTSTART:20240310T070000
END:DAYLIGHT
BEGIN:STANDARD
TZOFFSETFROM:-0400
TZOFFSETTO:-0500
TZNAME:EST
DTSTART:20241103T060000
END:STANDARD
BEGIN:DAYLIGHT
TZOFFSETFROM:-0500
TZOFFSETTO:-0400
TZNAME:EDT
DTSTART:20250309T070000
END:DAYLIGHT
BEGIN:STANDARD
TZOFFSETFROM:-0400
TZOFFSETTO:-0500
TZNAME:EST
DTSTART:20251102T060000
END:STANDARD
BEGIN:DAYLIGHT
TZOFFSETFROM:-0500
TZOFFSETTO:-0400
TZNAME:EDT
DTSTART:20260308T070000
END:DAYLIGHT
BEGIN:STANDARD
TZOFFSETFROM:-0400
TZOFFSETTO:-0500
TZNAME:EST
DTSTART:20261101T060000
END:STANDARD
BEGIN:DAYLIGHT
TZOFFSETFROM:-0500
TZOFFSETTO:-0400
TZNAME:EDT
DTSTART:20270314T070000
END:DAYLIGHT
BEGIN:STANDARD
TZOFFSETFROM:-0400
TZOFFSETTO:-0500
TZNAME:EST
DTSTART:20271107T060000
END:STANDARD
END:VTIMEZONE
BEGIN:VEVENT
DTSTART;TZID=America/New_York:20260422T180000
DTEND;TZID=America/New_York:20260422T200000
DTSTAMP:20260423T180705
CREATED:20260407T152405Z
LAST-MODIFIED:20260407T152405Z
UID:10086507-1776880800-1776888000@thepinestimes.com
SUMMARY:Ladies Night at the Dub Social Mixer
DESCRIPTION:Join Women Who Golf powered by GolfGrinders for a Ladies Night at the Dub social mixer on Wednesday\, April 22nd\, from 6PM-8PM at Double Eagle Indoor Golf and Lounge. This information session with the GolfGrinders local community group includes beverages\, appetizers\, and time to play a course or games on the simulators. RSVP using the QR code provided on the flyer so the hosts can ensure there are enough munchies on hand for everyone.
URL:https://thepinestimes.com/event/ladies-night-at-the-dub-social-mixer/
LOCATION:Double Eagle Indoor Golf & Lounge\, 208 Brucewood Road\, Southern Pines\, 28387\, United States
CATEGORIES:Adults,Classes/Workshops,Food,Golf,Senior,Social,Sports,Women,Young Adults
ATTACH;FMTTYPE=image/jpeg:https://thepinestimes.com/wp-content/uploads/DoubleEagleLadiesNightFeature.jpg
ORGANIZER;CN="Double Eagle Indoor Golf and Lounge":MAILTO:golfpros@doubleeaglenc.com
END:VEVENT
BEGIN:VEVENT
DTSTART;TZID=America/New_York:20260412T160000
DTEND;TZID=America/New_York:20260412T180000
DTSTAMP:20260423T180705
CREATED:20241025T191638Z
LAST-MODIFIED:20260407T154405Z
UID:10047168-1776009600-1776016800@thepinestimes.com
SUMMARY:Women's Golf 101 Clinic
DESCRIPTION:Double Eagle Indoor Golf & Lounge is holding a Women’s Golf 101 Clinic this Sunday\, April 12th\, from 4PM-6PM. \nIf you’ve just picked up a club for the first time and want to get out on the links this season\, OR\, if you’ve been playing for a while and want to meet other like-minded women\, this clinic is for you. Join Double Eagle’s Pro\, Coach Laura and Owner\, Emily\, as we offer a 2-hour clinic where you will spend time learning etiquette\, how to use equipment\, and practicing your swings in our virtual bays. \nThe $25 clinic includes: Basic discussion of rules and game play. Group Class coaching on full swings and putting. Personal assessment from our Staff Instructor. A signature cocktail or beverage of your choice \nTo reserve your space\, follow the event website link provided below.
URL:https://thepinestimes.com/event/womens-golf-101-clinic/
LOCATION:Double Eagle Indoor Golf & Lounge\, 208 Brucewood Road\, Southern Pines\, 28387\, United States
CATEGORIES:Adults,Art/Craft Workshops,Educational,Games,Golf,Hobby/Enthusiast,Senior,Social,Southern Pines Events,Sports,Women
ATTACH;FMTTYPE=image/jpeg:https://thepinestimes.com/wp-content/uploads/DoubleEagleGolfFeature.jpg
ORGANIZER;CN="Double Eagle Indoor Golf and Lounge":MAILTO:golfpros@doubleeaglenc.com
END:VEVENT
BEGIN:VEVENT
DTSTART;TZID=America/New_York:20250726T140000
DTEND;TZID=America/New_York:20250726T200000
DTSTAMP:20260423T180705
CREATED:20250714T193616Z
LAST-MODIFIED:20250714T193616Z
UID:10063338-1753538400-1753560000@thepinestimes.com
SUMMARY:Fore the Station Scramble Tournament Benefit
DESCRIPTION:Tee up for a good cause at the Fore the Station indoor virtual golf fundraiser\, benefiting The Station Foundation\, an organization supporting Special Operations warriors and their families. This unique 9-hole scramble tournament features food\, door prizes and global course options including St. Andrews\, Moonlight Basin\, Chapultepec and Hualalai. Choose from four tee times: 2pm\, 4pm\, 6pm or 8pm. Register a team of four for $400\, or sign up solo for $100 and we’ll place you on a team. Not golfing? Enjoy the reception\, drinks\, hors d’oeuvres and awards for just $15. All proceeds go directly to The Station Foundation. To sponsor or learn more\, contact Kristy at kwillis@thestationfoundation.org. To register\, follow the event website link provided below.
URL:https://thepinestimes.com/event/fore-the-station-scramble-tournament-benefit/
LOCATION:Double Eagle Indoor Golf & Lounge\, 208 Brucewood Road\, Southern Pines\, 28387\, United States
CATEGORIES:Adults,Fundraiser,Games,Golf,Hobby/Enthusiast,Social,Southern Pines Events,Sports
ATTACH;FMTTYPE=image/jpeg:https://thepinestimes.com/wp-content/uploads/DoubleEagleGolfFeature.jpg
ORGANIZER;CN="Double Eagle Indoor Golf and Lounge":MAILTO:golfpros@doubleeaglenc.com
END:VEVENT
END:VCALENDAR