BEGIN:VCALENDAR
VERSION:2.0
PRODID:-//The Pines Times - ECPv6.15.20//NONSGML v1.0//EN
CALSCALE:GREGORIAN
METHOD:PUBLISH
X-ORIGINAL-URL:https://thepinestimes.com
X-WR-CALDESC:Events for The Pines Times
REFRESH-INTERVAL;VALUE=DURATION:PT1H
X-Robots-Tag:noindex
X-PUBLISHED-TTL:PT1H
BEGIN:VTIMEZONE
TZID:America/New_York
BEGIN:DAYLIGHT
TZOFFSETFROM:-0500
TZOFFSETTO:-0400
TZNAME:EDT
DTSTART:20250309T070000
END:DAYLIGHT
BEGIN:STANDARD
TZOFFSETFROM:-0400
TZOFFSETTO:-0500
TZNAME:EST
DTSTART:20251102T060000
END:STANDARD
BEGIN:DAYLIGHT
TZOFFSETFROM:-0500
TZOFFSETTO:-0400
TZNAME:EDT
DTSTART:20260308T070000
END:DAYLIGHT
BEGIN:STANDARD
TZOFFSETFROM:-0400
TZOFFSETTO:-0500
TZNAME:EST
DTSTART:20261101T060000
END:STANDARD
BEGIN:DAYLIGHT
TZOFFSETFROM:-0500
TZOFFSETTO:-0400
TZNAME:EDT
DTSTART:20270314T070000
END:DAYLIGHT
BEGIN:STANDARD
TZOFFSETFROM:-0400
TZOFFSETTO:-0500
TZNAME:EST
DTSTART:20271107T060000
END:STANDARD
END:VTIMEZONE
BEGIN:VEVENT
DTSTART;TZID=America/New_York:20260424T180000
DTEND;TZID=America/New_York:20260424T203000
DTSTAMP:20260425T063927
CREATED:20260319T230027Z
LAST-MODIFIED:20260329T141658Z
UID:10083567-1777053600-1777062600@thepinestimes.com
SUMMARY:ACWR: A Journey In Time-An Enchanting Evening on the Rails
DESCRIPTION:Step back in time and immerse yourself in a memorable classic train social experience as you embark on a journey through the sandhills aboard our passenger coaches. Indulge in cocktails and a savory meal while mingling with fellow travelers and enjoying an enchanting evening on the rails. Bring your own group or join others at a shared table for an opportunity to connect with new people. Duration-2.5 hours \nThe cost is $150. What’s included:\n*Enjoy a 2.5-hour train ride through the Sandhills\n*Savor a delicious three-course meal\n*Additional alcoholic and non-alcoholic beverages available for purchase\n*Boarding begins 30 minutes prior to departure\n*Resort Casual\n*Cash tips are appreciated but never expected\n*We recommend bringing a light sweater or jacket. \nItinerary\nBegin your evening with amuse-bouche and cocktails in our panoramic full-length dome railcar as you await to be escorted to your table for dinner. \nFor full details and to secure your tickets\, CLICK HERE.
URL:https://thepinestimes.com/event/acwr-a-journey-in-time-an-enchanting-evening-on-the-rails/2026-04-24/
LOCATION:Downtown Aberdeen Greenspace\, 140 S Sycamore St.\, Aberdeen\, 28315\, United States
CATEGORIES:Aberdeen Events,ACW Railway,Adult Connections,Adults,Historical,Hobby/Enthusiast,Holiday Events,Men,Moore County Events,Tours,Women
ATTACH;FMTTYPE=image/jpeg:https://thepinestimes.com/wp-content/uploads/ACWR-F-Unit.jpg
END:VEVENT
BEGIN:VEVENT
DTSTART;TZID=America/New_York:20260319T080000
DTEND;TZID=America/New_York:20260319T170000
DTSTAMP:20260425T063927
CREATED:20260319T234738Z
LAST-MODIFIED:20260319T234738Z
UID:10083580-1773907200-1773939600@thepinestimes.com
SUMMARY:ACWR: Christmas in July on the train
DESCRIPTION:Activity details\n\n\n\n\n\n\n\n\nJoin us for a train ride and activities with Santa & Friends\, food\, story and games! \n\n\n\nWhat’s included\n\n\nTrain Ride \n\n\nChristmas Treat \n\n\nSanta Visits \n\n\nReindeer Games
URL:https://thepinestimes.com/event/acwr-christmas-in-july-on-the-train/
LOCATION:Downtown Aberdeen Greenspace\, 140 S Sycamore St.\, Aberdeen\, 28315\, United States
CATEGORIES:ACW Railway
ATTACH;FMTTYPE=image/jpeg:https://thepinestimes.com/wp-content/uploads/ACWR-F-Unit-1.jpg
END:VEVENT
BEGIN:VEVENT
DTSTART;TZID=America/New_York:20260221T080000
DTEND;TZID=America/New_York:20260221T153000
DTSTAMP:20260425T063927
CREATED:20250625T133401Z
LAST-MODIFIED:20260319T223715Z
UID:10062034-1771660800-1771687800@thepinestimes.com
SUMMARY:Stacks & Tracks Railroad Adventure
DESCRIPTION:All aboard for a sweet adventure with Aberdeen Carolina & Western Railway Company! Kids and parents can enjoy a tasty stack of three fluffy pancakes while rolling down the rails\, soaking in scenic views and creating memories that will last a lifetime. The train departs on Saturday\, February 21st from with departures from 8:00am-3:30pm. Check in is at the Downtown Aberdeen Greenspace. \nWhat’s included: A 45-minute train ride\, 3 stack of pancakes\, juice\, coffee \nGeneral admission tickets are $30. Lap infants are free. For full details and online ticket purchases\, follow the event website link provided below.
URL:https://thepinestimes.com/event/stacks-tracks-railroad-adventure/
LOCATION:Downtown Aberdeen Greenspace\, 140 S Sycamore St.\, Aberdeen\, 28315\, United States
CATEGORIES:Aberdeen Events,ACW Railway,Adults,Children,Family,Food,Piney's Kids,Piney's Tiny's,Senior,Teen Activities,Tours,Young Adults
ATTACH;FMTTYPE=image/jpeg:https://thepinestimes.com/wp-content/uploads/AberdeenCarolinaWesternRailwayFeature.jpg
END:VEVENT
END:VCALENDAR