BEGIN:VCALENDAR
VERSION:2.0
PRODID:-//The Pines Times - ECPv6.15.20//NONSGML v1.0//EN
CALSCALE:GREGORIAN
METHOD:PUBLISH
X-ORIGINAL-URL:https://thepinestimes.com
X-WR-CALDESC:Events for The Pines Times
REFRESH-INTERVAL;VALUE=DURATION:PT1H
X-Robots-Tag:noindex
X-PUBLISHED-TTL:PT1H
BEGIN:VTIMEZONE
TZID:America/New_York
BEGIN:DAYLIGHT
TZOFFSETFROM:-0500
TZOFFSETTO:-0400
TZNAME:EDT
DTSTART:20240310T070000
END:DAYLIGHT
BEGIN:STANDARD
TZOFFSETFROM:-0400
TZOFFSETTO:-0500
TZNAME:EST
DTSTART:20241103T060000
END:STANDARD
BEGIN:DAYLIGHT
TZOFFSETFROM:-0500
TZOFFSETTO:-0400
TZNAME:EDT
DTSTART:20250309T070000
END:DAYLIGHT
BEGIN:STANDARD
TZOFFSETFROM:-0400
TZOFFSETTO:-0500
TZNAME:EST
DTSTART:20251102T060000
END:STANDARD
BEGIN:DAYLIGHT
TZOFFSETFROM:-0500
TZOFFSETTO:-0400
TZNAME:EDT
DTSTART:20260308T070000
END:DAYLIGHT
BEGIN:STANDARD
TZOFFSETFROM:-0400
TZOFFSETTO:-0500
TZNAME:EST
DTSTART:20261101T060000
END:STANDARD
BEGIN:DAYLIGHT
TZOFFSETFROM:-0500
TZOFFSETTO:-0400
TZNAME:EDT
DTSTART:20270314T070000
END:DAYLIGHT
BEGIN:STANDARD
TZOFFSETFROM:-0400
TZOFFSETTO:-0500
TZNAME:EST
DTSTART:20271107T060000
END:STANDARD
END:VTIMEZONE
BEGIN:VEVENT
DTSTART;TZID=America/New_York:20260418T130000
DTEND;TZID=America/New_York:20260418T190000
DTSTAMP:20260425T115512
CREATED:20250124T162037Z
LAST-MODIFIED:20260403T120622Z
UID:10052967-1776517200-1776538800@thepinestimes.com
SUMMARY:Cameron 150 Fest 2026
DESCRIPTION:Join as Cameron Historic Preservation\, Inc. presents the 2026 Cameron 150 Fest! The festival takes place on Saturday\, April 18th\, from 1PM-7PM in historic downtown Cameron. Grab a lawn chair\, bring a friend and join for a special edition of the annual spring fundraiser. Enjoy a day of family fun\, good food\, and music featuring Chris Monhollen LIVE\, so remember to bring a lawn chair to enjoy the festivities. There is free admission and free parking for all guests\, and those interested in vendor spaces and sponsorship opportunities can contact cameronhistoricpreservation@gmail.com.
URL:https://thepinestimes.com/event/cameron-historic-preservation-inc-presents-cameron-150-fest-2026/
LOCATION:Downtown Cameron\, Carthage Street\, Cameron\, NC\, 28326\, United States
CATEGORIES:Adults,Arts,Cameron Events,Concert,Fair/Festival,Family,Food,Fundraiser,Hobby/Enthusiast,Live Entertainment,Live Music,Music,Nature/Outdoors,Senior,Shopping,Social,Vendors,Young Adults
ATTACH;FMTTYPE=image/jpeg:https://thepinestimes.com/wp-content/uploads/Cameron150FestFeature.jpg
ORGANIZER;CN="Cameron Historic Preservation%2C Inc.":MAILTO:cameronhistoricpreservation@gmail.com
END:VEVENT
BEGIN:VEVENT
DTSTART;TZID=America/New_York:20260328T100000
DTEND;TZID=America/New_York:20260328T113000
DTSTAMP:20260425T115512
CREATED:20250410T183454Z
LAST-MODIFIED:20260122T183912Z
UID:10056419-1774692000-1774697400@thepinestimes.com
SUMMARY:Town of Cameron: Easter Egg Hunt 2026 (Ages 2-9)
DESCRIPTION:Bring your basket and join the Town of Cameron for a community Easter Egg Hunt on Saturday\, March 28th\, starting at 10:00 at Phillips Memorial Park! The fun is designed for children ages 2-9. In addition to the hunt\, families can enjoy a visit from the Easter Bunny and other seasonal activities!
URL:https://thepinestimes.com/event/town-of-cameron-easter-egg-hunt-2026/
LOCATION:Downtown Cameron\, Carthage Street\, Cameron\, NC\, 28326\, United States
CATEGORIES:Adults,Cameron Events,Children,Easter,Family,Games,Holiday Events,Piney's Kids,Piney's Tiny's,Social
ATTACH;FMTTYPE=image/jpeg:https://thepinestimes.com/wp-content/uploads/TownOfCameronFeature-1.jpg
END:VEVENT
BEGIN:VEVENT
DTSTART;TZID=America/New_York:20251206T100000
DTEND;TZID=America/New_York:20251206T100000
DTSTAMP:20260425T115512
CREATED:20231110T024502Z
LAST-MODIFIED:20251029T225310Z
UID:10022335-1765015200-1765015200@thepinestimes.com
SUMMARY:Town of Cameron: Christmas Parade 2025
DESCRIPTION:Join as the Town of Cameron holds their Christmas Parade on Saturday\, December 6th beginning at 10:00am!
URL:https://thepinestimes.com/event/town-of-cameron-christmas-parade/
LOCATION:Downtown Cameron\, Carthage Street\, Cameron\, NC\, 28326\, United States
CATEGORIES:Adults,Cameron Events,Children,Christmas,Family,Live Entertainment,Nature/Outdoors,Parade,Senior,Social
ATTACH;FMTTYPE=image/jpeg:https://thepinestimes.com/wp-content/uploads/TownOfCameronFeature-1.jpg
END:VEVENT
BEGIN:VEVENT
DTSTART;TZID=America/New_York:20251129T170000
DTEND;TZID=America/New_York:20251129T170000
DTSTAMP:20260425T115512
CREATED:20231107T175209Z
LAST-MODIFIED:20251028T131758Z
UID:10022273-1764435600-1764435600@thepinestimes.com
SUMMARY:Town of Cameron: Christmas Tree Lighting 2025
DESCRIPTION:The Town of Cameron will hold their annual Christmas Tree Lighting on Saturday\, November 29th! Festivities begin at 5pm with the Christmas Story and caroling. Come enjoy the lighting of the big magnolia tree\, along with Christmas refreshments provided by community churches\, live music\, a live Nativity scene\, children’s story time\, and a special opportunity to meet Santa himself! For any questions\, please call Sylvia at 910-638-8068. Enjoy an evening with fun\, fellowship\, cookies\, hot chocolate\, Santa and more.
URL:https://thepinestimes.com/event/town-of-cameron-christmas-tree-lighting-2025/
LOCATION:Downtown Cameron\, Carthage Street\, Cameron\, NC\, 28326\, United States
CATEGORIES:Adults,Cameron Events,Children,Christmas,Family,Food,Holiday Events,Live Entertainment,Nature/Outdoors,Santa,Senior,Social
ATTACH;FMTTYPE=image/jpeg:https://thepinestimes.com/wp-content/uploads/TownOfCameronFeature-1.jpg
END:VEVENT
BEGIN:VEVENT
DTSTART;TZID=America/New_York:20251121T100000
DTEND;TZID=America/New_York:20251121T170000
DTSTAMP:20260425T115512
CREATED:20251106T174747Z
LAST-MODIFIED:20251226T164546Z
UID:10074937-1763719200-1763744400@thepinestimes.com
SUMMARY:Cameron Christmas Trail 2025
DESCRIPTION:The Town of Cameron invites you to experience the magic of a small-town Christmas open house at the Cameron Christmas Trail on Friday\, November 21st and Saturday\, November 22nd. Join The Shops of Cameron for a heart-warming event full of charm\, unique finds\, and holiday cheer. This is a great chance to get a jump on your holiday shopping while supporting local businesses. You can expect exclusive discounts\, holiday bonuses\, and plenty of festive spirit as you wander through these charming stops: \nNow & Then Antiques\, Otto’s Clock & Watch Shoppe\, Ann’s Bless Your Heart Antiques\, Vintage Depot\, James Creek Cider House\, Lazy Fox Lavender Farm \nEnjoy finding one-of-a-kind treasures and spreading Christmas cheer!
URL:https://thepinestimes.com/event/cameron-christmas-trail-2025/
LOCATION:Downtown Cameron\, Carthage Street\, Cameron\, NC\, 28326\, United States
CATEGORIES:Cameron Events,Christmas,Family,Hobby/Enthusiast,Holiday Events,Markets,Shopping,Social,Young Adults
ATTACH;FMTTYPE=image/jpeg:https://thepinestimes.com/wp-content/uploads/TownOfCameronFeature-1.jpg
END:VEVENT
BEGIN:VEVENT
DTSTART;TZID=America/New_York:20250426T080000
DTEND;TZID=America/New_York:20250426T120000
DTSTAMP:20260425T115512
CREATED:20240310T160931Z
LAST-MODIFIED:20250403T170615Z
UID:10032080-1745654400-1745668800@thepinestimes.com
SUMMARY:Volunteer Town of Cameron Clean Up Day
DESCRIPTION:Together we clean! The Town of Cameron invites the community to come together for a Town Clean Up Day on Saturday\, April 26th! Volunteers should at the Town Maintenance Building. \n  \n  \n 
URL:https://thepinestimes.com/event/volunteer-town-clean-up-day/
LOCATION:Downtown Cameron\, Carthage Street\, Cameron\, NC\, 28326\, United States
CATEGORIES:Adults,Cameron Events,Children,Family,Hobby/Enthusiast,Meeting,Nature/Outdoors,Senior,Social,Volunteer
ATTACH;FMTTYPE=image/jpeg:https://thepinestimes.com/wp-content/uploads/TownOfCameronFeature-1.jpg
END:VEVENT
END:VCALENDAR