BEGIN:VCALENDAR
VERSION:2.0
PRODID:-//The Pines Times - ECPv6.15.20//NONSGML v1.0//EN
CALSCALE:GREGORIAN
METHOD:PUBLISH
X-WR-CALNAME:The Pines Times
X-ORIGINAL-URL:https://thepinestimes.com
X-WR-CALDESC:Events for The Pines Times
REFRESH-INTERVAL;VALUE=DURATION:PT1H
X-Robots-Tag:noindex
X-PUBLISHED-TTL:PT1H
BEGIN:VTIMEZONE
TZID:America/New_York
BEGIN:DAYLIGHT
TZOFFSETFROM:-0500
TZOFFSETTO:-0400
TZNAME:EDT
DTSTART:20240310T070000
END:DAYLIGHT
BEGIN:STANDARD
TZOFFSETFROM:-0400
TZOFFSETTO:-0500
TZNAME:EST
DTSTART:20241103T060000
END:STANDARD
BEGIN:DAYLIGHT
TZOFFSETFROM:-0500
TZOFFSETTO:-0400
TZNAME:EDT
DTSTART:20250309T070000
END:DAYLIGHT
BEGIN:STANDARD
TZOFFSETFROM:-0400
TZOFFSETTO:-0500
TZNAME:EST
DTSTART:20251102T060000
END:STANDARD
BEGIN:DAYLIGHT
TZOFFSETFROM:-0500
TZOFFSETTO:-0400
TZNAME:EDT
DTSTART:20260308T070000
END:DAYLIGHT
BEGIN:STANDARD
TZOFFSETFROM:-0400
TZOFFSETTO:-0500
TZNAME:EST
DTSTART:20261101T060000
END:STANDARD
END:VTIMEZONE
BEGIN:VEVENT
DTSTART;TZID=America/New_York:20251031T170000
DTEND;TZID=America/New_York:20251031T220000
DTSTAMP:20260419T195721
CREATED:20251004T233052Z
LAST-MODIFIED:20251004T233052Z
UID:10072355-1761930000-1761948000@thepinestimes.com
SUMMARY:Downtown Sanford: Boo & Brew Ghost Tour
DESCRIPTION:Experience a frighteningly awesome fall experience at the Boo & Brew Ghost Tour in Downtown Sanford!  Running October 23rd-25th and Octiber 30th & 31st\, this pub crawl and self-guided audio tour pairs local shops\, restaurants\, and bars with a bone-chilling ghost story.
URL:https://thepinestimes.com/event/downtown-sanford-boo-brew-ghost-tour/2025-10-31/
LOCATION:Downtown Sanford\, 115 Chatham Street\, Sanford\, NC\, 27330\, United States
CATEGORIES:Adult Connections,Adults,Beer and Wine,Halloween,Out of Town,Sanford Events,Shopping,Social,Tasting,Tours
ATTACH;FMTTYPE=image/jpeg:https://thepinestimes.com/wp-content/uploads/BooAndBrewFeasture.jpg
END:VEVENT
BEGIN:VEVENT
DTSTART;TZID=America/New_York:20251030T170000
DTEND;TZID=America/New_York:20251030T220000
DTSTAMP:20260419T195721
CREATED:20251004T233052Z
LAST-MODIFIED:20251004T233052Z
UID:10072354-1761843600-1761861600@thepinestimes.com
SUMMARY:Downtown Sanford: Boo & Brew Ghost Tour
DESCRIPTION:Experience a frighteningly awesome fall experience at the Boo & Brew Ghost Tour in Downtown Sanford!  Running October 23rd-25th and Octiber 30th & 31st\, this pub crawl and self-guided audio tour pairs local shops\, restaurants\, and bars with a bone-chilling ghost story.
URL:https://thepinestimes.com/event/downtown-sanford-boo-brew-ghost-tour/2025-10-30/
LOCATION:Downtown Sanford\, 115 Chatham Street\, Sanford\, NC\, 27330\, United States
CATEGORIES:Adult Connections,Adults,Beer and Wine,Halloween,Out of Town,Sanford Events,Shopping,Social,Tasting,Tours
ATTACH;FMTTYPE=image/jpeg:https://thepinestimes.com/wp-content/uploads/BooAndBrewFeasture.jpg
END:VEVENT
BEGIN:VEVENT
DTSTART;TZID=America/New_York:20251025T170000
DTEND;TZID=America/New_York:20251025T220000
DTSTAMP:20260419T195721
CREATED:20251004T233052Z
LAST-MODIFIED:20251004T233052Z
UID:10072353-1761411600-1761429600@thepinestimes.com
SUMMARY:Downtown Sanford: Boo & Brew Ghost Tour
DESCRIPTION:Experience a frighteningly awesome fall experience at the Boo & Brew Ghost Tour in Downtown Sanford!  Running October 23rd-25th and Octiber 30th & 31st\, this pub crawl and self-guided audio tour pairs local shops\, restaurants\, and bars with a bone-chilling ghost story.
URL:https://thepinestimes.com/event/downtown-sanford-boo-brew-ghost-tour/2025-10-25/
LOCATION:Downtown Sanford\, 115 Chatham Street\, Sanford\, NC\, 27330\, United States
CATEGORIES:Adult Connections,Adults,Beer and Wine,Halloween,Out of Town,Sanford Events,Shopping,Social,Tasting,Tours
ATTACH;FMTTYPE=image/jpeg:https://thepinestimes.com/wp-content/uploads/BooAndBrewFeasture.jpg
END:VEVENT
BEGIN:VEVENT
DTSTART;TZID=America/New_York:20251024T170000
DTEND;TZID=America/New_York:20251024T220000
DTSTAMP:20260419T195721
CREATED:20251004T233052Z
LAST-MODIFIED:20251004T233052Z
UID:10072352-1761325200-1761343200@thepinestimes.com
SUMMARY:Downtown Sanford: Boo & Brew Ghost Tour
DESCRIPTION:Experience a frighteningly awesome fall experience at the Boo & Brew Ghost Tour in Downtown Sanford!  Running October 23rd-25th and Octiber 30th & 31st\, this pub crawl and self-guided audio tour pairs local shops\, restaurants\, and bars with a bone-chilling ghost story.
URL:https://thepinestimes.com/event/downtown-sanford-boo-brew-ghost-tour/2025-10-24/
LOCATION:Downtown Sanford\, 115 Chatham Street\, Sanford\, NC\, 27330\, United States
CATEGORIES:Adult Connections,Adults,Beer and Wine,Halloween,Out of Town,Sanford Events,Shopping,Social,Tasting,Tours
ATTACH;FMTTYPE=image/jpeg:https://thepinestimes.com/wp-content/uploads/BooAndBrewFeasture.jpg
END:VEVENT
BEGIN:VEVENT
DTSTART;TZID=America/New_York:20251023T170000
DTEND;TZID=America/New_York:20251023T220000
DTSTAMP:20260419T195721
CREATED:20251004T233052Z
LAST-MODIFIED:20251004T233052Z
UID:10072351-1761238800-1761256800@thepinestimes.com
SUMMARY:Downtown Sanford: Boo & Brew Ghost Tour
DESCRIPTION:Experience a frighteningly awesome fall experience at the Boo & Brew Ghost Tour in Downtown Sanford!  Running October 23rd-25th and Octiber 30th & 31st\, this pub crawl and self-guided audio tour pairs local shops\, restaurants\, and bars with a bone-chilling ghost story.
URL:https://thepinestimes.com/event/downtown-sanford-boo-brew-ghost-tour/2025-10-23/
LOCATION:Downtown Sanford\, 115 Chatham Street\, Sanford\, NC\, 27330\, United States
CATEGORIES:Adult Connections,Adults,Beer and Wine,Halloween,Out of Town,Sanford Events,Shopping,Social,Tasting,Tours
ATTACH;FMTTYPE=image/jpeg:https://thepinestimes.com/wp-content/uploads/BooAndBrewFeasture.jpg
END:VEVENT
BEGIN:VEVENT
DTSTART;TZID=America/New_York:20251011T100000
DTEND;TZID=America/New_York:20251011T170000
DTSTAMP:20260419T195721
CREATED:20231013T145540Z
LAST-MODIFIED:20251010T190756Z
UID:10021552-1760176800-1760202000@thepinestimes.com
SUMMARY:8th Annual Downtown Sanford: StreetFest & Fireworks
DESCRIPTION:Come out for the Downtown Sanford StreetFest & Fireworks on Saturday\, October 11th | 10am-5pm! Enjoy this day-long celebration with music\, art & craft vendors\, shopping\, entertainment\, food trucks\, children’s activities and more on the streets of Downtown Sanford. The evening will conclude with a great firework show. The fun takes place every second Saturday of October. For a full schedule of events\, follow the link provided below. \n 
URL:https://thepinestimes.com/event/downtown-sanford-streetfest-fireworks/
LOCATION:Downtown Sanford\, 115 Chatham Street\, Sanford\, NC\, 27330\, United States
CATEGORIES:Adults,Arts,Children,Crafts,Cultural,Fair/Festival,Fall,Fall in the Sandhills,Family,Food,Games,Live Entertainment,Music,Nature/Outdoors,Sanford Events,Shopping,Social,Vendors
ATTACH;FMTTYPE=image/jpeg:https://thepinestimes.com/wp-content/uploads/SanfordStreetFestFeature.jpg
END:VEVENT
END:VCALENDAR