BEGIN:VCALENDAR
VERSION:2.0
PRODID:-//The Pines Times - ECPv6.15.20//NONSGML v1.0//EN
CALSCALE:GREGORIAN
METHOD:PUBLISH
X-WR-CALNAME:The Pines Times
X-ORIGINAL-URL:https://thepinestimes.com
X-WR-CALDESC:Events for The Pines Times
REFRESH-INTERVAL;VALUE=DURATION:PT1H
X-Robots-Tag:noindex
X-PUBLISHED-TTL:PT1H
BEGIN:VTIMEZONE
TZID:America/New_York
BEGIN:DAYLIGHT
TZOFFSETFROM:-0500
TZOFFSETTO:-0400
TZNAME:EDT
DTSTART:20250309T070000
END:DAYLIGHT
BEGIN:STANDARD
TZOFFSETFROM:-0400
TZOFFSETTO:-0500
TZNAME:EST
DTSTART:20251102T060000
END:STANDARD
BEGIN:DAYLIGHT
TZOFFSETFROM:-0500
TZOFFSETTO:-0400
TZNAME:EDT
DTSTART:20260308T070000
END:DAYLIGHT
BEGIN:STANDARD
TZOFFSETFROM:-0400
TZOFFSETTO:-0500
TZNAME:EST
DTSTART:20261101T060000
END:STANDARD
BEGIN:DAYLIGHT
TZOFFSETFROM:-0500
TZOFFSETTO:-0400
TZNAME:EDT
DTSTART:20270314T070000
END:DAYLIGHT
BEGIN:STANDARD
TZOFFSETFROM:-0400
TZOFFSETTO:-0500
TZNAME:EST
DTSTART:20271107T060000
END:STANDARD
END:VTIMEZONE
BEGIN:VEVENT
DTSTART;TZID=America/New_York:20260515T190000
DTEND;TZID=America/New_York:20260515T235900
DTSTAMP:20260425T200940
CREATED:20260419T141038Z
LAST-MODIFIED:20260419T141038Z
UID:10086927-1778871600-1778889540@thepinestimes.com
SUMMARY:Southern Pines Family Camp Out
DESCRIPTION:Families are invited for a fun campout under the stars with the Town Southern Pines Parks & Recreation Department! Enjoy games\, snacks and a story by the fire. The fun takes place at the Downtown Southern Pines Park on Friday\, May 15thth beginning at 7:00PM. All areas must be packed up by 8:00AM on Saturday. You must bring your own tent. Space is limited to twenty families. The cost is $10-$14. For more information and registration\, follow the link provided below.
URL:https://thepinestimes.com/event/southern-pines-family-camp-out/
LOCATION:Downtown Southern Pines Green Space-Downtown Park\, 145 SE Broad St.\, Southern Pines\, 28387\, United States
CATEGORIES:Family,Games,Nature/Outdoors,Social,Southern Pines Events
ATTACH;FMTTYPE=image/jpeg:https://thepinestimes.com/wp-content/uploads/FamilyCampOutFeature.jpg
ORGANIZER;CN="Southern Pines Parks and Recreation":MAILTO:bsampson@southernpines.net
END:VEVENT
BEGIN:VEVENT
DTSTART;TZID=America/New_York:20260515T201500
DTEND;TZID=America/New_York:20260515T213000
DTSTAMP:20260425T200940
CREATED:20260419T143127Z
LAST-MODIFIED:20260419T143127Z
UID:10086937-1778876100-1778880600@thepinestimes.com
SUMMARY:Movie in the Pines: "Zootopia 2"
DESCRIPTION:Southern Pines Parks and Recreation invites the community to a free Movie in the Pines event featuring a screening of Disney’s Zootopia 2 on Friday\, May 15th. The festivities begin at Downtown Park located at 145 SE Broad Street with a Family Camp Out starting at 7:00 PM followed by the movie at 8:15 PM. Attendees are encouraged to bring their own chairs or blankets for seating while enjoying the show under the stars. Although admission is free\, concessions will be available for purchase throughout the evening. For more information regarding this event\, please contact 910-692-7376.
URL:https://thepinestimes.com/event/movie-in-the-pines-zootopia-2/
LOCATION:Downtown Southern Pines Green Space-Downtown Park\, 145 SE Broad St.\, Southern Pines\, 28387\, United States
CATEGORIES:Children,Family,Live Entertainment,Movie,Nature/Outdoors,Social,Southern Pines Events
ATTACH;FMTTYPE=image/jpeg:https://thepinestimes.com/wp-content/uploads/MovieInThePinesFeature.jpg
ORGANIZER;CN="Southern Pines Parks and Recreation":MAILTO:bsampson@southernpines.net
END:VEVENT
END:VCALENDAR