BEGIN:VCALENDAR
VERSION:2.0
PRODID:-//The Pines Times - ECPv6.15.20//NONSGML v1.0//EN
CALSCALE:GREGORIAN
METHOD:PUBLISH
X-ORIGINAL-URL:https://thepinestimes.com
X-WR-CALDESC:Events for The Pines Times
REFRESH-INTERVAL;VALUE=DURATION:PT1H
X-Robots-Tag:noindex
X-PUBLISHED-TTL:PT1H
BEGIN:VTIMEZONE
TZID:America/New_York
BEGIN:DAYLIGHT
TZOFFSETFROM:-0500
TZOFFSETTO:-0400
TZNAME:EDT
DTSTART:20240310T070000
END:DAYLIGHT
BEGIN:STANDARD
TZOFFSETFROM:-0400
TZOFFSETTO:-0500
TZNAME:EST
DTSTART:20241103T060000
END:STANDARD
BEGIN:DAYLIGHT
TZOFFSETFROM:-0500
TZOFFSETTO:-0400
TZNAME:EDT
DTSTART:20250309T070000
END:DAYLIGHT
BEGIN:STANDARD
TZOFFSETFROM:-0400
TZOFFSETTO:-0500
TZNAME:EST
DTSTART:20251102T060000
END:STANDARD
BEGIN:DAYLIGHT
TZOFFSETFROM:-0500
TZOFFSETTO:-0400
TZNAME:EDT
DTSTART:20260308T070000
END:DAYLIGHT
BEGIN:STANDARD
TZOFFSETFROM:-0400
TZOFFSETTO:-0500
TZNAME:EST
DTSTART:20261101T060000
END:STANDARD
BEGIN:DAYLIGHT
TZOFFSETFROM:-0500
TZOFFSETTO:-0400
TZNAME:EDT
DTSTART:20270314T070000
END:DAYLIGHT
BEGIN:STANDARD
TZOFFSETFROM:-0400
TZOFFSETTO:-0500
TZNAME:EST
DTSTART:20271107T060000
END:STANDARD
END:VTIMEZONE
BEGIN:VEVENT
DTSTART;TZID=America/New_York:20260418T120000
DTEND;TZID=America/New_York:20260418T160000
DTSTAMP:20260423T085641
CREATED:20240212T190237Z
LAST-MODIFIED:20260122T235257Z
UID:10030490-1776513600-1776528000@thepinestimes.com
SUMMARY:Town of Vass: Spring Festival 2026
DESCRIPTION:Join the Town of Vass for the annual Spring Festival on Saturday\, April 18th from 12pm-4pm. The festival will be held downtown on Seaboard Street with vendors\, live music\, food and more. More details to come!
URL:https://thepinestimes.com/event/the-town-of-vass-spring-festival/
LOCATION:Downtown Vass\, Main Street\, Vass\, NC\, 28394\, United States
CATEGORIES:Adults,Children,Fair/Festival,Family,Food,Games,Live Entertainment,Live Music,Nature/Outdoors,Social,Vass Events,Vendors
ATTACH;FMTTYPE=image/jpeg:https://thepinestimes.com/wp-content/uploads/VassSpringFestFeature.jpg
ORGANIZER;CN="Town of Vass":MAILTO:mwalden@townofvass.com
END:VEVENT
BEGIN:VEVENT
DTSTART;TZID=America/New_York:20251220T110000
DTEND;TZID=America/New_York:20251220T110000
DTSTAMP:20260423T085641
CREATED:20231031T173050Z
LAST-MODIFIED:20251114T145537Z
UID:10022091-1766228400-1766228400@thepinestimes.com
SUMMARY:Town of Vass: Christmas Parade 2025
DESCRIPTION:The Town of Vass’ Annual Christmas Parade will take place on Saturday\, December 20th beginning at 11:00am! Bring your holiday spirit and enjoy a parade of colorful floats\, classic cars\, community groups and more! \n \n  \n 
URL:https://thepinestimes.com/event/town-of-vass-christmas-parade-2025/
LOCATION:Downtown Vass\, Main Street\, Vass\, NC\, 28394\, United States
CATEGORIES:Adults,Children,Christmas,Family,Finding Santa,Finding Santa,Live Entertainment,Nature/Outdoors,Parade,Piney's Kids,Piney's Tiny's,Santa,Senior,Social,Teen Activities,Vass Events,Young Adults
ORGANIZER;CN="Town of Vass":MAILTO:mwalden@townofvass.com
END:VEVENT
BEGIN:VEVENT
DTSTART;TZID=America/New_York:20250503T090000
DTEND;TZID=America/New_York:20250503T110000
DTSTAMP:20260423T085641
CREATED:20250326T230950Z
LAST-MODIFIED:20250326T231019Z
UID:10055521-1746262800-1746270000@thepinestimes.com
SUMMARY:Supporting Diabetes and Mental Health 5K Run & Walk
DESCRIPTION:​The Frye Foundation\, led by renowned track coach Curtis Frye\, is hosting the “Supporting Diabetes and Mental Health 5K Run & Walk” on Saturday\, May 3rd in downtown Vass. The event aims to raise awareness and funds for diabetes education and mental health initiatives in the community. Participants can look forward to engaging in a healthy activity while supporting a noble cause. The registration fee is $30. Visit the event website link provided below for additional information.
URL:https://thepinestimes.com/event/supporting-diabetes-and-mental-health-5k-run-walk/
LOCATION:Downtown Vass\, Main Street\, Vass\, NC\, 28394\, United States
CATEGORIES:Adults,Family,Health & Wellness,Hobby/Enthusiast,Nature/Outdoors,Senior,Social,Vass Events,Walk/Run
ATTACH;FMTTYPE=image/jpeg:https://thepinestimes.com/wp-content/uploads/TheFryeFoundationFeature.jpg
ORGANIZER;CN="The Frye Foundation":MAILTO:thefryefoundationdiabetes@gmail.com
END:VEVENT
END:VCALENDAR