BEGIN:VCALENDAR
VERSION:2.0
PRODID:-//The Pines Times - ECPv6.15.20//NONSGML v1.0//EN
CALSCALE:GREGORIAN
METHOD:PUBLISH
X-WR-CALNAME:The Pines Times
X-ORIGINAL-URL:https://thepinestimes.com
X-WR-CALDESC:Events for The Pines Times
REFRESH-INTERVAL;VALUE=DURATION:PT1H
X-Robots-Tag:noindex
X-PUBLISHED-TTL:PT1H
BEGIN:VTIMEZONE
TZID:America/New_York
BEGIN:DAYLIGHT
TZOFFSETFROM:-0500
TZOFFSETTO:-0400
TZNAME:EDT
DTSTART:20240310T070000
END:DAYLIGHT
BEGIN:STANDARD
TZOFFSETFROM:-0400
TZOFFSETTO:-0500
TZNAME:EST
DTSTART:20241103T060000
END:STANDARD
BEGIN:DAYLIGHT
TZOFFSETFROM:-0500
TZOFFSETTO:-0400
TZNAME:EDT
DTSTART:20250309T070000
END:DAYLIGHT
BEGIN:STANDARD
TZOFFSETFROM:-0400
TZOFFSETTO:-0500
TZNAME:EST
DTSTART:20251102T060000
END:STANDARD
BEGIN:DAYLIGHT
TZOFFSETFROM:-0500
TZOFFSETTO:-0400
TZNAME:EDT
DTSTART:20260308T070000
END:DAYLIGHT
BEGIN:STANDARD
TZOFFSETFROM:-0400
TZOFFSETTO:-0500
TZNAME:EST
DTSTART:20261101T060000
END:STANDARD
END:VTIMEZONE
BEGIN:VEVENT
DTSTART;TZID=America/New_York:20251102T110000
DTEND;TZID=America/New_York:20251102T150000
DTSTAMP:20260421T115249
CREATED:20251101T132637Z
LAST-MODIFIED:20251101T132637Z
UID:10074179-1762081200-1762095600@thepinestimes.com
SUMMARY:Open House and Holiday Kick Off
DESCRIPTION:“It’s the most wonderful time of the year\,” and you’re invited to the Open House and Holiday Kick Off at Eliza Quinn in Downtown Carthage! Get a jump start on the festive season and visit their beautiful location. Come celebrate the start of the holidays! \nThe event runs Saturday\, November 1st\, from 10am-5pm | Sunday\, November 2nd\, from 11am-3pm
URL:https://thepinestimes.com/event/open-house-and-holiday-kick-off/2025-11-02/
LOCATION:Eliza Quinn Vintiques\, Decor & Handmade\, 14 Courthouse Square\, Carthage\, NC\, 28327\, United States
CATEGORIES:Carthage Events,Open House,Shopping,Social
ATTACH;FMTTYPE=image/jpeg:https://thepinestimes.com/wp-content/uploads/Eliza-Quinn-feature.jpg
ORGANIZER;CN="Eliza Quinn Creates":MAILTO:elizaquinncreates@gmail.com
END:VEVENT
BEGIN:VEVENT
DTSTART;TZID=America/New_York:20251101T100000
DTEND;TZID=America/New_York:20251101T170000
DTSTAMP:20260421T115249
CREATED:20251101T132637Z
LAST-MODIFIED:20251101T132637Z
UID:10074178-1761991200-1762016400@thepinestimes.com
SUMMARY:Open House and Holiday Kick Off
DESCRIPTION:“It’s the most wonderful time of the year\,” and you’re invited to the Open House and Holiday Kick Off at Eliza Quinn in Downtown Carthage! Get a jump start on the festive season and visit their beautiful location. Come celebrate the start of the holidays! \nThe event runs Saturday\, November 1st\, from 10am-5pm | Sunday\, November 2nd\, from 11am-3pm
URL:https://thepinestimes.com/event/open-house-and-holiday-kick-off/2025-11-01/
LOCATION:Eliza Quinn Vintiques\, Decor & Handmade\, 14 Courthouse Square\, Carthage\, NC\, 28327\, United States
CATEGORIES:Carthage Events,Open House,Shopping,Social
ATTACH;FMTTYPE=image/jpeg:https://thepinestimes.com/wp-content/uploads/Eliza-Quinn-feature.jpg
ORGANIZER;CN="Eliza Quinn Creates":MAILTO:elizaquinncreates@gmail.com
END:VEVENT
BEGIN:VEVENT
DTSTART;TZID=America/New_York:20250201T100000
DTEND;TZID=America/New_York:20250201T170000
DTSTAMP:20260421T115249
CREATED:20240111T183504Z
LAST-MODIFIED:20250131T151611Z
UID:10053213-1738404000-1738429200@thepinestimes.com
SUMMARY:Three Year Birthday Celebration
DESCRIPTION:Eliza Quinn Creates in Downtown Carthage celebrates three years of business! Join in the celebration this Saturday\, January 31st | 10am-5pm! See what’s new\, have some treats and shop away! There will be sales\, treats\, new goods and giveaways both days. \n 
URL:https://thepinestimes.com/event/two-year-birthday-celebration/2025-02-01/
LOCATION:Eliza Quinn Vintiques\, Decor & Handmade\, 14 Courthouse Square\, Carthage\, NC\, 28327\, United States
CATEGORIES:Adults,Anniversary Celebration,Birthday Celebration,Business/Networking,Carthage Events,Hobby/Enthusiast,Shopping,Social
ATTACH;FMTTYPE=image/jpeg:https://thepinestimes.com/wp-content/uploads/Eliza-Quinn-feature.jpg
ORGANIZER;CN="Eliza Quinn Creates":MAILTO:elizaquinncreates@gmail.com
END:VEVENT
BEGIN:VEVENT
DTSTART;TZID=America/New_York:20250131T100000
DTEND;TZID=America/New_York:20250131T170000
DTSTAMP:20260421T115249
CREATED:20240111T183504Z
LAST-MODIFIED:20250131T151611Z
UID:10053212-1738317600-1738342800@thepinestimes.com
SUMMARY:Three Year Birthday Celebration
DESCRIPTION:Eliza Quinn Creates in Downtown Carthage celebrates three years of business! Join in the celebration this Saturday\, January 31st | 10am-5pm! See what’s new\, have some treats and shop away! There will be sales\, treats\, new goods and giveaways both days. \n 
URL:https://thepinestimes.com/event/two-year-birthday-celebration/2025-01-31/
LOCATION:Eliza Quinn Vintiques\, Decor & Handmade\, 14 Courthouse Square\, Carthage\, NC\, 28327\, United States
CATEGORIES:Adults,Anniversary Celebration,Birthday Celebration,Business/Networking,Carthage Events,Hobby/Enthusiast,Shopping,Social
ATTACH;FMTTYPE=image/jpeg:https://thepinestimes.com/wp-content/uploads/Eliza-Quinn-feature.jpg
ORGANIZER;CN="Eliza Quinn Creates":MAILTO:elizaquinncreates@gmail.com
END:VEVENT
END:VCALENDAR