BEGIN:VCALENDAR
VERSION:2.0
PRODID:-//The Pines Times - ECPv6.15.20//NONSGML v1.0//EN
CALSCALE:GREGORIAN
METHOD:PUBLISH
X-ORIGINAL-URL:https://thepinestimes.com
X-WR-CALDESC:Events for The Pines Times
REFRESH-INTERVAL;VALUE=DURATION:PT1H
X-Robots-Tag:noindex
X-PUBLISHED-TTL:PT1H
BEGIN:VTIMEZONE
TZID:America/New_York
BEGIN:DAYLIGHT
TZOFFSETFROM:-0500
TZOFFSETTO:-0400
TZNAME:EDT
DTSTART:20240310T070000
END:DAYLIGHT
BEGIN:STANDARD
TZOFFSETFROM:-0400
TZOFFSETTO:-0500
TZNAME:EST
DTSTART:20241103T060000
END:STANDARD
BEGIN:DAYLIGHT
TZOFFSETFROM:-0500
TZOFFSETTO:-0400
TZNAME:EDT
DTSTART:20250309T070000
END:DAYLIGHT
BEGIN:STANDARD
TZOFFSETFROM:-0400
TZOFFSETTO:-0500
TZNAME:EST
DTSTART:20251102T060000
END:STANDARD
BEGIN:DAYLIGHT
TZOFFSETFROM:-0500
TZOFFSETTO:-0400
TZNAME:EDT
DTSTART:20260308T070000
END:DAYLIGHT
BEGIN:STANDARD
TZOFFSETFROM:-0400
TZOFFSETTO:-0500
TZNAME:EST
DTSTART:20261101T060000
END:STANDARD
END:VTIMEZONE
BEGIN:VEVENT
DTSTART;TZID=America/New_York:20251201T180000
DTEND;TZID=America/New_York:20251201T213000
DTSTAMP:20260421T125010
CREATED:20251125T151835Z
LAST-MODIFIED:20251216T014649Z
UID:10048592-1764612000-1764624600@thepinestimes.com
SUMMARY:Farley Family Christmas Lights Show 2025
DESCRIPTION:Come out for the annual Christmas Light Show from Farley Family Lights in Cameron! The display runs nightly from December 1st-December 25th. The free show runs on a repeat schedule from 6:00pm-9:30pm\, seven days a week\, at 95 Farley Road in Cameron. For the best experience\, tune your car radio to 92.7 FM to hear the music from the comfort of your vehicle. If staying in your car\, please turn off your headlights\, but running lights are encouraged. You may also stand near the road to enjoy the public PA system\, but please do not enter the display. Farley Road is a dead-end street; for easy departure\, please make a U-turn at the end of the pavement instead of using the dirt road. The event is free and ready for spectators. Join and help light up The Sandhills! For full details\, follow the event link provided below.
URL:https://thepinestimes.com/event/farley-family-christmas-lights-show-2025/2025-12-01/
LOCATION:Farley Family Lights\, 95 Farley Road\, Cameron\, NC\, 28326\, United States
CATEGORIES:Cameron Events,Children,Christmas,Exhibits,Family,Hobby/Enthusiast,Moore County Events,Nature/Outdoors,Senior
ATTACH;FMTTYPE=image/jpeg:https://thepinestimes.com/wp-content/uploads/farleylightsFeature.jpg
END:VEVENT
END:VCALENDAR