BEGIN:VCALENDAR
VERSION:2.0
PRODID:-//The Pines Times - ECPv6.15.20//NONSGML v1.0//EN
CALSCALE:GREGORIAN
METHOD:PUBLISH
X-WR-CALNAME:The Pines Times
X-ORIGINAL-URL:https://thepinestimes.com
X-WR-CALDESC:Events for The Pines Times
REFRESH-INTERVAL;VALUE=DURATION:PT1H
X-Robots-Tag:noindex
X-PUBLISHED-TTL:PT1H
BEGIN:VTIMEZONE
TZID:America/New_York
BEGIN:DAYLIGHT
TZOFFSETFROM:-0500
TZOFFSETTO:-0400
TZNAME:EDT
DTSTART:20250309T070000
END:DAYLIGHT
BEGIN:STANDARD
TZOFFSETFROM:-0400
TZOFFSETTO:-0500
TZNAME:EST
DTSTART:20251102T060000
END:STANDARD
BEGIN:DAYLIGHT
TZOFFSETFROM:-0500
TZOFFSETTO:-0400
TZNAME:EDT
DTSTART:20260308T070000
END:DAYLIGHT
BEGIN:STANDARD
TZOFFSETFROM:-0400
TZOFFSETTO:-0500
TZNAME:EST
DTSTART:20261101T060000
END:STANDARD
BEGIN:DAYLIGHT
TZOFFSETFROM:-0500
TZOFFSETTO:-0400
TZNAME:EDT
DTSTART:20270314T070000
END:DAYLIGHT
BEGIN:STANDARD
TZOFFSETFROM:-0400
TZOFFSETTO:-0500
TZNAME:EST
DTSTART:20271107T060000
END:STANDARD
END:VTIMEZONE
BEGIN:VEVENT
DTSTART;TZID=America/New_York:20260426T130000
DTEND;TZID=America/New_York:20260426T160000
DTSTAMP:20260422T225942
CREATED:20260325T204659Z
LAST-MODIFIED:20260325T204659Z
UID:10084310-1777208400-1777219200@thepinestimes.com
SUMMARY:The Walk to Defeat Dementia 2026
DESCRIPTION:The Walk to Defeat Dementia will be a day of celebration and remembrance as we take action and provide hope to those living with dementia right here in North Carolina. Register your team today and fundraise to provide comfort\, assistance\, resources and education\, ensuring families don’t walk through this journey alone. Help us Walk to Defeat Dementia and support caregivers in our state! \nThis event is pet friendly! Rain or Shine \nSunday\, April 26th\nFenton\n21 Fenton Main Street\,\nCary\, North Carolina\n1:00PM-4:00PM \nFull details and online registration can be found through the event website link provided below.
URL:https://thepinestimes.com/event/the-walk-to-defeat-dementia-2026/
LOCATION:Fenton-The Walk to Defeat Dementia 2026\, 21 Fenton Main Street\, Cary\, United States
CATEGORIES:Brain Change,Social,Walk/Run
ATTACH;FMTTYPE=image/jpeg:https://thepinestimes.com/wp-content/uploads/TriangleDementiaWalkFeature.jpg
ORGANIZER;CN="Dementia Alliance of North Carolina":MAILTO:info@dementianc.org
END:VEVENT
END:VCALENDAR