BEGIN:VCALENDAR
VERSION:2.0
PRODID:-//The Pines Times - ECPv6.15.20//NONSGML v1.0//EN
CALSCALE:GREGORIAN
METHOD:PUBLISH
X-WR-CALNAME:The Pines Times
X-ORIGINAL-URL:https://thepinestimes.com
X-WR-CALDESC:Events for The Pines Times
REFRESH-INTERVAL;VALUE=DURATION:PT1H
X-Robots-Tag:noindex
X-PUBLISHED-TTL:PT1H
BEGIN:VTIMEZONE
TZID:America/New_York
BEGIN:DAYLIGHT
TZOFFSETFROM:-0500
TZOFFSETTO:-0400
TZNAME:EDT
DTSTART:20250309T070000
END:DAYLIGHT
BEGIN:STANDARD
TZOFFSETFROM:-0400
TZOFFSETTO:-0500
TZNAME:EST
DTSTART:20251102T060000
END:STANDARD
BEGIN:DAYLIGHT
TZOFFSETFROM:-0500
TZOFFSETTO:-0400
TZNAME:EDT
DTSTART:20260308T070000
END:DAYLIGHT
BEGIN:STANDARD
TZOFFSETFROM:-0400
TZOFFSETTO:-0500
TZNAME:EST
DTSTART:20261101T060000
END:STANDARD
BEGIN:DAYLIGHT
TZOFFSETFROM:-0500
TZOFFSETTO:-0400
TZNAME:EDT
DTSTART:20270314T070000
END:DAYLIGHT
BEGIN:STANDARD
TZOFFSETFROM:-0400
TZOFFSETTO:-0500
TZNAME:EST
DTSTART:20271107T060000
END:STANDARD
END:VTIMEZONE
BEGIN:VEVENT
DTSTART;TZID=America/New_York:20260417T163000
DTEND;TZID=America/New_York:20260417T203000
DTSTAMP:20260420T143319
CREATED:20260404T152316Z
LAST-MODIFIED:20260404T152316Z
UID:10086135-1776443400-1776457800@thepinestimes.com
SUMMARY:Sports Recovery Night
DESCRIPTION:Elevate your performance and recovery at Fire Ice & Moore Wellness Studio during their Sports Recovery Night on Friday\, April 17th. Designed to help you move and feel better\, this specialized event offers time slots between 4:30PM and 8:30PM at their location at 160 Pinehurst Ave Suite B\, Southern Pines. \nThe evening features a powerful recovery duo: a 45-minute Sauna or Contrast session paired with a 30-minute Sports Massage or Recovery PT treatment provided by experts from Headstrong Sports Massage\, Kneaded Bodywork Massage\, Recovery PT & Wellness\, and Wellness on Seaboard.
URL:https://thepinestimes.com/event/sports-recovery-night/
LOCATION:Fire Ice and Moore\, 160 Pinehurst Ave Ste B\, Southern Pines\, 28387\, United States
CATEGORIES:Adults,Health & Wellness,Social,Sports,Vendors
ATTACH;FMTTYPE=image/jpeg:https://thepinestimes.com/wp-content/uploads/FireIceAndMooreFeature.jpg
ORGANIZER;CN="Fire Ice and Moore":MAILTO:info_fireicemoore@proton.me
END:VEVENT
END:VCALENDAR