BEGIN:VCALENDAR
VERSION:2.0
PRODID:-//The Pines Times - ECPv6.15.20//NONSGML v1.0//EN
CALSCALE:GREGORIAN
METHOD:PUBLISH
X-WR-CALNAME:The Pines Times
X-ORIGINAL-URL:https://thepinestimes.com
X-WR-CALDESC:Events for The Pines Times
REFRESH-INTERVAL;VALUE=DURATION:PT1H
X-Robots-Tag:noindex
X-PUBLISHED-TTL:PT1H
BEGIN:VTIMEZONE
TZID:America/New_York
BEGIN:DAYLIGHT
TZOFFSETFROM:-0500
TZOFFSETTO:-0400
TZNAME:EDT
DTSTART:20240310T070000
END:DAYLIGHT
BEGIN:STANDARD
TZOFFSETFROM:-0400
TZOFFSETTO:-0500
TZNAME:EST
DTSTART:20241103T060000
END:STANDARD
BEGIN:DAYLIGHT
TZOFFSETFROM:-0500
TZOFFSETTO:-0400
TZNAME:EDT
DTSTART:20250309T070000
END:DAYLIGHT
BEGIN:STANDARD
TZOFFSETFROM:-0400
TZOFFSETTO:-0500
TZNAME:EST
DTSTART:20251102T060000
END:STANDARD
BEGIN:DAYLIGHT
TZOFFSETFROM:-0500
TZOFFSETTO:-0400
TZNAME:EDT
DTSTART:20260308T070000
END:DAYLIGHT
BEGIN:STANDARD
TZOFFSETFROM:-0400
TZOFFSETTO:-0500
TZNAME:EST
DTSTART:20261101T060000
END:STANDARD
BEGIN:DAYLIGHT
TZOFFSETFROM:-0500
TZOFFSETTO:-0400
TZNAME:EDT
DTSTART:20270314T070000
END:DAYLIGHT
BEGIN:STANDARD
TZOFFSETFROM:-0400
TZOFFSETTO:-0500
TZNAME:EST
DTSTART:20271107T060000
END:STANDARD
END:VTIMEZONE
BEGIN:VEVENT
DTSTART;TZID=America/New_York:20260410T100000
DTEND;TZID=America/New_York:20260410T103000
DTSTAMP:20260420T143318
CREATED:20251001T163956Z
LAST-MODIFIED:20260405T144926Z
UID:10086268-1775815200-1775817000@thepinestimes.com
SUMMARY:Storytime at Spark! Fire Station 82
DESCRIPTION:Southern Pines Public Library in partnership with the Southern Pines Fire Department presents Storytime at Spark! Bring the little ones out for Storytime at the Fire Station at 10am! Families with children ages birth–5 can enjoy stories\, songs\, and fun at Fire Station 82 in Carthage. Afterward\, stop by Spark! to check out books and keep the reading fun going at home. \n \n 
URL:https://thepinestimes.com/event/storytime-at-spark/2026-04-10/
LOCATION:Southern Pines Fire Station #82\, 7850 NC HWY 22\, Carthage\, NC\, 28327\, United States
CATEGORIES:Children,Educational,Family,Library,Literary Event,Piney's Kids,Piney's Tiny's,Social,Southern Pines Events,Storytimes
ATTACH;FMTTYPE=image/jpeg:https://thepinestimes.com/wp-content/uploads/StorytimeAtSparkSPPLfeature.jpg
END:VEVENT
BEGIN:VEVENT
DTSTART;TZID=America/New_York:20260313T100000
DTEND;TZID=America/New_York:20260313T103000
DTSTAMP:20260420T143318
CREATED:20251001T163956Z
LAST-MODIFIED:20260405T144926Z
UID:10080894-1773396000-1773397800@thepinestimes.com
SUMMARY:Storytime at Spark! Fire Station 82
DESCRIPTION:Southern Pines Public Library in partnership with the Southern Pines Fire Department presents Storytime at Spark! Bring the little ones out for Storytime at the Fire Station at 10am! Families with children ages birth–5 can enjoy stories\, songs\, and fun at Fire Station 82 in Carthage. Afterward\, stop by Spark! to check out books and keep the reading fun going at home. \n \n 
URL:https://thepinestimes.com/event/storytime-at-spark/2026-03-13/
LOCATION:Southern Pines Fire Station #82\, 7850 NC HWY 22\, Carthage\, NC\, 28327\, United States
CATEGORIES:Children,Educational,Family,Library,Literary Event,Piney's Kids,Piney's Tiny's,Social,Southern Pines Events,Storytimes
ATTACH;FMTTYPE=image/jpeg:https://thepinestimes.com/wp-content/uploads/StorytimeAtSparkSPPLfeature.jpg
END:VEVENT
BEGIN:VEVENT
DTSTART;TZID=America/New_York:20260213T100000
DTEND;TZID=America/New_York:20260213T103000
DTSTAMP:20260420T143318
CREATED:20251001T163956Z
LAST-MODIFIED:20260405T144926Z
UID:10080893-1770976800-1770978600@thepinestimes.com
SUMMARY:Storytime at Spark! Fire Station 82
DESCRIPTION:Southern Pines Public Library in partnership with the Southern Pines Fire Department presents Storytime at Spark! Bring the little ones out for Storytime at the Fire Station at 10am! Families with children ages birth–5 can enjoy stories\, songs\, and fun at Fire Station 82 in Carthage. Afterward\, stop by Spark! to check out books and keep the reading fun going at home. \n \n 
URL:https://thepinestimes.com/event/storytime-at-spark/2026-02-13/
LOCATION:Southern Pines Fire Station #82\, 7850 NC HWY 22\, Carthage\, NC\, 28327\, United States
CATEGORIES:Children,Educational,Family,Library,Literary Event,Piney's Kids,Piney's Tiny's,Social,Southern Pines Events,Storytimes
ATTACH;FMTTYPE=image/jpeg:https://thepinestimes.com/wp-content/uploads/StorytimeAtSparkSPPLfeature.jpg
END:VEVENT
BEGIN:VEVENT
DTSTART;TZID=America/New_York:20260109T100000
DTEND;TZID=America/New_York:20260109T103000
DTSTAMP:20260420T143318
CREATED:20251001T163956Z
LAST-MODIFIED:20260405T144926Z
UID:10072212-1767952800-1767954600@thepinestimes.com
SUMMARY:Storytime at Spark! Fire Station 82
DESCRIPTION:Southern Pines Public Library in partnership with the Southern Pines Fire Department presents Storytime at Spark! Bring the little ones out for Storytime at the Fire Station at 10am! Families with children ages birth–5 can enjoy stories\, songs\, and fun at Fire Station 82 in Carthage. Afterward\, stop by Spark! to check out books and keep the reading fun going at home. \n \n 
URL:https://thepinestimes.com/event/storytime-at-spark/2026-01-09/
LOCATION:Southern Pines Fire Station #82\, 7850 NC HWY 22\, Carthage\, NC\, 28327\, United States
CATEGORIES:Children,Educational,Family,Library,Literary Event,Piney's Kids,Piney's Tiny's,Social,Southern Pines Events,Storytimes
ATTACH;FMTTYPE=image/jpeg:https://thepinestimes.com/wp-content/uploads/StorytimeAtSparkSPPLfeature.jpg
END:VEVENT
BEGIN:VEVENT
DTSTART;TZID=America/New_York:20250507T173000
DTEND;TZID=America/New_York:20250507T190000
DTSTAMP:20260420T143318
CREATED:20250429T234502Z
LAST-MODIFIED:20250429T234502Z
UID:10057180-1746639000-1746644400@thepinestimes.com
SUMMARY:Baking for Kids (Ages 9-14)
DESCRIPTION:Southern Pines Parks & Recreation is offering a fun and hands-on “Baking for Kids” class for ages 9-14. Held Wednesdays from May 7th-28th at Fire Station #82\, participants will learn to bake from scratch while gaining confidence in the kitchen. Led by instructor Annmarie Cannan\, this class is perfect for young bakers ready to whip up their favorite treats. The cost is $120 for residents and $168 for non-residents. Sessions run from 5:30pm-7:00pm. For additional information\, follow the event website link provided below.
URL:https://thepinestimes.com/event/baking-for-kids-ages-9-14/
LOCATION:Southern Pines Fire Station #82\, 7850 NC HWY 22\, Carthage\, NC\, 28327\, United States
CATEGORIES:Art/Craft Workshops,Children,Educational,Family,Hobby/Enthusiast,Social,Southern Pines Events
ATTACH;FMTTYPE=image/jpeg:https://thepinestimes.com/wp-content/uploads/SouthernPinesParksAndRecreationFeature.jpg
ORGANIZER;CN="Southern Pines Parks and Recreation":MAILTO:bsampson@southernpines.net
END:VEVENT
END:VCALENDAR