BEGIN:VCALENDAR
VERSION:2.0
PRODID:-//The Pines Times - ECPv6.15.20//NONSGML v1.0//EN
CALSCALE:GREGORIAN
METHOD:PUBLISH
X-ORIGINAL-URL:https://thepinestimes.com
X-WR-CALDESC:Events for The Pines Times
REFRESH-INTERVAL;VALUE=DURATION:PT1H
X-Robots-Tag:noindex
X-PUBLISHED-TTL:PT1H
BEGIN:VTIMEZONE
TZID:America/New_York
BEGIN:DAYLIGHT
TZOFFSETFROM:-0500
TZOFFSETTO:-0400
TZNAME:EDT
DTSTART:20240310T070000
END:DAYLIGHT
BEGIN:STANDARD
TZOFFSETFROM:-0400
TZOFFSETTO:-0500
TZNAME:EST
DTSTART:20241103T060000
END:STANDARD
BEGIN:DAYLIGHT
TZOFFSETFROM:-0500
TZOFFSETTO:-0400
TZNAME:EDT
DTSTART:20250309T070000
END:DAYLIGHT
BEGIN:STANDARD
TZOFFSETFROM:-0400
TZOFFSETTO:-0500
TZNAME:EST
DTSTART:20251102T060000
END:STANDARD
BEGIN:DAYLIGHT
TZOFFSETFROM:-0500
TZOFFSETTO:-0400
TZNAME:EDT
DTSTART:20260308T070000
END:DAYLIGHT
BEGIN:STANDARD
TZOFFSETFROM:-0400
TZOFFSETTO:-0500
TZNAME:EST
DTSTART:20261101T060000
END:STANDARD
END:VTIMEZONE
BEGIN:VEVENT
DTSTART;TZID=America/New_York:20251205T174500
DTEND;TZID=America/New_York:20251205T210000
DTSTAMP:20260425T130713
CREATED:20251117T210504Z
LAST-MODIFIED:20251117T210504Z
UID:10075402-1764956700-1764968400@thepinestimes.com
SUMMARY:Christmas in Candor: The Marketplace at Fitzgerald Park
DESCRIPTION:Celebrate the holidays at Christmas in Candor on Friday\, December 5th\, from 5:45pm-9:00pm at The Marketplace at Fitzgerald Park. This festive evening will feature a variety of activities for all ages including visits with Santa Claus and The Mountaire Farms “Christmas” Chicken! Attendees can enjoy hay rides\, s’mores\, and receive stockings. There will also be the annual bicycle drawing\, with 4H and NC Cooperative Extension Montgomery Co. donating bicycle helmets for all winners. Enjoy special entertainment including DJ Hugh Martin and special music from the MCS East-Side Choir. The Candor Lions Club and Bloom & Brew Coffee Co. will be on site providing food and beverages.
URL:https://thepinestimes.com/event/christmas-in-candor-the-marketplace-at-fitzgerald-park/
LOCATION:Fitzgerald Park\, 145 N Depot St\, Candor\, NC\, 27229\, United States
CATEGORIES:Adults,Candor,Children,Christmas,Crafts,Family,Finding Santa,Finding Santa,Games,Holiday Events,Markets,Music,Out of Town,Piney's Kids,Piney's Tiny's,Santa,Senior,Shopping,Social,Teen Activities,Young Adults
END:VEVENT
END:VCALENDAR