BEGIN:VCALENDAR
VERSION:2.0
PRODID:-//The Pines Times - ECPv6.15.20//NONSGML v1.0//EN
CALSCALE:GREGORIAN
METHOD:PUBLISH
X-WR-CALNAME:The Pines Times
X-ORIGINAL-URL:https://thepinestimes.com
X-WR-CALDESC:Events for The Pines Times
REFRESH-INTERVAL;VALUE=DURATION:PT1H
X-Robots-Tag:noindex
X-PUBLISHED-TTL:PT1H
BEGIN:VTIMEZONE
TZID:America/New_York
BEGIN:DAYLIGHT
TZOFFSETFROM:-0500
TZOFFSETTO:-0400
TZNAME:EDT
DTSTART:20250309T070000
END:DAYLIGHT
BEGIN:STANDARD
TZOFFSETFROM:-0400
TZOFFSETTO:-0500
TZNAME:EST
DTSTART:20251102T060000
END:STANDARD
BEGIN:DAYLIGHT
TZOFFSETFROM:-0500
TZOFFSETTO:-0400
TZNAME:EDT
DTSTART:20260308T070000
END:DAYLIGHT
BEGIN:STANDARD
TZOFFSETFROM:-0400
TZOFFSETTO:-0500
TZNAME:EST
DTSTART:20261101T060000
END:STANDARD
BEGIN:DAYLIGHT
TZOFFSETFROM:-0500
TZOFFSETTO:-0400
TZNAME:EDT
DTSTART:20270314T070000
END:DAYLIGHT
BEGIN:STANDARD
TZOFFSETFROM:-0400
TZOFFSETTO:-0500
TZNAME:EST
DTSTART:20271107T060000
END:STANDARD
END:VTIMEZONE
BEGIN:VEVENT
DTSTART;TZID=America/New_York:20260115T170000
DTEND;TZID=America/New_York:20260115T190000
DTSTAMP:20260421T044352
CREATED:20260115T165150Z
LAST-MODIFIED:20260115T165318Z
UID:10079426-1768496400-1768503600@thepinestimes.com
SUMMARY:Thirsty Thursday Tasting Event
DESCRIPTION:Refresh your routine this Thursday\, January 15th\, from 5pm-7pm at Flowland Counter-Culture Outlet! Join for a special Thirsty Thursday event featuring a representative from Functional Distro Co who will be on-site providing samples of our favorite infused beverages. Try new flavors from Artet\, Midwest Famous\, and Blncd Naturals. In addition to the tastings\, you can take advantage of an exclusive promotion to save 20% off any 4-pack from these featured brands. This event is for guests aged 21 and older.
URL:https://thepinestimes.com/event/thirsty-thursday-tasting-event/
LOCATION:Flowland Counter-Culture Outlet\, 1200 North Sandhills Boulevard Ste A\, Aberdeen\, 28315\, United States
CATEGORIES:Adults
ATTACH;FMTTYPE=image/jpeg:https://thepinestimes.com/wp-content/uploads/FlowlandFeature.jpg
ORGANIZER;CN="Flowland Counterculture Outlet":MAILTO:info@flowland.net
END:VEVENT
END:VCALENDAR